Workbook
Name _GoBack: Indicacions!#REF!

Sheet Pressupost Arrencada Ràdio
B1: =Portada!B1 -> Actualització a: 07/07/2026 | D1: Producció Ràdio
A2: Capítols de despesa | D2: Nom / Concepte | E2: Quantitat | F2: Unitats | H2: L-TF L-TT A | I2: Cost unitari | K2: Cost total | M2: Temp. Ant. | P2: S.S. | R2: S.S.
E3: Valor numèric | F3: Nº | G3: Tipus | I3: Cost | J3: S.S. | K3: Total | L3: x Cap. | M3: PRESSUPOST | N3: LIQUIDACIÓ | R3: %
C5: CAPÍTOL 01.- Equip
B6: Núm. Compte
B7: 01.01. | C7: Direcció
B8: 01.01.01. | C8: Director/a | J8: =+IF(H8="L-TF",IF(I8<Resum!$AF$39,(I8*Resum!$AF$40),Resum!$AF$41),+IF(H8="L-TT",IF(I8<Resum!$AF$43,(I8*Resum!$AF$44),Resum!$AF$45),0)) +IF(H8="A",0,+IF(I8>Resum!$AD$49,Resum!$AF$49*(+IF(I8>Resum!$AE$49,(Resum!$AE$49-Resum!$AD$49),(I8-Resum!$AD$49))),0)+IF(I8>Resum!$AD$50,Resum!$AF$50*(+IF(I8>Resum!$AE$50,(Resum!$AE$50-Resum!$AD$50),(I8-Resum!$AD$50))),0)+IF(I8>Resum!$AD$51,Resum!$AF$51*(I8-Resum!$AD$51),0)) -> 0 | K8: =(IF(E8=0,1,E8)*IF(F8=0,1,F8)*I8 ) + J8*IF(E8=0,1,E8)*IF(F8=0,1,F8) -> 0 | L8: =K8/Portada!$F$15 -> 0 | P8: =J8*IF(E8=0,1,E8)*IF(F8=0,1,F8) -> 0 | R8: =IF(I8<>0,(J8/I8)/IF(E8=0,1,E8),0) -> 0 | FB8: =(IF(E8=0,1,E8)*IF(F8=0,1,F8)*I8 ) + J8*IF(E8=0,1,E8)*IF(F8=0,1,F8) -> 0
B9: 01.01.02. | C9: Sotsdirector/a | J9: =+IF(H9="L-TF",IF(I9<Resum!$AF$39,(I9*Resum!$AF$40),Resum!$AF$41),+IF(H9="L-TT",IF(I9<Resum!$AF$43,(I9*Resum!$AF$44),Resum!$AF$45),0)) +IF(H9="A",0,+IF(I9>Resum!$AD$49,Resum!$AF$49*(+IF(I9>Resum!$AE$49,(Resum!$AE$49-Resum!$AD$49),(I9-Resum!$AD$49))),0)+IF(I9>Resum!$AD$50,Resum!$AF$50*(+IF(I9>Resum!$AE$50,(Resum!$AE$50-Resum!$AD$50),(I9-Resum!$AD$50))),0)+IF(I9>Resum!$AD$51,Resum!$AF$51*(I9-Resum!$AD$51),0)) -> 0 | K9: =(IF(E9=0,1,E9)*IF(F9=0,1,F9)*I9 ) + J9*IF(E9=0,1,E9)*IF(F9=0,1,F9) -> 0 | L9: =K9/Portada!$F$15 -> 0 | P9: =J9*IF(E9=0,1,E9)*IF(F9=0,1,F9) -> 0 | R9: =IF(I9<>0,(J9/I9)/IF(E9=0,1,E9),0) -> 0 | FB9: =(IF(E9=0,1,E9)*IF(F9=0,1,F9)*I9 ) + J9*IF(E9=0,1,E9)*IF(F9=0,1,F9) -> 0
B10: 01.01.03. | C10: Conductor/Presentador | J10: =+IF(H10="L-TF",IF(I10<Resum!$AF$39,(I10*Resum!$AF$40),Resum!$AF$41),+IF(H10="L-TT",IF(I10<Resum!$AF$43,(I10*Resum!$AF$44),Resum!$AF$45),0)) +IF(H10="A",0,+IF(I10>Resum!$AD$49,Resum!$AF$49*(+IF(I10>Resum!$AE$49,(Resum!$AE$49-Resum!$AD$49),(I10-Resum!$AD$49))),0)+IF(I10>Resum!$AD$50,Resum!$AF$50*(+IF(I10>Resum!$AE$50,(Resum!$AE$50-Resum!$AD$50),(I10-Resum!$AD$50))),0)+IF(I10>Resum!$AD$51,Resum!$AF$51*(I10-Resum!$AD$51),0)) -> 0 | K10: =(IF(E10=0,1,E10)*IF(F10=0,1,F10)*I10 ) + J10*IF(E10=0,1,E10)*IF(F10=0,1,F10) -> 0 | L10: =K10/Portada!$F$15 -> 0 | P10: =J10*IF(E10=0,1,E10)*IF(F10=0,1,F10) -> 0 | R10: =IF(I10<>0,(J10/I10)/IF(E10=0,1,E10),0) -> 0 | FB10: =(IF(E10=0,1,E10)*IF(F10=0,1,F10)*I10 ) + J10*IF(E10=0,1,E10)*IF(F10=0,1,F10) -> 0
B11: 01.01.04. | C11: Conductor/Presentador | J11: =+IF(H11="L-TF",IF(I11<Resum!$AF$39,(I11*Resum!$AF$40),Resum!$AF$41),+IF(H11="L-TT",IF(I11<Resum!$AF$43,(I11*Resum!$AF$44),Resum!$AF$45),0)) +IF(H11="A",0,+IF(I11>Resum!$AD$49,Resum!$AF$49*(+IF(I11>Resum!$AE$49,(Resum!$AE$49-Resum!$AD$49),(I11-Resum!$AD$49))),0)+IF(I11>Resum!$AD$50,Resum!$AF$50*(+IF(I11>Resum!$AE$50,(Resum!$AE$50-Resum!$AD$50),(I11-Resum!$AD$50))),0)+IF(I11>Resum!$AD$51,Resum!$AF$51*(I11-Resum!$AD$51),0)) -> 0 | K11: =(IF(E11=0,1,E11)*IF(F11=0,1,F11)*I11 ) + J11*IF(E11=0,1,E11)*IF(F11=0,1,F11) -> 0 | L11: =K11/Portada!$F$15 -> 0 | P11: =J11*IF(E11=0,1,E11)*IF(F11=0,1,F11) -> 0 | R11: =IF(I11<>0,(J11/I11)/IF(E11=0,1,E11),0) -> 0 | FB11: =(IF(E11=0,1,E11)*IF(F11=0,1,F11)*I11 ) + J11*IF(E11=0,1,E11)*IF(F11=0,1,F11) -> 0
B12: 01.01.05. | C12: Conductor/Presentador | J12: =+IF(H12="L-TF",IF(I12<Resum!$AF$39,(I12*Resum!$AF$40),Resum!$AF$41),+IF(H12="L-TT",IF(I12<Resum!$AF$43,(I12*Resum!$AF$44),Resum!$AF$45),0)) +IF(H12="A",0,+IF(I12>Resum!$AD$49,Resum!$AF$49*(+IF(I12>Resum!$AE$49,(Resum!$AE$49-Resum!$AD$49),(I12-Resum!$AD$49))),0)+IF(I12>Resum!$AD$50,Resum!$AF$50*(+IF(I12>Resum!$AE$50,(Resum!$AE$50-Resum!$AD$50),(I12-Resum!$AD$50))),0)+IF(I12>Resum!$AD$51,Resum!$AF$51*(I12-Resum!$AD$51),0)) -> 0 | K12: =(IF(E12=0,1,E12)*IF(F12=0,1,F12)*I12 ) + J12*IF(E12=0,1,E12)*IF(F12=0,1,F12) -> 0 | L12: =K12/Portada!$F$15 -> 0 | P12: =J12*IF(E12=0,1,E12)*IF(F12=0,1,F12) -> 0 | R12: =IF(I12<>0,(J12/I12)/IF(E12=0,1,E12),0) -> 0 | FB12: =(IF(E12=0,1,E12)*IF(F12=0,1,F12)*I12 ) + J12*IF(E12=0,1,E12)*IF(F12=0,1,F12) -> 0
B13: 01.01.06. | C13: Conductor/Presentador | J13: =+IF(H13="L-TF",IF(I13<Resum!$AF$39,(I13*Resum!$AF$40),Resum!$AF$41),+IF(H13="L-TT",IF(I13<Resum!$AF$43,(I13*Resum!$AF$44),Resum!$AF$45),0)) +IF(H13="A",0,+IF(I13>Resum!$AD$49,Resum!$AF$49*(+IF(I13>Resum!$AE$49,(Resum!$AE$49-Resum!$AD$49),(I13-Resum!$AD$49))),0)+IF(I13>Resum!$AD$50,Resum!$AF$50*(+IF(I13>Resum!$AE$50,(Resum!$AE$50-Resum!$AD$50),(I13-Resum!$AD$50))),0)+IF(I13>Resum!$AD$51,Resum!$AF$51*(I13-Resum!$AD$51),0)) -> 0 | K13: =(IF(E13=0,1,E13)*IF(F13=0,1,F13)*I13 ) + J13*IF(E13=0,1,E13)*IF(F13=0,1,F13) -> 0 | L13: =K13/Portada!$F$15 -> 0 | P13: =J13*IF(E13=0,1,E13)*IF(F13=0,1,F13) -> 0 | R13: =IF(I13<>0,(J13/I13)/IF(E13=0,1,E13),0) -> 0 | FB13: =(IF(E13=0,1,E13)*IF(F13=0,1,F13)*I13 ) + J13*IF(E13=0,1,E13)*IF(F13=0,1,F13) -> 0
B14: 01.01.07. | C14: Coordinador/a | J14: =+IF(H14="L-TF",IF(I14<Resum!$AF$39,(I14*Resum!$AF$40),Resum!$AF$41),+IF(H14="L-TT",IF(I14<Resum!$AF$43,(I14*Resum!$AF$44),Resum!$AF$45),0)) +IF(H14="A",0,+IF(I14>Resum!$AD$49,Resum!$AF$49*(+IF(I14>Resum!$AE$49,(Resum!$AE$49-Resum!$AD$49),(I14-Resum!$AD$49))),0)+IF(I14>Resum!$AD$50,Resum!$AF$50*(+IF(I14>Resum!$AE$50,(Resum!$AE$50-Resum!$AD$50),(I14-Resum!$AD$50))),0)+IF(I14>Resum!$AD$51,Resum!$AF$51*(I14-Resum!$AD$51),0)) -> 0 | K14: =(IF(E14=0,1,E14)*IF(F14=0,1,F14)*I14 ) + J14*IF(E14=0,1,E14)*IF(F14=0,1,F14) -> 0 | L14: =K14/Portada!$F$15 -> 0 | P14: =J14*IF(E14=0,1,E14)*IF(F14=0,1,F14) -> 0 | R14: =IF(I14<>0,(J14/I14)/IF(E14=0,1,E14),0) -> 0 | FB14: =(IF(E14=0,1,E14)*IF(F14=0,1,F14)*I14 ) + J14*IF(E14=0,1,E14)*IF(F14=0,1,F14) -> 0
B15: 01.01.08. | C15: Redactor/a | J15: =+IF(H15="L-TF",IF(I15<Resum!$AF$39,(I15*Resum!$AF$40),Resum!$AF$41),+IF(H15="L-TT",IF(I15<Resum!$AF$43,(I15*Resum!$AF$44),Resum!$AF$45),0)) +IF(H15="A",0,+IF(I15>Resum!$AD$49,Resum!$AF$49*(+IF(I15>Resum!$AE$49,(Resum!$AE$49-Resum!$AD$49),(I15-Resum!$AD$49))),0)+IF(I15>Resum!$AD$50,Resum!$AF$50*(+IF(I15>Resum!$AE$50,(Resum!$AE$50-Resum!$AD$50),(I15-Resum!$AD$50))),0)+IF(I15>Resum!$AD$51,Resum!$AF$51*(I15-Resum!$AD$51),0)) -> 0 | K15: =(IF(E15=0,1,E15)*IF(F15=0,1,F15)*I15 ) + J15*IF(E15=0,1,E15)*IF(F15=0,1,F15) -> 0 | L15: =K15/Portada!$F$15 -> 0 | P15: =J15*IF(E15=0,1,E15)*IF(F15=0,1,F15) -> 0 | R15: =IF(I15<>0,(J15/I15)/IF(E15=0,1,E15),0) -> 0 | FB15: =(IF(E15=0,1,E15)*IF(F15=0,1,F15)*I15 ) + J15*IF(E15=0,1,E15)*IF(F15=0,1,F15) -> 0
B16: 01.01.09. | C16: Redactor/a | J16: =+IF(H16="L-TF",IF(I16<Resum!$AF$39,(I16*Resum!$AF$40),Resum!$AF$41),+IF(H16="L-TT",IF(I16<Resum!$AF$43,(I16*Resum!$AF$44),Resum!$AF$45),0)) +IF(H16="A",0,+IF(I16>Resum!$AD$49,Resum!$AF$49*(+IF(I16>Resum!$AE$49,(Resum!$AE$49-Resum!$AD$49),(I16-Resum!$AD$49))),0)+IF(I16>Resum!$AD$50,Resum!$AF$50*(+IF(I16>Resum!$AE$50,(Resum!$AE$50-Resum!$AD$50),(I16-Resum!$AD$50))),0)+IF(I16>Resum!$AD$51,Resum!$AF$51*(I16-Resum!$AD$51),0)) -> 0 | K16: =(IF(E16=0,1,E16)*IF(F16=0,1,F16)*I16 ) + J16*IF(E16=0,1,E16)*IF(F16=0,1,F16) -> 0 | L16: =K16/Portada!$F$15 -> 0 | P16: =J16*IF(E16=0,1,E16)*IF(F16=0,1,F16) -> 0 | R16: =IF(I16<>0,(J16/I16)/IF(E16=0,1,E16),0) -> 0 | FB16: =(IF(E16=0,1,E16)*IF(F16=0,1,F16)*I16 ) + J16*IF(E16=0,1,E16)*IF(F16=0,1,F16) -> 0
B17: 01.01.10. | C17: Redactor/a | J17: =+IF(H17="L-TF",IF(I17<Resum!$AF$39,(I17*Resum!$AF$40),Resum!$AF$41),+IF(H17="L-TT",IF(I17<Resum!$AF$43,(I17*Resum!$AF$44),Resum!$AF$45),0)) +IF(H17="A",0,+IF(I17>Resum!$AD$49,Resum!$AF$49*(+IF(I17>Resum!$AE$49,(Resum!$AE$49-Resum!$AD$49),(I17-Resum!$AD$49))),0)+IF(I17>Resum!$AD$50,Resum!$AF$50*(+IF(I17>Resum!$AE$50,(Resum!$AE$50-Resum!$AD$50),(I17-Resum!$AD$50))),0)+IF(I17>Resum!$AD$51,Resum!$AF$51*(I17-Resum!$AD$51),0)) -> 0 | K17: =(IF(E17=0,1,E17)*IF(F17=0,1,F17)*I17 ) + J17*IF(E17=0,1,E17)*IF(F17=0,1,F17) -> 0 | L17: =K17/Portada!$F$15 -> 0 | P17: =J17*IF(E17=0,1,E17)*IF(F17=0,1,F17) -> 0 | R17: =IF(I17<>0,(J17/I17)/IF(E17=0,1,E17),0) -> 0 | FB17: =(IF(E17=0,1,E17)*IF(F17=0,1,F17)*I17 ) + J17*IF(E17=0,1,E17)*IF(F17=0,1,F17) -> 0
B18: 01.01.11. | C18: Redactor/a | J18: =+IF(H18="L-TF",IF(I18<Resum!$AF$39,(I18*Resum!$AF$40),Resum!$AF$41),+IF(H18="L-TT",IF(I18<Resum!$AF$43,(I18*Resum!$AF$44),Resum!$AF$45),0)) +IF(H18="A",0,+IF(I18>Resum!$AD$49,Resum!$AF$49*(+IF(I18>Resum!$AE$49,(Resum!$AE$49-Resum!$AD$49),(I18-Resum!$AD$49))),0)+IF(I18>Resum!$AD$50,Resum!$AF$50*(+IF(I18>Resum!$AE$50,(Resum!$AE$50-Resum!$AD$50),(I18-Resum!$AD$50))),0)+IF(I18>Resum!$AD$51,Resum!$AF$51*(I18-Resum!$AD$51),0)) -> 0 | K18: =(IF(E18=0,1,E18)*IF(F18=0,1,F18)*I18 ) + J18*IF(E18=0,1,E18)*IF(F18=0,1,F18) -> 0 | L18: =K18/Portada!$F$15 -> 0 | P18: =J18*IF(E18=0,1,E18)*IF(F18=0,1,F18) -> 0 | R18: =IF(I18<>0,(J18/I18)/IF(E18=0,1,E18),0) -> 0 | FB18: =(IF(E18=0,1,E18)*IF(F18=0,1,F18)*I18 ) + J18*IF(E18=0,1,E18)*IF(F18=0,1,F18) -> 0
B19: 01.01.12. | C19: Col·laboradors | J19: =+IF(H19="L-TF",IF(I19<Resum!$AF$39,(I19*Resum!$AF$40),Resum!$AF$41),+IF(H19="L-TT",IF(I19<Resum!$AF$43,(I19*Resum!$AF$44),Resum!$AF$45),0)) +IF(H19="A",0,+IF(I19>Resum!$AD$49,Resum!$AF$49*(+IF(I19>Resum!$AE$49,(Resum!$AE$49-Resum!$AD$49),(I19-Resum!$AD$49))),0)+IF(I19>Resum!$AD$50,Resum!$AF$50*(+IF(I19>Resum!$AE$50,(Resum!$AE$50-Resum!$AD$50),(I19-Resum!$AD$50))),0)+IF(I19>Resum!$AD$51,Resum!$AF$51*(I19-Resum!$AD$51),0)) -> 0 | K19: =(IF(E19=0,1,E19)*IF(F19=0,1,F19)*I19 ) + J19*IF(E19=0,1,E19)*IF(F19=0,1,F19) -> 0 | L19: =K19/Portada!$F$15 -> 0 | P19: =J19*IF(E19=0,1,E19)*IF(F19=0,1,F19) -> 0 | R19: =IF(I19<>0,(J19/I19)/IF(E19=0,1,E19),0) -> 0 | FB19: =(IF(E19=0,1,E19)*IF(F19=0,1,F19)*I19 ) + J19*IF(E19=0,1,E19)*IF(F19=0,1,F19) -> 0
... B23: 01.01.16. | C23: Community Manager | J23: =+IF(H23="L-TF",IF(I23<Resum!$AF$39,(I23*Resum!$AF$40),Resum!$AF$41),+IF(H23="L-TT",IF(I23<Resum!$AF$43,(I23*Resum!$AF$44),Resum!$AF$45),0)) +IF(H23="A",0,+IF(I23>Resum!$AD$49,Resum!$AF$49*(+IF(I23>Resum!$AE$49,(Resum!$AE$49-Resum!$AD$49),(I23-Resum!$AD$49))),0)+IF(I23>Resum!$AD$50,Resum!$AF$50*(+IF(I23>Resum!$AE$50,(Resum!$AE$50-Resum!$AD$50),(I23-Resum!$AD$50))),0)+IF(I23>Resum!$AD$51,Resum!$AF$51*(I23-Resum!$AD$51),0)) -> 0 | K23: =(IF(E23=0,1,E23)*IF(F23=0,1,F23)*I23 ) + J23*IF(E23=0,1,E23)*IF(F23=0,1,F23) -> 0 | L23: =K23/Portada!$F$15 -> 0 | P23: =J23*IF(E23=0,1,E23)*IF(F23=0,1,F23) -> 0 | R23: =IF(I23<>0,(J23/I23)/IF(E23=0,1,E23),0) -> 0 | FB23: =(IF(E23=0,1,E23)*IF(F23=0,1,F23)*I23 ) + J23*IF(E23=0,1,E23)*IF(F23=0,1,F23) -> 0
B24: 01.01.17. | J24: =+IF(H24="L-TF",IF(I24<Resum!$AF$39,(I24*Resum!$AF$40),Resum!$AF$41),+IF(H24="L-TT",IF(I24<Resum!$AF$43,(I24*Resum!$AF$44),Resum!$AF$45),0)) +IF(H24="A",0,+IF(I24>Resum!$AD$49,Resum!$AF$49*(+IF(I24>Resum!$AE$49,(Resum!$AE$49-Resum!$AD$49),(I24-Resum!$AD$49))),0)+IF(I24>Resum!$AD$50,Resum!$AF$50*(+IF(I24>Resum!$AE$50,(Resum!$AE$50-Resum!$AD$50),(I24-Resum!$AD$50))),0)+IF(I24>Resum!$AD$51,Resum!$AF$51*(I24-Resum!$AD$51),0)) -> 0 | K24: =(IF(E24=0,1,E24)*IF(F24=0,1,F24)*I24 ) + J24*IF(E24=0,1,E24)*IF(F24=0,1,F24) -> 0 | L24: =K24/Portada!$F$15 -> 0 | P24: =J24*IF(E24=0,1,E24)*IF(F24=0,1,F24) -> 0 | R24: =IF(I24<>0,(J24/I24)/IF(E24=0,1,E24),0) -> 0 | FB24: =(IF(E24=0,1,E24)*IF(F24=0,1,F24)*I24 ) + J24*IF(E24=0,1,E24)*IF(F24=0,1,F24) -> 0
B25: 01.01.18. | J25: =+IF(H25="L-TF",IF(I25<Resum!$AF$39,(I25*Resum!$AF$40),Resum!$AF$41),+IF(H25="L-TT",IF(I25<Resum!$AF$43,(I25*Resum!$AF$44),Resum!$AF$45),0)) +IF(H25="A",0,+IF(I25>Resum!$AD$49,Resum!$AF$49*(+IF(I25>Resum!$AE$49,(Resum!$AE$49-Resum!$AD$49),(I25-Resum!$AD$49))),0)+IF(I25>Resum!$AD$50,Resum!$AF$50*(+IF(I25>Resum!$AE$50,(Resum!$AE$50-Resum!$AD$50),(I25-Resum!$AD$50))),0)+IF(I25>Resum!$AD$51,Resum!$AF$51*(I25-Resum!$AD$51),0)) -> 0 | K25: =(IF(E25=0,1,E25)*IF(F25=0,1,F25)*I25 ) + J25*IF(E25=0,1,E25)*IF(F25=0,1,F25) -> 0 | L25: =K25/Portada!$F$15 -> 0 | P25: =J25*IF(E25=0,1,E25)*IF(F25=0,1,F25) -> 0 | R25: =IF(I25<>0,(J25/I25)/IF(E25=0,1,E25),0) -> 0 | FB25: =(IF(E25=0,1,E25)*IF(F25=0,1,F25)*I25 ) + J25*IF(E25=0,1,E25)*IF(F25=0,1,F25) -> 0
B26: 01.01.19. | J26: =+IF(H26="L-TF",IF(I26<Resum!$AF$39,(I26*Resum!$AF$40),Resum!$AF$41),+IF(H26="L-TT",IF(I26<Resum!$AF$43,(I26*Resum!$AF$44),Resum!$AF$45),0)) +IF(H26="A",0,+IF(I26>Resum!$AD$49,Resum!$AF$49*(+IF(I26>Resum!$AE$49,(Resum!$AE$49-Resum!$AD$49),(I26-Resum!$AD$49))),0)+IF(I26>Resum!$AD$50,Resum!$AF$50*(+IF(I26>Resum!$AE$50,(Resum!$AE$50-Resum!$AD$50),(I26-Resum!$AD$50))),0)+IF(I26>Resum!$AD$51,Resum!$AF$51*(I26-Resum!$AD$51),0)) -> 0 | K26: =(IF(E26=0,1,E26)*IF(F26=0,1,F26)*I26 ) + J26*IF(E26=0,1,E26)*IF(F26=0,1,F26) -> 0 | L26: =K26/Portada!$F$15 -> 0 | P26: =J26*IF(E26=0,1,E26)*IF(F26=0,1,F26) -> 0 | R26: =IF(I26<>0,(J26/I26)/IF(E26=0,1,E26),0) -> 0 | FB26: =(IF(E26=0,1,E26)*IF(F26=0,1,F26)*I26 ) + J26*IF(E26=0,1,E26)*IF(F26=0,1,F26) -> 0
B27: 01.01.20. | J27: =+IF(H27="L-TF",IF(I27<Resum!$AF$39,(I27*Resum!$AF$40),Resum!$AF$41),+IF(H27="L-TT",IF(I27<Resum!$AF$43,(I27*Resum!$AF$44),Resum!$AF$45),0)) +IF(H27="A",0,+IF(I27>Resum!$AD$49,Resum!$AF$49*(+IF(I27>Resum!$AE$49,(Resum!$AE$49-Resum!$AD$49),(I27-Resum!$AD$49))),0)+IF(I27>Resum!$AD$50,Resum!$AF$50*(+IF(I27>Resum!$AE$50,(Resum!$AE$50-Resum!$AD$50),(I27-Resum!$AD$50))),0)+IF(I27>Resum!$AD$51,Resum!$AF$51*(I27-Resum!$AD$51),0)) -> 0 | K27: =(IF(E27=0,1,E27)*IF(F27=0,1,F27)*I27 ) + J27*IF(E27=0,1,E27)*IF(F27=0,1,F27) -> 0 | L27: =K27/Portada!$F$15 -> 0
C28: ="TOTAL " &" " & B7 & " " & (C7) -> TOTAL 01.01. Direcció | J28: =SUM(J8:J27) -> 0 | K28: =SUM(K8:K27) -> 0 | L28: =SUM(L8:L27) -> 0 | M28: =SUM(M8:M26) -> 0 | N28: =SUM(N8:N26) -> 0 | P28: =SUM(P8:P26) -> 0 | FB28: =SUM(FB8:FB26) -> 0
B29: Núm. Compte
B30: 01.02. | C30: Realització
B31: 01.02.01. | C31: Realitzador | J31: =+IF(H31="L-TF",IF(I31<Resum!$AF$39,(I31*Resum!$AF$40),Resum!$AF$41),+IF(H31="L-TT",IF(I31<Resum!$AF$43,(I31*Resum!$AF$44),Resum!$AF$45),0)) +IF(H31="A",0,+IF(I31>Resum!$AD$49,Resum!$AF$49*(+IF(I31>Resum!$AE$49,(Resum!$AE$49-Resum!$AD$49),(I31-Resum!$AD$49))),0)+IF(I31>Resum!$AD$50,Resum!$AF$50*(+IF(I31>Resum!$AE$50,(Resum!$AE$50-Resum!$AD$50),(I31-Resum!$AD$50))),0)+IF(I31>Resum!$AD$51,Resum!$AF$51*(I31-Resum!$AD$51),0)) -> 0 | K31: =(IF(E31=0,1,E31)*IF(F31=0,1,F31)*I31 ) + J31*IF(E31=0,1,E31)*IF(F31=0,1,F31) -> 0 | L31: =K31/Portada!$F$15 -> 0 | P31: =J31*IF(E31=0,1,E31)*IF(F31=0,1,F31) -> 0 | R31: =IF(I31<>0,(J31/I31)/IF(E31=0,1,E31),0) -> 0 | FB31: =(IF(E31=0,1,E31)*IF(F31=0,1,F31)*I31 ) + J31*IF(E31=0,1,E31)*IF(F31=0,1,F31) -> 0
B32: 01.02.03. | C32: Operador/tècnic audio/vídeo | J32: =+IF(H32="L-TF",IF(I32<Resum!$AF$39,(I32*Resum!$AF$40),Resum!$AF$41),+IF(H32="L-TT",IF(I32<Resum!$AF$43,(I32*Resum!$AF$44),Resum!$AF$45),0)) +IF(H32="A",0,+IF(I32>Resum!$AD$49,Resum!$AF$49*(+IF(I32>Resum!$AE$49,(Resum!$AE$49-Resum!$AD$49),(I32-Resum!$AD$49))),0)+IF(I32>Resum!$AD$50,Resum!$AF$50*(+IF(I32>Resum!$AE$50,(Resum!$AE$50-Resum!$AD$50),(I32-Resum!$AD$50))),0)+IF(I32>Resum!$AD$51,Resum!$AF$51*(I32-Resum!$AD$51),0)) -> 0 | K32: =(IF(E32=0,1,E32)*IF(F32=0,1,F32)*I32 ) + J32*IF(E32=0,1,E32)*IF(F32=0,1,F32) -> 0 | L32: =K32/Portada!$F$15 -> 0 | P32: =J32*IF(E32=0,1,E32)*IF(F32=0,1,F32) -> 0 | R32: =IF(I32<>0,(J32/I32)/IF(E32=0,1,E32),0) -> 0 | FB32: =(IF(E32=0,1,E32)*IF(F32=0,1,F32)*I32 ) + J32*IF(E32=0,1,E32)*IF(F32=0,1,F32) -> 0
B33: 01.02.04. | C33: Operador/tècnic audio/vídeo | J33: =+IF(H33="L-TF",IF(I33<Resum!$AF$39,(I33*Resum!$AF$40),Resum!$AF$41),+IF(H33="L-TT",IF(I33<Resum!$AF$43,(I33*Resum!$AF$44),Resum!$AF$45),0)) +IF(H33="A",0,+IF(I33>Resum!$AD$49,Resum!$AF$49*(+IF(I33>Resum!$AE$49,(Resum!$AE$49-Resum!$AD$49),(I33-Resum!$AD$49))),0)+IF(I33>Resum!$AD$50,Resum!$AF$50*(+IF(I33>Resum!$AE$50,(Resum!$AE$50-Resum!$AD$50),(I33-Resum!$AD$50))),0)+IF(I33>Resum!$AD$51,Resum!$AF$51*(I33-Resum!$AD$51),0)) -> 0 | K33: =(IF(E33=0,1,E33)*IF(F33=0,1,F33)*I33 ) + J33*IF(E33=0,1,E33)*IF(F33=0,1,F33) -> 0 | L33: =K33/Portada!$F$15 -> 0 | P33: =J33*IF(E33=0,1,E33)*IF(F33=0,1,F33) -> 0 | R33: =IF(I33<>0,(J33/I33)/IF(E33=0,1,E33),0) -> 0 | FB33: =(IF(E33=0,1,E33)*IF(F33=0,1,F33)*I33 ) + J33*IF(E33=0,1,E33)*IF(F33=0,1,F33) -> 0
B34: 01.02.05. | J34: =+IF(H34="L-TF",IF(I34<Resum!$AF$39,(I34*Resum!$AF$40),Resum!$AF$41),+IF(H34="L-TT",IF(I34<Resum!$AF$43,(I34*Resum!$AF$44),Resum!$AF$45),0)) +IF(H34="A",0,+IF(I34>Resum!$AD$49,Resum!$AF$49*(+IF(I34>Resum!$AE$49,(Resum!$AE$49-Resum!$AD$49),(I34-Resum!$AD$49))),0)+IF(I34>Resum!$AD$50,Resum!$AF$50*(+IF(I34>Resum!$AE$50,(Resum!$AE$50-Resum!$AD$50),(I34-Resum!$AD$50))),0)+IF(I34>Resum!$AD$51,Resum!$AF$51*(I34-Resum!$AD$51),0)) -> 0 | K34: =(IF(E34=0,1,E34)*IF(F34=0,1,F34)*I34 ) + J34*IF(E34=0,1,E34)*IF(F34=0,1,F34) -> 0 | L34: =K34/Portada!$F$15 -> 0 | P34: =J34*IF(E34=0,1,E34)*IF(F34=0,1,F34) -> 0 | R34: =IF(I34<>0,(J34/I34)/IF(E34=0,1,E34),0) -> 0 | FB34: =(IF(E34=0,1,E34)*IF(F34=0,1,F34)*I34 ) + J34*IF(E34=0,1,E34)*IF(F34=0,1,F34) -> 0
B35: 01.02.06. | J35: =+IF(H35="L-TF",IF(I35<Resum!$AF$39,(I35*Resum!$AF$40),Resum!$AF$41),+IF(H35="L-TT",IF(I35<Resum!$AF$43,(I35*Resum!$AF$44),Resum!$AF$45),0)) +IF(H35="A",0,+IF(I35>Resum!$AD$49,Resum!$AF$49*(+IF(I35>Resum!$AE$49,(Resum!$AE$49-Resum!$AD$49),(I35-Resum!$AD$49))),0)+IF(I35>Resum!$AD$50,Resum!$AF$50*(+IF(I35>Resum!$AE$50,(Resum!$AE$50-Resum!$AD$50),(I35-Resum!$AD$50))),0)+IF(I35>Resum!$AD$51,Resum!$AF$51*(I35-Resum!$AD$51),0)) -> 0 | K35: =(IF(E35=0,1,E35)*IF(F35=0,1,F35)*I35 ) + J35*IF(E35=0,1,E35)*IF(F35=0,1,F35) -> 0 | L35: =K35/Portada!$F$15 -> 0 | P35: =J35*IF(E35=0,1,E35)*IF(F35=0,1,F35) -> 0 | R35: =IF(I35<>0,(J35/I35)/IF(E35=0,1,E35),0) -> 0 | FB35: =(IF(E35=0,1,E35)*IF(F35=0,1,F35)*I35 ) + J35*IF(E35=0,1,E35)*IF(F35=0,1,F35) -> 0
B36: 01.02.07. | J36: =+IF(H36="L-TF",IF(I36<Resum!$AF$39,(I36*Resum!$AF$40),Resum!$AF$41),+IF(H36="L-TT",IF(I36<Resum!$AF$43,(I36*Resum!$AF$44),Resum!$AF$45),0)) +IF(H36="A",0,+IF(I36>Resum!$AD$49,Resum!$AF$49*(+IF(I36>Resum!$AE$49,(Resum!$AE$49-Resum!$AD$49),(I36-Resum!$AD$49))),0)+IF(I36>Resum!$AD$50,Resum!$AF$50*(+IF(I36>Resum!$AE$50,(Resum!$AE$50-Resum!$AD$50),(I36-Resum!$AD$50))),0)+IF(I36>Resum!$AD$51,Resum!$AF$51*(I36-Resum!$AD$51),0)) -> 0 | K36: =(IF(E36=0,1,E36)*IF(F36=0,1,F36)*I36 ) + J36*IF(E36=0,1,E36)*IF(F36=0,1,F36) -> 0 | L36: =K36/Portada!$F$15 -> 0 | P36: =J36*IF(E36=0,1,E36)*IF(F36=0,1,F36) -> 0 | R36: =IF(I36<>0,(J36/I36)/IF(E36=0,1,E36),0) -> 0 | FB36: =(IF(E36=0,1,E36)*IF(F36=0,1,F36)*I36 ) + J36*IF(E36=0,1,E36)*IF(F36=0,1,F36) -> 0
C37: ="TOTAL " &" " & B30 & " " & (C30) -> TOTAL 01.02. Realització | J37: =SUM(J31:J36) -> 0 | K37: =SUM(K31:K36) -> 0 | L37: =SUM(L31:L36) -> 0 | M37: =SUM(M31:M36) -> 0 | N37: =SUM(N31:N36) -> 0 | P37: =SUM(P31:P36) -> 0 | FB37: =SUM(FB31:FB36) -> 0
B38: Núm. Compte
B39: 01.03. | C39: Producció
B40: 01.03.01. | C40: Producció executiva | J40: =+IF(H40="L-TF",IF(I40<Resum!$AF$39,(I40*Resum!$AF$40),Resum!$AF$41),+IF(H40="L-TT",IF(I40<Resum!$AF$43,(I40*Resum!$AF$44),Resum!$AF$45),0)) +IF(H40="A",0,+IF(I40>Resum!$AD$49,Resum!$AF$49*(+IF(I40>Resum!$AE$49,(Resum!$AE$49-Resum!$AD$49),(I40-Resum!$AD$49))),0)+IF(I40>Resum!$AD$50,Resum!$AF$50*(+IF(I40>Resum!$AE$50,(Resum!$AE$50-Resum!$AD$50),(I40-Resum!$AD$50))),0)+IF(I40>Resum!$AD$51,Resum!$AF$51*(I40-Resum!$AD$51),0)) -> 0 | K40: =(IF(E40=0,1,E40)*IF(F40=0,1,F40)*I40 ) + J40*IF(E40=0,1,E40)*IF(F40=0,1,F40) -> 0 | L40: =K40/Portada!$F$15 -> 0 | P40: =J40*IF(E40=0,1,E40)*IF(F40=0,1,F40) -> 0 | R40: =IF(I40<>0,(J40/I40)/IF(E40=0,1,E40),0) -> 0 | FB40: =(IF(E40=0,1,E40)*IF(F40=0,1,F40)*I40 ) + J40*IF(E40=0,1,E40)*IF(F40=0,1,F40) -> 0
B41: 01.03.02. | J41: =+IF(H41="L-TF",IF(I41<Resum!$AF$39,(I41*Resum!$AF$40),Resum!$AF$41),+IF(H41="L-TT",IF(I41<Resum!$AF$43,(I41*Resum!$AF$44),Resum!$AF$45),0)) +IF(H41="A",0,+IF(I41>Resum!$AD$49,Resum!$AF$49*(+IF(I41>Resum!$AE$49,(Resum!$AE$49-Resum!$AD$49),(I41-Resum!$AD$49))),0)+IF(I41>Resum!$AD$50,Resum!$AF$50*(+IF(I41>Resum!$AE$50,(Resum!$AE$50-Resum!$AD$50),(I41-Resum!$AD$50))),0)+IF(I41>Resum!$AD$51,Resum!$AF$51*(I41-Resum!$AD$51),0)) -> 0 | K41: =(IF(E41=0,1,E41)*IF(F41=0,1,F41)*I41 ) + J41*IF(E41=0,1,E41)*IF(F41=0,1,F41) -> 0 | L41: =K41/Portada!$F$15 -> 0 | P41: =J41*IF(E41=0,1,E41)*IF(F41=0,1,F41) -> 0 | R41: =IF(I41<>0,(J41/I41)/IF(E41=0,1,E41),0) -> 0 | FB41: =(IF(E41=0,1,E41)*IF(F41=0,1,F41)*I41 ) + J41*IF(E41=0,1,E41)*IF(F41=0,1,F41) -> 0
B42: 01.03.03. | J42: =+IF(H42="L-TF",IF(I42<Resum!$AF$39,(I42*Resum!$AF$40),Resum!$AF$41),+IF(H42="L-TT",IF(I42<Resum!$AF$43,(I42*Resum!$AF$44),Resum!$AF$45),0)) +IF(H42="A",0,+IF(I42>Resum!$AD$49,Resum!$AF$49*(+IF(I42>Resum!$AE$49,(Resum!$AE$49-Resum!$AD$49),(I42-Resum!$AD$49))),0)+IF(I42>Resum!$AD$50,Resum!$AF$50*(+IF(I42>Resum!$AE$50,(Resum!$AE$50-Resum!$AD$50),(I42-Resum!$AD$50))),0)+IF(I42>Resum!$AD$51,Resum!$AF$51*(I42-Resum!$AD$51),0)) -> 0 | K42: =(IF(E42=0,1,E42)*IF(F42=0,1,F42)*I42 ) + J42*IF(E42=0,1,E42)*IF(F42=0,1,F42) -> 0 | L42: =K42/Portada!$F$15 -> 0
C43: ="TOTAL " &" " & B39 & " " & (C39) -> TOTAL 01.03. Producció | J43: =SUM(J40:J42) -> 0 | K43: =SUM(K40:K42) -> 0 | L43: =SUM(L40:L42) -> 0 | M43: =SUM(M40:M41) -> 0 | N43: =SUM(N40:N41) -> 0 | P43: =SUM(P40:P41) -> 0 | FB43: =SUM(FB40:FB41) -> 0
C44: TOTAL | D44: =C5 -> CAPÍTOL 01.- Equip | J44: =(J28+J37+J43) -> 0 | K44: =(K28+K37+K43) -> 0 | L44: =(L28+L37+L43) -> 0 | M44: =(M28+M37+M43) -> 0 | N44: =(N28+N37+N43) -> 0 | P44: =(P28+P37+P43) -> 0 | FB44: =(FB28+FB37+FB43) -> 0
...

Sheet Pressupost Producció Ràdio
B1: =Portada!B1 -> Actualització a: 07/07/2026 | D1: Producció Ràdio
A2: Capítols de despesa | D2: Nom / Concepte | E2: Quantitat | F2: Unitats | H2: L-TF L-TT A | I2: Cost unitari | K2: Cost total | M2: Temp. Ant. | P2: S.S. | R2: S.S.
E3: Valor numèric | F3: Nº | G3: Tipus | I3: Cost | J3: S.S. | K3: Total | L3: x Cap. | M3: PRESSUPOST | N3: LIQUIDACIÓ | R3: %
C5: CAPÍTOL 01.- Equip
B6: Núm. Compte
B7: 01.01. | C7: Direcció
B8: 01.01.01. | C8: Director/a | J8: =+IF(H8="L-TF",IF(I8<Resum!$AF$39,(I8*Resum!$AF$40),Resum!$AF$41),+IF(H8="L-TT",IF(I8<Resum!$AF$43,(I8*Resum!$AF$44),Resum!$AF$45),0)) +IF(H8="A",0,+IF(I8>Resum!$AD$49,Resum!$AF$49*(+IF(I8>Resum!$AE$49,(Resum!$AE$49-Resum!$AD$49),(I8-Resum!$AD$49))),0)+IF(I8>Resum!$AD$50,Resum!$AF$50*(+IF(I8>Resum!$AE$50,(Resum!$AE$50-Resum!$AD$50),(I8-Resum!$AD$50))),0)+IF(I8>Resum!$AD$51,Resum!$AF$51*(I8-Resum!$AD$51),0)) -> 0 | K8: =(IF(E8=0,1,E8)*IF(F8=0,1,F8)*I8 ) + J8*IF(E8=0,1,E8)*IF(F8=0,1,F8) -> 0 | L8: =K8/Portada!$F$15 -> 0 | P8: =J8*IF(E8=0,1,E8)*IF(F8=0,1,F8) -> 0 | R8: =IF(I8<>0,(J8/I8)/IF(E8=0,1,E8),0) -> 0 | FB8: =(IF(E8=0,1,E8)*IF(F8=0,1,F8)*I8 ) + J8*IF(E8=0,1,E8)*IF(F8=0,1,F8) -> 0
B9: 01.01.02. | C9: Sotsdirector/a | J9: =+IF(H9="L-TF",IF(I9<Resum!$AF$39,(I9*Resum!$AF$40),Resum!$AF$41),+IF(H9="L-TT",IF(I9<Resum!$AF$43,(I9*Resum!$AF$44),Resum!$AF$45),0)) +IF(H9="A",0,+IF(I9>Resum!$AD$49,Resum!$AF$49*(+IF(I9>Resum!$AE$49,(Resum!$AE$49-Resum!$AD$49),(I9-Resum!$AD$49))),0)+IF(I9>Resum!$AD$50,Resum!$AF$50*(+IF(I9>Resum!$AE$50,(Resum!$AE$50-Resum!$AD$50),(I9-Resum!$AD$50))),0)+IF(I9>Resum!$AD$51,Resum!$AF$51*(I9-Resum!$AD$51),0)) -> 0 | K9: =(IF(E9=0,1,E9)*IF(F9=0,1,F9)*I9 ) + J9*IF(E9=0,1,E9)*IF(F9=0,1,F9) -> 0 | L9: =K9/Portada!$F$15 -> 0 | P9: =J9*IF(E9=0,1,E9)*IF(F9=0,1,F9) -> 0 | R9: =IF(I9<>0,(J9/I9)/IF(E9=0,1,E9),0) -> 0 | FB9: =(IF(E9=0,1,E9)*IF(F9=0,1,F9)*I9 ) + J9*IF(E9=0,1,E9)*IF(F9=0,1,F9) -> 0
B10: 01.01.03. | C10: Conductor/Presentador | J10: =+IF(H10="L-TF",IF(I10<Resum!$AF$39,(I10*Resum!$AF$40),Resum!$AF$41),+IF(H10="L-TT",IF(I10<Resum!$AF$43,(I10*Resum!$AF$44),Resum!$AF$45),0)) +IF(H10="A",0,+IF(I10>Resum!$AD$49,Resum!$AF$49*(+IF(I10>Resum!$AE$49,(Resum!$AE$49-Resum!$AD$49),(I10-Resum!$AD$49))),0)+IF(I10>Resum!$AD$50,Resum!$AF$50*(+IF(I10>Resum!$AE$50,(Resum!$AE$50-Resum!$AD$50),(I10-Resum!$AD$50))),0)+IF(I10>Resum!$AD$51,Resum!$AF$51*(I10-Resum!$AD$51),0)) -> 0 | K10: =(IF(E10=0,1,E10)*IF(F10=0,1,F10)*I10 ) + J10*IF(E10=0,1,E10)*IF(F10=0,1,F10) -> 0 | L10: =K10/Portada!$F$15 -> 0 | P10: =J10*IF(E10=0,1,E10)*IF(F10=0,1,F10) -> 0 | R10: =IF(I10<>0,(J10/I10)/IF(E10=0,1,E10),0) -> 0 | FB10: =(IF(E10=0,1,E10)*IF(F10=0,1,F10)*I10 ) + J10*IF(E10=0,1,E10)*IF(F10=0,1,F10) -> 0
B11: 01.01.04. | C11: Conductor/Presentador | J11: =+IF(H11="L-TF",IF(I11<Resum!$AF$39,(I11*Resum!$AF$40),Resum!$AF$41),+IF(H11="L-TT",IF(I11<Resum!$AF$43,(I11*Resum!$AF$44),Resum!$AF$45),0)) +IF(H11="A",0,+IF(I11>Resum!$AD$49,Resum!$AF$49*(+IF(I11>Resum!$AE$49,(Resum!$AE$49-Resum!$AD$49),(I11-Resum!$AD$49))),0)+IF(I11>Resum!$AD$50,Resum!$AF$50*(+IF(I11>Resum!$AE$50,(Resum!$AE$50-Resum!$AD$50),(I11-Resum!$AD$50))),0)+IF(I11>Resum!$AD$51,Resum!$AF$51*(I11-Resum!$AD$51),0)) -> 0 | K11: =(IF(E11=0,1,E11)*IF(F11=0,1,F11)*I11 ) + J11*IF(E11=0,1,E11)*IF(F11=0,1,F11) -> 0 | L11: =K11/Portada!$F$15 -> 0 | P11: =J11*IF(E11=0,1,E11)*IF(F11=0,1,F11) -> 0 | R11: =IF(I11<>0,(J11/I11)/IF(E11=0,1,E11),0) -> 0 | FB11: =(IF(E11=0,1,E11)*IF(F11=0,1,F11)*I11 ) + J11*IF(E11=0,1,E11)*IF(F11=0,1,F11) -> 0
B12: 01.01.05. | C12: Conductor/Presentador | J12: =+IF(H12="L-TF",IF(I12<Resum!$AF$39,(I12*Resum!$AF$40),Resum!$AF$41),+IF(H12="L-TT",IF(I12<Resum!$AF$43,(I12*Resum!$AF$44),Resum!$AF$45),0)) +IF(H12="A",0,+IF(I12>Resum!$AD$49,Resum!$AF$49*(+IF(I12>Resum!$AE$49,(Resum!$AE$49-Resum!$AD$49),(I12-Resum!$AD$49))),0)+IF(I12>Resum!$AD$50,Resum!$AF$50*(+IF(I12>Resum!$AE$50,(Resum!$AE$50-Resum!$AD$50),(I12-Resum!$AD$50))),0)+IF(I12>Resum!$AD$51,Resum!$AF$51*(I12-Resum!$AD$51),0)) -> 0 | K12: =(IF(E12=0,1,E12)*IF(F12=0,1,F12)*I12 ) + J12*IF(E12=0,1,E12)*IF(F12=0,1,F12) -> 0 | L12: =K12/Portada!$F$15 -> 0 | P12: =J12*IF(E12=0,1,E12)*IF(F12=0,1,F12) -> 0 | R12: =IF(I12<>0,(J12/I12)/IF(E12=0,1,E12),0) -> 0 | FB12: =(IF(E12=0,1,E12)*IF(F12=0,1,F12)*I12 ) + J12*IF(E12=0,1,E12)*IF(F12=0,1,F12) -> 0
B13: 01.01.06. | C13: Conductor/Presentador | J13: =+IF(H13="L-TF",IF(I13<Resum!$AF$39,(I13*Resum!$AF$40),Resum!$AF$41),+IF(H13="L-TT",IF(I13<Resum!$AF$43,(I13*Resum!$AF$44),Resum!$AF$45),0)) +IF(H13="A",0,+IF(I13>Resum!$AD$49,Resum!$AF$49*(+IF(I13>Resum!$AE$49,(Resum!$AE$49-Resum!$AD$49),(I13-Resum!$AD$49))),0)+IF(I13>Resum!$AD$50,Resum!$AF$50*(+IF(I13>Resum!$AE$50,(Resum!$AE$50-Resum!$AD$50),(I13-Resum!$AD$50))),0)+IF(I13>Resum!$AD$51,Resum!$AF$51*(I13-Resum!$AD$51),0)) -> 0 | K13: =(IF(E13=0,1,E13)*IF(F13=0,1,F13)*I13 ) + J13*IF(E13=0,1,E13)*IF(F13=0,1,F13) -> 0 | L13: =K13/Portada!$F$15 -> 0 | P13: =J13*IF(E13=0,1,E13)*IF(F13=0,1,F13) -> 0 | R13: =IF(I13<>0,(J13/I13)/IF(E13=0,1,E13),0) -> 0 | FB13: =(IF(E13=0,1,E13)*IF(F13=0,1,F13)*I13 ) + J13*IF(E13=0,1,E13)*IF(F13=0,1,F13) -> 0
B14: 01.01.07. | C14: Coordinador/a | J14: =+IF(H14="L-TF",IF(I14<Resum!$AF$39,(I14*Resum!$AF$40),Resum!$AF$41),+IF(H14="L-TT",IF(I14<Resum!$AF$43,(I14*Resum!$AF$44),Resum!$AF$45),0)) +IF(H14="A",0,+IF(I14>Resum!$AD$49,Resum!$AF$49*(+IF(I14>Resum!$AE$49,(Resum!$AE$49-Resum!$AD$49),(I14-Resum!$AD$49))),0)+IF(I14>Resum!$AD$50,Resum!$AF$50*(+IF(I14>Resum!$AE$50,(Resum!$AE$50-Resum!$AD$50),(I14-Resum!$AD$50))),0)+IF(I14>Resum!$AD$51,Resum!$AF$51*(I14-Resum!$AD$51),0)) -> 0 | K14: =(IF(E14=0,1,E14)*IF(F14=0,1,F14)*I14 ) + J14*IF(E14=0,1,E14)*IF(F14=0,1,F14) -> 0 | L14: =K14/Portada!$F$15 -> 0 | P14: =J14*IF(E14=0,1,E14)*IF(F14=0,1,F14) -> 0 | R14: =IF(I14<>0,(J14/I14)/IF(E14=0,1,E14),0) -> 0 | FB14: =(IF(E14=0,1,E14)*IF(F14=0,1,F14)*I14 ) + J14*IF(E14=0,1,E14)*IF(F14=0,1,F14) -> 0
B15: 01.01.08. | C15: Redactor/a | J15: =+IF(H15="L-TF",IF(I15<Resum!$AF$39,(I15*Resum!$AF$40),Resum!$AF$41),+IF(H15="L-TT",IF(I15<Resum!$AF$43,(I15*Resum!$AF$44),Resum!$AF$45),0)) +IF(H15="A",0,+IF(I15>Resum!$AD$49,Resum!$AF$49*(+IF(I15>Resum!$AE$49,(Resum!$AE$49-Resum!$AD$49),(I15-Resum!$AD$49))),0)+IF(I15>Resum!$AD$50,Resum!$AF$50*(+IF(I15>Resum!$AE$50,(Resum!$AE$50-Resum!$AD$50),(I15-Resum!$AD$50))),0)+IF(I15>Resum!$AD$51,Resum!$AF$51*(I15-Resum!$AD$51),0)) -> 0 | K15: =(IF(E15=0,1,E15)*IF(F15=0,1,F15)*I15 ) + J15*IF(E15=0,1,E15)*IF(F15=0,1,F15) -> 0 | L15: =K15/Portada!$F$15 -> 0 | P15: =J15*IF(E15=0,1,E15)*IF(F15=0,1,F15) -> 0 | R15: =IF(I15<>0,(J15/I15)/IF(E15=0,1,E15),0) -> 0 | FB15: =(IF(E15=0,1,E15)*IF(F15=0,1,F15)*I15 ) + J15*IF(E15=0,1,E15)*IF(F15=0,1,F15) -> 0
B16: 01.01.09. | C16: Redactor/a | J16: =+IF(H16="L-TF",IF(I16<Resum!$AF$39,(I16*Resum!$AF$40),Resum!$AF$41),+IF(H16="L-TT",IF(I16<Resum!$AF$43,(I16*Resum!$AF$44),Resum!$AF$45),0)) +IF(H16="A",0,+IF(I16>Resum!$AD$49,Resum!$AF$49*(+IF(I16>Resum!$AE$49,(Resum!$AE$49-Resum!$AD$49),(I16-Resum!$AD$49))),0)+IF(I16>Resum!$AD$50,Resum!$AF$50*(+IF(I16>Resum!$AE$50,(Resum!$AE$50-Resum!$AD$50),(I16-Resum!$AD$50))),0)+IF(I16>Resum!$AD$51,Resum!$AF$51*(I16-Resum!$AD$51),0)) -> 0 | K16: =(IF(E16=0,1,E16)*IF(F16=0,1,F16)*I16 ) + J16*IF(E16=0,1,E16)*IF(F16=0,1,F16) -> 0 | L16: =K16/Portada!$F$15 -> 0 | P16: =J16*IF(E16=0,1,E16)*IF(F16=0,1,F16) -> 0 | R16: =IF(I16<>0,(J16/I16)/IF(E16=0,1,E16),0) -> 0 | FB16: =(IF(E16=0,1,E16)*IF(F16=0,1,F16)*I16 ) + J16*IF(E16=0,1,E16)*IF(F16=0,1,F16) -> 0
B17: 01.01.10. | C17: Redactor/a | J17: =+IF(H17="L-TF",IF(I17<Resum!$AF$39,(I17*Resum!$AF$40),Resum!$AF$41),+IF(H17="L-TT",IF(I17<Resum!$AF$43,(I17*Resum!$AF$44),Resum!$AF$45),0)) +IF(H17="A",0,+IF(I17>Resum!$AD$49,Resum!$AF$49*(+IF(I17>Resum!$AE$49,(Resum!$AE$49-Resum!$AD$49),(I17-Resum!$AD$49))),0)+IF(I17>Resum!$AD$50,Resum!$AF$50*(+IF(I17>Resum!$AE$50,(Resum!$AE$50-Resum!$AD$50),(I17-Resum!$AD$50))),0)+IF(I17>Resum!$AD$51,Resum!$AF$51*(I17-Resum!$AD$51),0)) -> 0 | K17: =(IF(E17=0,1,E17)*IF(F17=0,1,F17)*I17 ) + J17*IF(E17=0,1,E17)*IF(F17=0,1,F17) -> 0 | L17: =K17/Portada!$F$15 -> 0 | P17: =J17*IF(E17=0,1,E17)*IF(F17=0,1,F17) -> 0 | R17: =IF(I17<>0,(J17/I17)/IF(E17=0,1,E17),0) -> 0 | FB17: =(IF(E17=0,1,E17)*IF(F17=0,1,F17)*I17 ) + J17*IF(E17=0,1,E17)*IF(F17=0,1,F17) -> 0
B18: 01.01.11. | C18: Redactor/a | J18: =+IF(H18="L-TF",IF(I18<Resum!$AF$39,(I18*Resum!$AF$40),Resum!$AF$41),+IF(H18="L-TT",IF(I18<Resum!$AF$43,(I18*Resum!$AF$44),Resum!$AF$45),0)) +IF(H18="A",0,+IF(I18>Resum!$AD$49,Resum!$AF$49*(+IF(I18>Resum!$AE$49,(Resum!$AE$49-Resum!$AD$49),(I18-Resum!$AD$49))),0)+IF(I18>Resum!$AD$50,Resum!$AF$50*(+IF(I18>Resum!$AE$50,(Resum!$AE$50-Resum!$AD$50),(I18-Resum!$AD$50))),0)+IF(I18>Resum!$AD$51,Resum!$AF$51*(I18-Resum!$AD$51),0)) -> 0 | K18: =(IF(E18=0,1,E18)*IF(F18=0,1,F18)*I18 ) + J18*IF(E18=0,1,E18)*IF(F18=0,1,F18) -> 0 | L18: =K18/Portada!$F$15 -> 0 | P18: =J18*IF(E18=0,1,E18)*IF(F18=0,1,F18) -> 0 | R18: =IF(I18<>0,(J18/I18)/IF(E18=0,1,E18),0) -> 0 | FB18: =(IF(E18=0,1,E18)*IF(F18=0,1,F18)*I18 ) + J18*IF(E18=0,1,E18)*IF(F18=0,1,F18) -> 0
B19: 01.01.12. | C19: Col·laboradors | J19: =+IF(H19="L-TF",IF(I19<Resum!$AF$39,(I19*Resum!$AF$40),Resum!$AF$41),+IF(H19="L-TT",IF(I19<Resum!$AF$43,(I19*Resum!$AF$44),Resum!$AF$45),0)) +IF(H19="A",0,+IF(I19>Resum!$AD$49,Resum!$AF$49*(+IF(I19>Resum!$AE$49,(Resum!$AE$49-Resum!$AD$49),(I19-Resum!$AD$49))),0)+IF(I19>Resum!$AD$50,Resum!$AF$50*(+IF(I19>Resum!$AE$50,(Resum!$AE$50-Resum!$AD$50),(I19-Resum!$AD$50))),0)+IF(I19>Resum!$AD$51,Resum!$AF$51*(I19-Resum!$AD$51),0)) -> 0 | K19: =(IF(E19=0,1,E19)*IF(F19=0,1,F19)*I19 ) + J19*IF(E19=0,1,E19)*IF(F19=0,1,F19) -> 0 | L19: =K19/Portada!$F$15 -> 0 | P19: =J19*IF(E19=0,1,E19)*IF(F19=0,1,F19) -> 0 | R19: =IF(I19<>0,(J19/I19)/IF(E19=0,1,E19),0) -> 0 | FB19: =(IF(E19=0,1,E19)*IF(F19=0,1,F19)*I19 ) + J19*IF(E19=0,1,E19)*IF(F19=0,1,F19) -> 0
... B23: 01.01.16. | C23: Community Manager | J23: =+IF(H23="L-TF",IF(I23<Resum!$AF$39,(I23*Resum!$AF$40),Resum!$AF$41),+IF(H23="L-TT",IF(I23<Resum!$AF$43,(I23*Resum!$AF$44),Resum!$AF$45),0)) +IF(H23="A",0,+IF(I23>Resum!$AD$49,Resum!$AF$49*(+IF(I23>Resum!$AE$49,(Resum!$AE$49-Resum!$AD$49),(I23-Resum!$AD$49))),0)+IF(I23>Resum!$AD$50,Resum!$AF$50*(+IF(I23>Resum!$AE$50,(Resum!$AE$50-Resum!$AD$50),(I23-Resum!$AD$50))),0)+IF(I23>Resum!$AD$51,Resum!$AF$51*(I23-Resum!$AD$51),0)) -> 0 | K23: =(IF(E23=0,1,E23)*IF(F23=0,1,F23)*I23 ) + J23*IF(E23=0,1,E23)*IF(F23=0,1,F23) -> 0 | L23: =K23/Portada!$F$15 -> 0 | P23: =J23*IF(E23=0,1,E23)*IF(F23=0,1,F23) -> 0 | R23: =IF(I23<>0,(J23/I23)/IF(E23=0,1,E23),0) -> 0 | FB23: =(IF(E23=0,1,E23)*IF(F23=0,1,F23)*I23 ) + J23*IF(E23=0,1,E23)*IF(F23=0,1,F23) -> 0
B24: 01.01.17. | J24: =+IF(H24="L-TF",IF(I24<Resum!$AF$39,(I24*Resum!$AF$40),Resum!$AF$41),+IF(H24="L-TT",IF(I24<Resum!$AF$43,(I24*Resum!$AF$44),Resum!$AF$45),0)) +IF(H24="A",0,+IF(I24>Resum!$AD$49,Resum!$AF$49*(+IF(I24>Resum!$AE$49,(Resum!$AE$49-Resum!$AD$49),(I24-Resum!$AD$49))),0)+IF(I24>Resum!$AD$50,Resum!$AF$50*(+IF(I24>Resum!$AE$50,(Resum!$AE$50-Resum!$AD$50),(I24-Resum!$AD$50))),0)+IF(I24>Resum!$AD$51,Resum!$AF$51*(I24-Resum!$AD$51),0)) -> 0 | K24: =(IF(E24=0,1,E24)*IF(F24=0,1,F24)*I24 ) + J24*IF(E24=0,1,E24)*IF(F24=0,1,F24) -> 0 | L24: =K24/Portada!$F$15 -> 0 | P24: =J24*IF(E24=0,1,E24)*IF(F24=0,1,F24) -> 0 | R24: =IF(I24<>0,(J24/I24)/IF(E24=0,1,E24),0) -> 0 | FB24: =(IF(E24=0,1,E24)*IF(F24=0,1,F24)*I24 ) + J24*IF(E24=0,1,E24)*IF(F24=0,1,F24) -> 0
B25: 01.01.18. | J25: =+IF(H25="L-TF",IF(I25<Resum!$AF$39,(I25*Resum!$AF$40),Resum!$AF$41),+IF(H25="L-TT",IF(I25<Resum!$AF$43,(I25*Resum!$AF$44),Resum!$AF$45),0)) +IF(H25="A",0,+IF(I25>Resum!$AD$49,Resum!$AF$49*(+IF(I25>Resum!$AE$49,(Resum!$AE$49-Resum!$AD$49),(I25-Resum!$AD$49))),0)+IF(I25>Resum!$AD$50,Resum!$AF$50*(+IF(I25>Resum!$AE$50,(Resum!$AE$50-Resum!$AD$50),(I25-Resum!$AD$50))),0)+IF(I25>Resum!$AD$51,Resum!$AF$51*(I25-Resum!$AD$51),0)) -> 0 | K25: =(IF(E25=0,1,E25)*IF(F25=0,1,F25)*I25 ) + J25*IF(E25=0,1,E25)*IF(F25=0,1,F25) -> 0 | L25: =K25/Portada!$F$15 -> 0 | P25: =J25*IF(E25=0,1,E25)*IF(F25=0,1,F25) -> 0 | R25: =IF(I25<>0,(J25/I25)/IF(E25=0,1,E25),0) -> 0 | FB25: =(IF(E25=0,1,E25)*IF(F25=0,1,F25)*I25 ) + J25*IF(E25=0,1,E25)*IF(F25=0,1,F25) -> 0
B26: 01.01.19. | J26: =+IF(H26="L-TF",IF(I26<Resum!$AF$39,(I26*Resum!$AF$40),Resum!$AF$41),+IF(H26="L-TT",IF(I26<Resum!$AF$43,(I26*Resum!$AF$44),Resum!$AF$45),0)) +IF(H26="A",0,+IF(I26>Resum!$AD$49,Resum!$AF$49*(+IF(I26>Resum!$AE$49,(Resum!$AE$49-Resum!$AD$49),(I26-Resum!$AD$49))),0)+IF(I26>Resum!$AD$50,Resum!$AF$50*(+IF(I26>Resum!$AE$50,(Resum!$AE$50-Resum!$AD$50),(I26-Resum!$AD$50))),0)+IF(I26>Resum!$AD$51,Resum!$AF$51*(I26-Resum!$AD$51),0)) -> 0 | K26: =(IF(E26=0,1,E26)*IF(F26=0,1,F26)*I26 ) + J26*IF(E26=0,1,E26)*IF(F26=0,1,F26) -> 0 | L26: =K26/Portada!$F$15 -> 0 | P26: =J26*IF(E26=0,1,E26)*IF(F26=0,1,F26) -> 0 | R26: =IF(I26<>0,(J26/I26)/IF(E26=0,1,E26),0) -> 0 | FB26: =(IF(E26=0,1,E26)*IF(F26=0,1,F26)*I26 ) + J26*IF(E26=0,1,E26)*IF(F26=0,1,F26) -> 0
B27: 01.01.20. | J27: =+IF(H27="L-TF",IF(I27<Resum!$AF$39,(I27*Resum!$AF$40),Resum!$AF$41),+IF(H27="L-TT",IF(I27<Resum!$AF$43,(I27*Resum!$AF$44),Resum!$AF$45),0)) +IF(H27="A",0,+IF(I27>Resum!$AD$49,Resum!$AF$49*(+IF(I27>Resum!$AE$49,(Resum!$AE$49-Resum!$AD$49),(I27-Resum!$AD$49))),0)+IF(I27>Resum!$AD$50,Resum!$AF$50*(+IF(I27>Resum!$AE$50,(Resum!$AE$50-Resum!$AD$50),(I27-Resum!$AD$50))),0)+IF(I27>Resum!$AD$51,Resum!$AF$51*(I27-Resum!$AD$51),0)) -> 0 | K27: =(IF(E27=0,1,E27)*IF(F27=0,1,F27)*I27 ) + J27*IF(E27=0,1,E27)*IF(F27=0,1,F27) -> 0 | L27: =K27/Portada!$F$15 -> 0
C28: ="TOTAL " &" " & B7 & " " & (C7) -> TOTAL 01.01. Direcció | J28: =SUM(J8:J27) -> 0 | K28: =SUM(K8:K27) -> 0 | L28: =SUM(L8:L27) -> 0 | M28: =SUM(M8:M26) -> 0 | N28: =SUM(N8:N26) -> 0 | P28: =SUM(P8:P26) -> 0 | FB28: =SUM(FB8:FB26) -> 0
B29: Núm. Compte
B30: 01.02. | C30: Realització
B31: 01.02.01. | C31: Realitzador | J31: =+IF(H31="L-TF",IF(I31<Resum!$AF$39,(I31*Resum!$AF$40),Resum!$AF$41),+IF(H31="L-TT",IF(I31<Resum!$AF$43,(I31*Resum!$AF$44),Resum!$AF$45),0)) +IF(H31="A",0,+IF(I31>Resum!$AD$49,Resum!$AF$49*(+IF(I31>Resum!$AE$49,(Resum!$AE$49-Resum!$AD$49),(I31-Resum!$AD$49))),0)+IF(I31>Resum!$AD$50,Resum!$AF$50*(+IF(I31>Resum!$AE$50,(Resum!$AE$50-Resum!$AD$50),(I31-Resum!$AD$50))),0)+IF(I31>Resum!$AD$51,Resum!$AF$51*(I31-Resum!$AD$51),0)) -> 0 | K31: =(IF(E31=0,1,E31)*IF(F31=0,1,F31)*I31 ) + J31*IF(E31=0,1,E31)*IF(F31=0,1,F31) -> 0 | L31: =K31/Portada!$F$15 -> 0 | P31: =J31*IF(E31=0,1,E31)*IF(F31=0,1,F31) -> 0 | R31: =IF(I31<>0,(J31/I31)/IF(E31=0,1,E31),0) -> 0 | FB31: =(IF(E31=0,1,E31)*IF(F31=0,1,F31)*I31 ) + J31*IF(E31=0,1,E31)*IF(F31=0,1,F31) -> 0
B32: 01.02.03. | C32: Operador/tècnic audio/vídeo | J32: =+IF(H32="L-TF",IF(I32<Resum!$AF$39,(I32*Resum!$AF$40),Resum!$AF$41),+IF(H32="L-TT",IF(I32<Resum!$AF$43,(I32*Resum!$AF$44),Resum!$AF$45),0)) +IF(H32="A",0,+IF(I32>Resum!$AD$49,Resum!$AF$49*(+IF(I32>Resum!$AE$49,(Resum!$AE$49-Resum!$AD$49),(I32-Resum!$AD$49))),0)+IF(I32>Resum!$AD$50,Resum!$AF$50*(+IF(I32>Resum!$AE$50,(Resum!$AE$50-Resum!$AD$50),(I32-Resum!$AD$50))),0)+IF(I32>Resum!$AD$51,Resum!$AF$51*(I32-Resum!$AD$51),0)) -> 0 | K32: =(IF(E32=0,1,E32)*IF(F32=0,1,F32)*I32 ) + J32*IF(E32=0,1,E32)*IF(F32=0,1,F32) -> 0 | L32: =K32/Portada!$F$15 -> 0 | P32: =J32*IF(E32=0,1,E32)*IF(F32=0,1,F32) -> 0 | R32: =IF(I32<>0,(J32/I32)/IF(E32=0,1,E32),0) -> 0 | FB32: =(IF(E32=0,1,E32)*IF(F32=0,1,F32)*I32 ) + J32*IF(E32=0,1,E32)*IF(F32=0,1,F32) -> 0
B33: 01.02.04. | C33: Operador/tècnic audio/vídeo | J33: =+IF(H33="L-TF",IF(I33<Resum!$AF$39,(I33*Resum!$AF$40),Resum!$AF$41),+IF(H33="L-TT",IF(I33<Resum!$AF$43,(I33*Resum!$AF$44),Resum!$AF$45),0)) +IF(H33="A",0,+IF(I33>Resum!$AD$49,Resum!$AF$49*(+IF(I33>Resum!$AE$49,(Resum!$AE$49-Resum!$AD$49),(I33-Resum!$AD$49))),0)+IF(I33>Resum!$AD$50,Resum!$AF$50*(+IF(I33>Resum!$AE$50,(Resum!$AE$50-Resum!$AD$50),(I33-Resum!$AD$50))),0)+IF(I33>Resum!$AD$51,Resum!$AF$51*(I33-Resum!$AD$51),0)) -> 0 | K33: =(IF(E33=0,1,E33)*IF(F33=0,1,F33)*I33 ) + J33*IF(E33=0,1,E33)*IF(F33=0,1,F33) -> 0 | L33: =K33/Portada!$F$15 -> 0 | P33: =J33*IF(E33=0,1,E33)*IF(F33=0,1,F33) -> 0 | R33: =IF(I33<>0,(J33/I33)/IF(E33=0,1,E33),0) -> 0 | FB33: =(IF(E33=0,1,E33)*IF(F33=0,1,F33)*I33 ) + J33*IF(E33=0,1,E33)*IF(F33=0,1,F33) -> 0
B34: 01.02.05. | J34: =+IF(H34="L-TF",IF(I34<Resum!$AF$39,(I34*Resum!$AF$40),Resum!$AF$41),+IF(H34="L-TT",IF(I34<Resum!$AF$43,(I34*Resum!$AF$44),Resum!$AF$45),0)) +IF(H34="A",0,+IF(I34>Resum!$AD$49,Resum!$AF$49*(+IF(I34>Resum!$AE$49,(Resum!$AE$49-Resum!$AD$49),(I34-Resum!$AD$49))),0)+IF(I34>Resum!$AD$50,Resum!$AF$50*(+IF(I34>Resum!$AE$50,(Resum!$AE$50-Resum!$AD$50),(I34-Resum!$AD$50))),0)+IF(I34>Resum!$AD$51,Resum!$AF$51*(I34-Resum!$AD$51),0)) -> 0 | K34: =(IF(E34=0,1,E34)*IF(F34=0,1,F34)*I34 ) + J34*IF(E34=0,1,E34)*IF(F34=0,1,F34) -> 0 | L34: =K34/Portada!$F$15 -> 0 | P34: =J34*IF(E34=0,1,E34)*IF(F34=0,1,F34) -> 0 | R34: =IF(I34<>0,(J34/I34)/IF(E34=0,1,E34),0) -> 0 | FB34: =(IF(E34=0,1,E34)*IF(F34=0,1,F34)*I34 ) + J34*IF(E34=0,1,E34)*IF(F34=0,1,F34) -> 0
B35: 01.02.06. | J35: =+IF(H35="L-TF",IF(I35<Resum!$AF$39,(I35*Resum!$AF$40),Resum!$AF$41),+IF(H35="L-TT",IF(I35<Resum!$AF$43,(I35*Resum!$AF$44),Resum!$AF$45),0)) +IF(H35="A",0,+IF(I35>Resum!$AD$49,Resum!$AF$49*(+IF(I35>Resum!$AE$49,(Resum!$AE$49-Resum!$AD$49),(I35-Resum!$AD$49))),0)+IF(I35>Resum!$AD$50,Resum!$AF$50*(+IF(I35>Resum!$AE$50,(Resum!$AE$50-Resum!$AD$50),(I35-Resum!$AD$50))),0)+IF(I35>Resum!$AD$51,Resum!$AF$51*(I35-Resum!$AD$51),0)) -> 0 | K35: =(IF(E35=0,1,E35)*IF(F35=0,1,F35)*I35 ) + J35*IF(E35=0,1,E35)*IF(F35=0,1,F35) -> 0 | L35: =K35/Portada!$F$15 -> 0 | P35: =J35*IF(E35=0,1,E35)*IF(F35=0,1,F35) -> 0 | R35: =IF(I35<>0,(J35/I35)/IF(E35=0,1,E35),0) -> 0 | FB35: =(IF(E35=0,1,E35)*IF(F35=0,1,F35)*I35 ) + J35*IF(E35=0,1,E35)*IF(F35=0,1,F35) -> 0
B36: 01.02.07. | J36: =+IF(H36="L-TF",IF(I36<Resum!$AF$39,(I36*Resum!$AF$40),Resum!$AF$41),+IF(H36="L-TT",IF(I36<Resum!$AF$43,(I36*Resum!$AF$44),Resum!$AF$45),0)) +IF(H36="A",0,+IF(I36>Resum!$AD$49,Resum!$AF$49*(+IF(I36>Resum!$AE$49,(Resum!$AE$49-Resum!$AD$49),(I36-Resum!$AD$49))),0)+IF(I36>Resum!$AD$50,Resum!$AF$50*(+IF(I36>Resum!$AE$50,(Resum!$AE$50-Resum!$AD$50),(I36-Resum!$AD$50))),0)+IF(I36>Resum!$AD$51,Resum!$AF$51*(I36-Resum!$AD$51),0)) -> 0 | K36: =(IF(E36=0,1,E36)*IF(F36=0,1,F36)*I36 ) + J36*IF(E36=0,1,E36)*IF(F36=0,1,F36) -> 0 | L36: =K36/Portada!$F$15 -> 0 | P36: =J36*IF(E36=0,1,E36)*IF(F36=0,1,F36) -> 0 | R36: =IF(I36<>0,(J36/I36)/IF(E36=0,1,E36),0) -> 0 | FB36: =(IF(E36=0,1,E36)*IF(F36=0,1,F36)*I36 ) + J36*IF(E36=0,1,E36)*IF(F36=0,1,F36) -> 0
C37: ="TOTAL " &" " & B30 & " " & (C30) -> TOTAL 01.02. Realització | J37: =SUM(J31:J36) -> 0 | K37: =SUM(K31:K36) -> 0 | L37: =SUM(L31:L36) -> 0 | M37: =SUM(M31:M36) -> 0 | N37: =SUM(N31:N36) -> 0 | P37: =SUM(P31:P36) -> 0 | FB37: =SUM(FB31:FB36) -> 0
B38: Núm. Compte
B39: 01.03. | C39: Producció
B40: 01.03.01. | C40: Producció executiva | J40: =+IF(H40="L-TF",IF(I40<Resum!$AF$39,(I40*Resum!$AF$40),Resum!$AF$41),+IF(H40="L-TT",IF(I40<Resum!$AF$43,(I40*Resum!$AF$44),Resum!$AF$45),0)) +IF(H40="A",0,+IF(I40>Resum!$AD$49,Resum!$AF$49*(+IF(I40>Resum!$AE$49,(Resum!$AE$49-Resum!$AD$49),(I40-Resum!$AD$49))),0)+IF(I40>Resum!$AD$50,Resum!$AF$50*(+IF(I40>Resum!$AE$50,(Resum!$AE$50-Resum!$AD$50),(I40-Resum!$AD$50))),0)+IF(I40>Resum!$AD$51,Resum!$AF$51*(I40-Resum!$AD$51),0)) -> 0 | K40: =(IF(E40=0,1,E40)*IF(F40=0,1,F40)*I40 ) + J40*IF(E40=0,1,E40)*IF(F40=0,1,F40) -> 0 | L40: =K40/Portada!$F$15 -> 0 | P40: =J40*IF(E40=0,1,E40)*IF(F40=0,1,F40) -> 0 | R40: =IF(I40<>0,(J40/I40)/IF(E40=0,1,E40),0) -> 0 | FB40: =(IF(E40=0,1,E40)*IF(F40=0,1,F40)*I40 ) + J40*IF(E40=0,1,E40)*IF(F40=0,1,F40) -> 0
B41: 01.03.02. | J41: =+IF(H41="L-TF",IF(I41<Resum!$AF$39,(I41*Resum!$AF$40),Resum!$AF$41),+IF(H41="L-TT",IF(I41<Resum!$AF$43,(I41*Resum!$AF$44),Resum!$AF$45),0)) +IF(H41="A",0,+IF(I41>Resum!$AD$49,Resum!$AF$49*(+IF(I41>Resum!$AE$49,(Resum!$AE$49-Resum!$AD$49),(I41-Resum!$AD$49))),0)+IF(I41>Resum!$AD$50,Resum!$AF$50*(+IF(I41>Resum!$AE$50,(Resum!$AE$50-Resum!$AD$50),(I41-Resum!$AD$50))),0)+IF(I41>Resum!$AD$51,Resum!$AF$51*(I41-Resum!$AD$51),0)) -> 0 | K41: =(IF(E41=0,1,E41)*IF(F41=0,1,F41)*I41 ) + J41*IF(E41=0,1,E41)*IF(F41=0,1,F41) -> 0 | L41: =K41/Portada!$F$15 -> 0 | P41: =J41*IF(E41=0,1,E41)*IF(F41=0,1,F41) -> 0 | R41: =IF(I41<>0,(J41/I41)/IF(E41=0,1,E41),0) -> 0 | FB41: =(IF(E41=0,1,E41)*IF(F41=0,1,F41)*I41 ) + J41*IF(E41=0,1,E41)*IF(F41=0,1,F41) -> 0
B42: 01.03.03. | J42: =+IF(H42="L-TF",IF(I42<Resum!$AF$39,(I42*Resum!$AF$40),Resum!$AF$41),+IF(H42="L-TT",IF(I42<Resum!$AF$43,(I42*Resum!$AF$44),Resum!$AF$45),0)) +IF(H42="A",0,+IF(I42>Resum!$AD$49,Resum!$AF$49*(+IF(I42>Resum!$AE$49,(Resum!$AE$49-Resum!$AD$49),(I42-Resum!$AD$49))),0)+IF(I42>Resum!$AD$50,Resum!$AF$50*(+IF(I42>Resum!$AE$50,(Resum!$AE$50-Resum!$AD$50),(I42-Resum!$AD$50))),0)+IF(I42>Resum!$AD$51,Resum!$AF$51*(I42-Resum!$AD$51),0)) -> 0 | K42: =(IF(E42=0,1,E42)*IF(F42=0,1,F42)*I42 ) + J42*IF(E42=0,1,E42)*IF(F42=0,1,F42) -> 0 | L42: =K42/Portada!$F$15 -> 0
C43: ="TOTAL " &" " & B39 & " " & (C39) -> TOTAL 01.03. Producció | J43: =SUM(J40:J42) -> 0 | K43: =SUM(K40:K42) -> 0 | L43: =SUM(L40:L42) -> 0 | M43: =SUM(M40:M41) -> 0 | N43: =SUM(N40:N41) -> 0 | P43: =SUM(P40:P41) -> 0 | FB43: =SUM(FB40:FB41) -> 0
C44: TOTAL | D44: =C5 -> CAPÍTOL 01.- Equip | J44: =(J28+J37+J43) -> 0 | K44: =(K28+K37+K43) -> 0 | L44: =(L28+L37+L43) -> 0 | M44: =(M28+M37+M43) -> 0 | N44: =(N28+N37+N43) -> 0 | P44: =(P28+P37+P43) -> 0 | FB44: =(FB28+FB37+FB43) -> 0
...

Sheet Resum
A1: =Portada!B1 -> Actualització a: 07/07/2026
A3: RESUM PRESSUPOST
C5: PRES. ARRENCADA | D5: PRES. PRODUCCIÓ | E5: TOTAL PRODUCCIÓ | F5: COST / CAPÍTOL | G5: OBSERVACIONS
A6: ='Pressupost Producció Ràdio'!C5 & "................................................................................................." -> CAPÍTOL 01.- Equip................................................................................................. | C6: ='Pressupost Arrencada Ràdio'!K44 -> 0 | D6: ='Pressupost Producció Ràdio'!K44 -> 0 | E6: =C6+D6 -> 0 | F6: =E6/Portada!$F$15 -> 0
A7: ='Pressupost Producció Ràdio'!C46 & "........................................................................" -> CAPÍTOL 02.- Altres retribucions........................................................................ | C7: ='Pressupost Arrencada Ràdio'!K52 -> 0 | D7: ='Pressupost Producció Ràdio'!K52 -> 0 | E7: =C7+D7 -> 0 | F7: =E7/Portada!$F$15 -> 0 | AC7: L-TF
A8: ='Pressupost Producció Ràdio'!C54 & "..............................................................." -> CAPÍTOL 03.- Despeses de producció............................................................... | C8: ='Pressupost Arrencada Ràdio'!K73 -> 0 | D8: ='Pressupost Producció Ràdio'!K73 -> 0 | E8: =C8+D8 -> 0 | F8: =E8/Portada!$F$15 -> 0 | AC8: L-TT
A9: ='Pressupost Producció Ràdio'!C75 & "................................................................................................" -> CAPÍTOL 04.- Altres................................................................................................ | C9: ='Pressupost Arrencada Ràdio'!K87 -> 0 | D9: ='Pressupost Producció Ràdio'!K87 -> 0 | E9: =C9+D9 -> 0 | F9: =E9/Portada!$F$15 -> 0 | AC9: A
A10: ='Pressupost Producció Ràdio'!C89 & ".........................................................................." -> CAPÍTOL 05.- Cost de promoció.......................................................................... | C10: ='Pressupost Arrencada Ràdio'!K95 -> 0 | D10: ='Pressupost Producció Ràdio'!K95 -> 0 | E10: =C10+D10 -> 0 | F10: =E10/Portada!$F$15 -> 0
A11: ='Pressupost Producció Ràdio'!C97 & "..........................................................................." -> CAPÍTOL 06.- Despeses generals........................................................................... | C11: ='Pressupost Arrencada Ràdio'!K108 -> 0 | D11: ='Pressupost Producció Ràdio'!K108 -> 0 | E11: =C11+D11 -> 0 | F11: =E11/Portada!$F$15 -> 0
B13: COST DE LA PRODUCCIÓ .................... | C13: =SUM(C6:C11) -> 0 | D13: =SUM(D6:D11) -> 0 | E13: =SUM(E6:E11) -> 0 | F13: =E13/Portada!$F$15 -> 0 | G13: Subtotal
B14: ='Pressupost Producció Ràdio'!C110 -> CAPÍTOL 07.- Altres Despeses generals | C14: ='Pressupost Arrencada Ràdio'!K123 -> 0 | D14: ='Pressupost Producció Ràdio'!K123 -> 0 | E14: =C14+D14 -> 0 | F14: =E14/Portada!$F$15 -> 0
B15: ="Benefici Industrial " & Portada!I18 *100 & " % ..................................." -> Benefici Industrial 0 % ................................... | C15: =Portada!I18*C13 -> 0 | D15: =Portada!I18*D13 -> 0 | E15: =C15+D15 -> 0 | F15: =E15/Portada!$F$15 -> 0
B16: COST TOTAL PRODUCCIÓ .................... | C16: =SUM(C13+C14+C15) -> 0 | D16: =SUM(D13+D14+D15) -> 0 | E16: =C16+D16 -> 0 | F16: =E16/Portada!$F$15 -> 0
AC39: Calculs SS | AD39: L-TF | AE39: Import | AF39: 5101.2
AE40: Percentage | AF40: 0.3215
AE41: Tope | AF41: =ROUNDUP(AF39*AF40,2) -> 1640.04
AD43: L-TT | AE43: Import | AF43: 5101.2
AE44: Percentage | AF44: 0.3335
AE45: Tope | AF45: =ROUNDUP(AF43*AF44,2) -> 1701.26
AC48: Quota solidaritat | AD48: Des de | AE48: fins | AF48: % Empresa
AC49: Tram 1 | AD49: 5101.21 | AE49: 5611.32 | AF49: 0.0096
AC50: Tram 2 | AD50: 5611.33 | AE50: 5970.19 | AF50: 0.0104
AC51: Tram 3 | AD51: 7651.81 | AF51: 0.0122

Sheet Portada
B1: Actualització a: 07/07/2026
F3: RESUM PRESSUPOST
F5: TÍTOL: | M5: Setmanal
M6: Cap de setmana
F7: PRODUCCIÓ EXECUTIVA: | M7: Especials
F8: DIRECCIÓ: | M8: Web
F9: REALITZACIÓ:
F10: PRODUCCIÓ:
C13: TIPUS DE PRODUCCIÓ: | H13: TOTAL PRESSUPOST ARRENCADA | I13: =Resum!C16 -> 0
C14: Nombre de temporades de projecte | F14: 1 | H14: TOTAL PRESSUPOST PRODUCCIÓ | I14: =Resum!D16 -> 0
C15: Nombre de capítols | F15: 1 | H15: TOTAL PRESSUPOST | I15: =SUM(I13+I14) -> 0
C16: Durada (en minuts) | H16: COST PER TEMPORADA | I16: =($I$15)/$F$14 -> 0 | M16: Catalunya Ràdio
H17: COST PER CAPÍTOL | I17: =($I$15)/$F$15 -> 0 | M17: Catalunya Informació
C18: FORMAT: | H18: % BENEFICI INDUSTRIAL | I18: =IF($G$30=1,0,IF($G$30=2,0.1,0.08)) -> 0 | M18: Catalunya Música
H19: IMPORT BENEFICI INDUSTRIAL | I19: =Resum!C15+Resum!D15 -> 0 | M19: ICat
C20: TIMINGS PRODUCCIÓ | F20: Preproducció | H20: COST/MINUT PRODUCCIÓ | I20: =(I15+I19)/(F15*F16) -> #DIV/0! | M20: Web
F21: Producció | H21: COST/HORA PRODUCCIÓ | I21: =((I15+I19)/(F15*F16)) * 60 -> #DIV/0!
F22: Edició | H22: INGRESSOS
F24: Canal:
C25: IMPORT A LIQUIDAR | D25: =Resum!E13+Resum!E14 -> 0
H27: Data presentació projecte:
H28: Data aprovació/rebuig:
F30: Persona física | G30: 1
F31: Productora amb producció associada
F32: Productora amb producció híbrida
F33: Producció associada de tira diària temporada sencera

Sheet Realitats d'Arrencada Ràdio
B1: =Portada!B1 -> Actualització a: 07/07/2026
A2: Capítols de despesa | D2: Pressupostat | E2: Realitat | F2: Diferència
C5: CAPÍTOL 01.- Equip
B6: Núm. Compte
B7: 01.01. | C7: Direcció
B8: 01.01.01. | C8: Director/a | D8: ='Pressupost Arrencada Ràdio'!K8 -> 0 | F8: =E8-D8 -> 0 | EC8: =(IF(#REF!=0,1,#REF!)*IF(#REF!=0,1,#REF!)*#REF! ) -> #REF!
B9: 01.01.02. | C9: Sotsdirector/a | D9: ='Pressupost Arrencada Ràdio'!K9 -> 0 | F9: =E9-D9 -> 0 | EC9: =(IF(#REF!=0,1,#REF!)*IF(#REF!=0,1,#REF!)*#REF! ) -> #REF!
B10: 01.01.03. | C10: Conductor/Presentador | D10: ='Pressupost Arrencada Ràdio'!K10 -> 0 | F10: =E10-D10 -> 0 | EC10: =(IF(#REF!=0,1,#REF!)*IF(#REF!=0,1,#REF!)*#REF! ) -> #REF!
B11: 01.01.04. | C11: Conductor/Presentador | D11: ='Pressupost Arrencada Ràdio'!K11 -> 0 | F11: =E11-D11 -> 0 | EC11: =(IF(#REF!=0,1,#REF!)*IF(#REF!=0,1,#REF!)*#REF! ) -> #REF!
B12: 01.01.05. | C12: Conductor/Presentador | D12: ='Pressupost Arrencada Ràdio'!K12 -> 0 | F12: =E12-D12 -> 0 | EC12: =(IF(#REF!=0,1,#REF!)*IF(#REF!=0,1,#REF!)*#REF! ) -> #REF!
B13: 01.01.06. | C13: Conductor/Presentador | D13: ='Pressupost Arrencada Ràdio'!K13 -> 0 | F13: =E13-D13 -> 0 | EC13: =(IF(#REF!=0,1,#REF!)*IF(#REF!=0,1,#REF!)*#REF! ) -> #REF!
B14: 01.01.07. | C14: Coordinador/a | D14: ='Pressupost Arrencada Ràdio'!K14 -> 0 | F14: =E14-D14 -> 0 | EC14: =(IF(#REF!=0,1,#REF!)*IF(#REF!=0,1,#REF!)*#REF! ) -> #REF!
B15: 01.01.08. | C15: Redactor/a | D15: ='Pressupost Arrencada Ràdio'!K15 -> 0 | F15: =E15-D15 -> 0 | EC15: =(IF(#REF!=0,1,#REF!)*IF(#REF!=0,1,#REF!)*#REF! ) -> #REF!
B16: 01.01.09. | C16: Redactor/a | D16: ='Pressupost Arrencada Ràdio'!K16 -> 0 | F16: =E16-D16 -> 0 | EC16: =(IF(#REF!=0,1,#REF!)*IF(#REF!=0,1,#REF!)*#REF! ) -> #REF!
B17: 01.01.10. | C17: Redactor/a | D17: ='Pressupost Arrencada Ràdio'!K17 -> 0 | F17: =E17-D17 -> 0 | EC17: =(IF(#REF!=0,1,#REF!)*IF(#REF!=0,1,#REF!)*#REF! ) -> #REF!
B18: 01.01.11. | C18: Redactor/a | D18: ='Pressupost Arrencada Ràdio'!K18 -> 0 | F18: =E18-D18 -> 0 | EC18: =(IF(#REF!=0,1,#REF!)*IF(#REF!=0,1,#REF!)*#REF! ) -> #REF!
B19: 01.01.12. | C19: Col·laboradors | D19: ='Pressupost Arrencada Ràdio'!K19 -> 0 | F19: =E19-D19 -> 0 | EC19: =(IF(#REF!=0,1,#REF!)*IF(#REF!=0,1,#REF!)*#REF! ) -> #REF!
... B22: 01.01.15. | C22: Col·laboradors | D22: ='Pressupost Arrencada Ràdio'!K22 -> 0 | F22: =E22-D22 -> 0 | EC22: =(IF(#REF!=0,1,#REF!)*IF(#REF!=0,1,#REF!)*#REF! ) -> #REF!
B23: 01.01.16. | C23: ='Pressupost Producció Ràdio'!C23 -> Community Manager | D23: ='Pressupost Arrencada Ràdio'!K23 -> 0 | F23: =E23-D23 -> 0 | EC23: =(IF(#REF!=0,1,#REF!)*IF(#REF!=0,1,#REF!)*#REF! ) -> #REF!
B24: 01.01.17. | C24: ='Pressupost Arrencada Ràdio'!C24 -> 0 | D24: ='Pressupost Arrencada Ràdio'!K24 -> 0 | F24: =E24-D24 -> 0 | EC24: =(IF(#REF!=0,1,#REF!)*IF(#REF!=0,1,#REF!)*#REF! ) -> #REF!
B25: 01.01.18. | C25: ='Pressupost Arrencada Ràdio'!C25 -> 0 | D25: ='Pressupost Arrencada Ràdio'!K25 -> 0 | F25: =E25-D25 -> 0 | EC25: =(IF(#REF!=0,1,#REF!)*IF(#REF!=0,1,#REF!)*#REF! ) -> #REF!
B26: 01.01.19. | C26: ='Pressupost Arrencada Ràdio'!C26 -> 0 | D26: ='Pressupost Arrencada Ràdio'!K26 -> 0 | F26: =E26-D26 -> 0 | EC26: =(IF(#REF!=0,1,#REF!)*IF(#REF!=0,1,#REF!)*#REF! ) -> #REF!
B27: 01.01.20. | C27: ='Pressupost Arrencada Ràdio'!C27 -> 0 | D27: ='Pressupost Arrencada Ràdio'!K27 -> 0 | F27: =E27-D27 -> 0
C28: ="TOTAL " &" " & B7 & " " & (C7) -> TOTAL 01.01. Direcció | D28: =SUM(D8:D27) -> 0 | E28: =SUM(E8:E27) -> 0 | F28: =SUM(F8:F27) -> 0 | EC28: =(IF(#REF!=0,1,#REF!)*IF(#REF!=0,1,#REF!)*#REF! ) -> #REF!
B29: Núm. Compte | EC29: =(IF(#REF!=0,1,#REF!)*IF(#REF!=0,1,#REF!)*#REF! ) -> #REF!
B30: 01.02. | C30: Realització | EC30: =SUM(EC8:EC29) -> #REF!
B31: 01.02.01. | C31: Realitzador | D31: ='Pressupost Arrencada Ràdio'!K31 -> 0 | F31: =E31-D31 -> 0
B32: 01.02.03. | C32: Operador/tècnic audio/vídeo | D32: ='Pressupost Arrencada Ràdio'!K32 -> 0 | F32: =E32-D32 -> 0
B33: 01.02.04. | C33: Operador/tècnic audio/vídeo | D33: ='Pressupost Arrencada Ràdio'!K33 -> 0 | F33: =E33-D33 -> 0 | EC33: =(IF(#REF!=0,1,#REF!)*IF(#REF!=0,1,#REF!)*#REF! ) -> #REF!
B34: 01.02.05. | C34: ='Pressupost Arrencada Ràdio'!C34 -> 0 | D34: ='Pressupost Arrencada Ràdio'!K34 -> 0 | F34: =E34-D34 -> 0 | EC34: =(IF(#REF!=0,1,#REF!)*IF(#REF!=0,1,#REF!)*#REF! ) -> #REF!
B35: 01.02.06. | C35: ='Pressupost Arrencada Ràdio'!C35 -> 0 | D35: ='Pressupost Arrencada Ràdio'!K35 -> 0 | F35: =E35-D35 -> 0 | EC35: =(IF(#REF!=0,1,#REF!)*IF(#REF!=0,1,#REF!)*#REF! ) -> #REF!
B36: 01.02.07. | C36: ='Pressupost Arrencada Ràdio'!C36 -> 0 | D36: ='Pressupost Arrencada Ràdio'!K36 -> 0 | F36: =E36-D36 -> 0 | EC36: =(IF(#REF!=0,1,#REF!)*IF(#REF!=0,1,#REF!)*#REF! ) -> #REF!
C37: ="TOTAL " &" " & B30 & " " & (C30) -> TOTAL 01.02. Realització | D37: =SUM(D31:D36) -> 0 | E37: =SUM(E31:E36) -> 0 | F37: =SUM(F31:F36) -> 0 | EC37: =(IF(#REF!=0,1,#REF!)*IF(#REF!=0,1,#REF!)*#REF! ) -> #REF!
B38: Núm. Compte | EC38: =(IF(#REF!=0,1,#REF!)*IF(#REF!=0,1,#REF!)*#REF! ) -> #REF!
B39: 01.03. | C39: Producció | EC39: =(IF(#REF!=0,1,#REF!)*IF(#REF!=0,1,#REF!)*#REF! ) -> #REF!
B40: 01.03.01. | C40: Producció executiva | D40: ='Pressupost Arrencada Ràdio'!K40 -> 0 | F40: =E40-D40 -> 0 | EC40: =(IF(#REF!=0,1,#REF!)*IF(#REF!=0,1,#REF!)*#REF! ) -> #REF!
B41: 01.03.02. | C41: ='Pressupost Arrencada Ràdio'!C41 -> 0 | D41: ='Pressupost Arrencada Ràdio'!K41 -> 0 | F41: =E41-D41 -> 0 | EC41: =(IF(#REF!=0,1,#REF!)*IF(#REF!=0,1,#REF!)*#REF! ) -> #REF!
B42: 01.03.03. | C42: ='Pressupost Arrencada Ràdio'!C42 -> 0 | D42: ='Pressupost Arrencada Ràdio'!K42 -> 0 | F42: =E42-D42 -> 0
C43: ="TOTAL " &" " & B39 & " " & (C39) -> TOTAL 01.03. Producció | D43: =SUM(D40:D42) -> 0 | E43: =SUM(E40:E42) -> 0 | F43: =SUM(F40:F42) -> 0 | EC43: =(IF(#REF!=0,1,#REF!)*IF(#REF!=0,1,#REF!)*#REF! ) -> #REF!
C44: ="TOTAL " & 'Pressupost Producció Ràdio'!C5 -> TOTAL CAPÍTOL 01.- Equip | D44: =D28+D37+D43 -> 0 | E44: =E28+E37+E43 -> 0 | F44: =F28+F37+F43 -> 0 | EC44: =SUM(EC33:EC43) -> #REF!
...

Sheet Realitats Producció Ràdio
B1: =Portada!B1 -> Actualització a: 07/07/2026
A2: Capítols de despesa | D2: Pressupostat | E2: Realitat | F2: Diferència
C5: CAPÍTOL 01.- Equip
B6: Núm. Compte
B7: 01.01. | C7: Direcció
B8: 01.01.01. | C8: Director/a | D8: ='Pressupost Producció Ràdio'!K8 -> 0 | F8: =E8-D8 -> 0 | EC8: =(IF(#REF!=0,1,#REF!)*IF(#REF!=0,1,#REF!)*#REF! ) -> #REF!
B9: 01.01.02. | C9: Sotsdirector/a | D9: ='Pressupost Producció Ràdio'!K9 -> 0 | F9: =E9-D9 -> 0 | EC9: =(IF(#REF!=0,1,#REF!)*IF(#REF!=0,1,#REF!)*#REF! ) -> #REF!
B10: 01.01.03. | C10: Conductor/Presentador | D10: ='Pressupost Producció Ràdio'!K10 -> 0 | F10: =E10-D10 -> 0 | EC10: =(IF(#REF!=0,1,#REF!)*IF(#REF!=0,1,#REF!)*#REF! ) -> #REF!
B11: 01.01.04. | C11: Conductor/Presentador | D11: ='Pressupost Producció Ràdio'!K11 -> 0 | F11: =E11-D11 -> 0 | EC11: =(IF(#REF!=0,1,#REF!)*IF(#REF!=0,1,#REF!)*#REF! ) -> #REF!
B12: 01.01.05. | C12: Conductor/Presentador | D12: ='Pressupost Producció Ràdio'!K12 -> 0 | F12: =E12-D12 -> 0 | EC12: =(IF(#REF!=0,1,#REF!)*IF(#REF!=0,1,#REF!)*#REF! ) -> #REF!
B13: 01.01.06. | C13: Conductor/Presentador | D13: ='Pressupost Producció Ràdio'!K13 -> 0 | F13: =E13-D13 -> 0 | EC13: =(IF(#REF!=0,1,#REF!)*IF(#REF!=0,1,#REF!)*#REF! ) -> #REF!
B14: 01.01.07. | C14: Coordinador/a | D14: ='Pressupost Producció Ràdio'!K14 -> 0 | F14: =E14-D14 -> 0 | EC14: =(IF(#REF!=0,1,#REF!)*IF(#REF!=0,1,#REF!)*#REF! ) -> #REF!
B15: 01.01.08. | C15: Redactor/a | D15: ='Pressupost Producció Ràdio'!K15 -> 0 | F15: =E15-D15 -> 0 | EC15: =(IF(#REF!=0,1,#REF!)*IF(#REF!=0,1,#REF!)*#REF! ) -> #REF!
B16: 01.01.09. | C16: Redactor/a | D16: ='Pressupost Producció Ràdio'!K16 -> 0 | F16: =E16-D16 -> 0 | EC16: =(IF(#REF!=0,1,#REF!)*IF(#REF!=0,1,#REF!)*#REF! ) -> #REF!
B17: 01.01.10. | C17: Redactor/a | D17: ='Pressupost Producció Ràdio'!K17 -> 0 | F17: =E17-D17 -> 0 | EC17: =(IF(#REF!=0,1,#REF!)*IF(#REF!=0,1,#REF!)*#REF! ) -> #REF!
B18: 01.01.11. | C18: Redactor/a | D18: ='Pressupost Producció Ràdio'!K18 -> 0 | F18: =E18-D18 -> 0 | EC18: =(IF(#REF!=0,1,#REF!)*IF(#REF!=0,1,#REF!)*#REF! ) -> #REF!
B19: 01.01.12. | C19: Col·laboradors | D19: ='Pressupost Producció Ràdio'!K19 -> 0 | F19: =E19-D19 -> 0 | EC19: =(IF(#REF!=0,1,#REF!)*IF(#REF!=0,1,#REF!)*#REF! ) -> #REF!
... B22: 01.01.15. | C22: Col·laboradors | D22: ='Pressupost Producció Ràdio'!K22 -> 0 | F22: =E22-D22 -> 0 | EC22: =(IF(#REF!=0,1,#REF!)*IF(#REF!=0,1,#REF!)*#REF! ) -> #REF!
B23: 01.01.16. | C23: ='Pressupost Producció Ràdio'!C23 -> Community Manager | D23: ='Pressupost Producció Ràdio'!K23 -> 0 | F23: =E23-D23 -> 0 | EC23: =(IF(#REF!=0,1,#REF!)*IF(#REF!=0,1,#REF!)*#REF! ) -> #REF!
B24: 01.01.17. | C24: ='Pressupost Producció Ràdio'!C24 -> 0 | D24: ='Pressupost Producció Ràdio'!K24 -> 0 | F24: =E24-D24 -> 0 | EC24: =(IF(#REF!=0,1,#REF!)*IF(#REF!=0,1,#REF!)*#REF! ) -> #REF!
B25: 01.01.18. | C25: ='Pressupost Producció Ràdio'!C25 -> 0 | D25: ='Pressupost Producció Ràdio'!K25 -> 0 | F25: =E25-D25 -> 0 | EC25: =(IF(#REF!=0,1,#REF!)*IF(#REF!=0,1,#REF!)*#REF! ) -> #REF!
B26: 01.01.19. | C26: ='Pressupost Producció Ràdio'!C26 -> 0 | D26: ='Pressupost Producció Ràdio'!K26 -> 0 | F26: =E26-D26 -> 0 | EC26: =(IF(#REF!=0,1,#REF!)*IF(#REF!=0,1,#REF!)*#REF! ) -> #REF!
B27: 01.01.20. | C27: ='Pressupost Producció Ràdio'!C27 -> 0 | D27: ='Pressupost Producció Ràdio'!K27 -> 0 | F27: =E27-D27 -> 0
C28: ="TOTAL " &" " & B7 & " " & (C7) -> TOTAL 01.01. Direcció | D28: =SUM(D8:D27) -> 0 | E28: =SUM(E8:E27) -> 0 | F28: =SUM(F8:F27) -> 0 | EC28: =(IF(#REF!=0,1,#REF!)*IF(#REF!=0,1,#REF!)*#REF! ) -> #REF!
B29: Núm. Compte | EC29: =(IF(#REF!=0,1,#REF!)*IF(#REF!=0,1,#REF!)*#REF! ) -> #REF!
B30: 01.02. | C30: Realització | EC30: =SUM(EC8:EC29) -> #REF!
B31: 01.02.01. | C31: Realitzador | D31: ='Pressupost Producció Ràdio'!K31 -> 0 | F31: =E31-D31 -> 0
B32: 01.02.03. | C32: Operador/tècnic audio/vídeo | D32: ='Pressupost Producció Ràdio'!K32 -> 0 | F32: =E32-D32 -> 0
B33: 01.02.04. | C33: Operador/tècnic audio/vídeo | D33: ='Pressupost Producció Ràdio'!K33 -> 0 | F33: =E33-D33 -> 0 | EC33: =(IF(#REF!=0,1,#REF!)*IF(#REF!=0,1,#REF!)*#REF! ) -> #REF!
B34: 01.02.05. | C34: ='Pressupost Producció Ràdio'!C34 -> 0 | D34: ='Pressupost Producció Ràdio'!K34 -> 0 | F34: =E34-D34 -> 0 | EC34: =(IF(#REF!=0,1,#REF!)*IF(#REF!=0,1,#REF!)*#REF! ) -> #REF!
B35: 01.02.06. | C35: ='Pressupost Producció Ràdio'!C35 -> 0 | D35: ='Pressupost Producció Ràdio'!K35 -> 0 | F35: =E35-D35 -> 0 | EC35: =(IF(#REF!=0,1,#REF!)*IF(#REF!=0,1,#REF!)*#REF! ) -> #REF!
B36: 01.02.07. | C36: ='Pressupost Producció Ràdio'!C36 -> 0 | D36: ='Pressupost Producció Ràdio'!K36 -> 0 | F36: =E36-D36 -> 0 | EC36: =(IF(#REF!=0,1,#REF!)*IF(#REF!=0,1,#REF!)*#REF! ) -> #REF!
C37: ="TOTAL " &" " & B30 & " " & (C30) -> TOTAL 01.02. Realització | D37: =SUM(D31:D36) -> 0 | E37: =SUM(E31:E36) -> 0 | F37: =SUM(F31:F36) -> 0 | EC37: =(IF(#REF!=0,1,#REF!)*IF(#REF!=0,1,#REF!)*#REF! ) -> #REF!
B38: Núm. Compte | EC38: =(IF(#REF!=0,1,#REF!)*IF(#REF!=0,1,#REF!)*#REF! ) -> #REF!
B39: 01.03. | C39: Producció | EC39: =(IF(#REF!=0,1,#REF!)*IF(#REF!=0,1,#REF!)*#REF! ) -> #REF!
B40: 01.03.01. | C40: Producció executiva | D40: ='Pressupost Producció Ràdio'!K40 -> 0 | F40: =E40-D40 -> 0 | EC40: =(IF(#REF!=0,1,#REF!)*IF(#REF!=0,1,#REF!)*#REF! ) -> #REF!
B41: 01.03.02. | C41: ='Pressupost Producció Ràdio'!C41 -> 0 | D41: ='Pressupost Producció Ràdio'!K41 -> 0 | F41: =E41-D41 -> 0 | EC41: =(IF(#REF!=0,1,#REF!)*IF(#REF!=0,1,#REF!)*#REF! ) -> #REF!
B42: 01.03.03. | C42: ='Pressupost Producció Ràdio'!C42 -> 0 | D42: ='Pressupost Producció Ràdio'!K42 -> 0 | F42: =E42-D42 -> 0
C43: ="TOTAL " &" " & B39 & " " & (C39) -> TOTAL 01.03. Producció | D43: =SUM(D40:D42) -> 0 | E43: =SUM(E40:E42) -> 0 | F43: =SUM(F40:F42) -> 0 | EC43: =(IF(#REF!=0,1,#REF!)*IF(#REF!=0,1,#REF!)*#REF! ) -> #REF!
C44: ="TOTAL " & 'Pressupost Producció Ràdio'!C5 -> TOTAL CAPÍTOL 01.- Equip | D44: =D28+D37+D43 -> 0 | E44: =E28+E37+E43 -> 0 | F44: =F28+F37+F43 -> 0 | EC44: =SUM(EC33:EC43) -> #REF!
...

Sheet Indicacions
