Workbook
Name _GoBack: Indicacions!#REF!

Sheet Pressupost Arrencada TV
B1: =Portada!B1 -> Actualització a: 12/02/2026 | D1: Producció Audiovisual Televisió (Arrencada)
A2: Capítols de despesa | D2: Nom / Concepte | E2: Tipologia | G2: Quantitat | H2: NOTES EXPLICATIVES | I2: Unitats | K2: L-TF L-TT A | L2: Cost unitari | N2: Cost total | P2: Temp. Ant. | S2: S.S. | U2: S.S.
E3: E | F3: V | G3: valor numèric | I3: Nº | J3: Tipus | L3: Cost | M3: S.S. | N3: Total | O3: x Cap. | P3: PRESSUPOST | Q3: LIQUIDACIÓ | U3: %
C5: CAPÍTOL 01.- Guió, música i arxiu
B6: Núm. Compte
B7: 01.01. | C7: Guió
B8: 01.01.01. | C8: Argument original o bíblia | N8: =(IF(G8=0,1,G8)*IF(I8=0,1,I8)*L8 )+M8*IF(G8=0,1,G8)*IF(I8=0,1,I8) -> 0 | O8: =N8/Portada!$F$15 -> 0 | S8: =M8*IF(G8=0,1,G8)*IF(I8=0,1,I8) -> 0 | EC8: =(IF(G8=0,1,G8)*IF(I8=0,1,I8)*L8 )+M8*IF(G8=0,1,G8)*IF(I8=0,1,I8) -> 0
B9: 01.01.02. | C9: Compra de guió | N9: =(IF(G9=0,1,G9)*IF(I9=0,1,I9)*L9 )+M9*IF(G9=0,1,G9)*IF(I9=0,1,I9) -> 0 | O9: =N9/Portada!$F$15 -> 0 | S9: =M9*IF(G9=0,1,G9)*IF(I9=0,1,I9) -> 0 | EC9: =(IF(G9=0,1,G9)*IF(I9=0,1,I9)*L9 )+M9*IF(G9=0,1,G9)*IF(I9=0,1,I9) -> 0
B10: 01.01.03. | C10: Traduccions | N10: =(IF(G10=0,1,G10)*IF(I10=0,1,I10)*L10 )+M10*IF(G10=0,1,G10)*IF(I10=0,1,I10) -> 0 | O10: =N10/Portada!$F$15 -> 0 | S10: =M10*IF(G10=0,1,G10)*IF(I10=0,1,I10) -> 0 | EC10: =(IF(G10=0,1,G10)*IF(I10=0,1,I10)*L10 )+M10*IF(G10=0,1,G10)*IF(I10=0,1,I10) -> 0
B11: 01.01.04. | C11: Transcripcions | N11: =(IF(G11=0,1,G11)*IF(I11=0,1,I11)*L11 )+M11*IF(G11=0,1,G11)*IF(I11=0,1,I11) -> 0 | O11: =N11/Portada!$F$15 -> 0 | S11: =M11*IF(G11=0,1,G11)*IF(I11=0,1,I11) -> 0 | EC11: =(IF(G11=0,1,G11)*IF(I11=0,1,I11)*L11 )+M11*IF(G11=0,1,G11)*IF(I11=0,1,I11) -> 0
B12: 01.01.05. | C12: Imatges d'arxiu | N12: =(IF(G12=0,1,G12)*IF(I12=0,1,I12)*L12 )+M12*IF(G12=0,1,G12)*IF(I12=0,1,I12) -> 0 | O12: =N12/Portada!$F$15 -> 0 | S12: =M12*IF(G12=0,1,G12)*IF(I12=0,1,I12) -> 0 | EC12: =(IF(G12=0,1,G12)*IF(I12=0,1,I12)*L12 )+M12*IF(G12=0,1,G12)*IF(I12=0,1,I12) -> 0
B13: 01.01.06. | C13: Drets de format | N13: =(IF(G13=0,1,G13)*IF(I13=0,1,I13)*L13 )+M13*IF(G13=0,1,G13)*IF(I13=0,1,I13) -> 0 | O13: =N13/Portada!$F$15 -> 0 | S13: =M13*IF(G13=0,1,G13)*IF(I13=0,1,I13) -> 0 | EC13: =(IF(G13=0,1,G13)*IF(I13=0,1,I13)*L13 )+M13*IF(G13=0,1,G13)*IF(I13=0,1,I13) -> 0
B14: 01.01.07. | C14: Premis de Programa | N14: =(IF(G14=0,1,G14)*IF(I14=0,1,I14)*L14 )+M14*IF(G14=0,1,G14)*IF(I14=0,1,I14) -> 0 | O14: =N14/Portada!$F$15 -> 0 | S14: =M14*IF(G14=0,1,G14)*IF(I14=0,1,I14) -> 0 | EC14: =(IF(G14=0,1,G14)*IF(I14=0,1,I14)*L14 )+M14*IF(G14=0,1,G14)*IF(I14=0,1,I14) -> 0
B15: 01.01.08. | N15: =(IF(G15=0,1,G15)*IF(I15=0,1,I15)*L15 )+M15*IF(G15=0,1,G15)*IF(I15=0,1,I15) -> 0 | O15: =N15/Portada!$F$15 -> 0 | S15: =M15*IF(G15=0,1,G15)*IF(I15=0,1,I15) -> 0 | EC15: =(IF(G15=0,1,G15)*IF(I15=0,1,I15)*L15 )+M15*IF(G15=0,1,G15)*IF(I15=0,1,I15) -> 0
B16: 01.01.09. | N16: =(IF(G16=0,1,G16)*IF(I16=0,1,I16)*L16 )+M16*IF(G16=0,1,G16)*IF(I16=0,1,I16) -> 0 | O16: =N16/Portada!$F$15 -> 0 | S16: =M16*IF(G16=0,1,G16)*IF(I16=0,1,I16) -> 0 | EC16: =(IF(G16=0,1,G16)*IF(I16=0,1,I16)*L16 )+M16*IF(G16=0,1,G16)*IF(I16=0,1,I16) -> 0
B17: 01.01.10. | N17: =(IF(G17=0,1,G17)*IF(I17=0,1,I17)*L17 )+M17*IF(G17=0,1,G17)*IF(I17=0,1,I17) -> 0 | O17: =N17/Portada!$F$15 -> 0 | S17: =M17*IF(G17=0,1,G17)*IF(I17=0,1,I17) -> 0 | EC17: =(IF(G17=0,1,G17)*IF(I17=0,1,I17)*L17 )+M17*IF(G17=0,1,G17)*IF(I17=0,1,I17) -> 0
C18: ="TOTAL " &" " & B7 & " " & (C7) -> TOTAL 01.01. Guió | N18: =SUM(N8:N17) -> 0 | O18: =SUM(O8:O17) -> 0 | P18: =SUM(P8:P17) -> 0 | Q18: =SUM(Q8:Q17) -> 0 | S18: =SUM(S8:S17) -> 0 | EC18: =SUM(EC8:EC17) -> 0
B19: Núm. Compte
B20: 01.02. | C20: Música
B21: 01.02.01. | C21: Música original | N21: =(IF(G21=0,1,G21)*IF(I21=0,1,I21)*L21 )+M21*IF(G21=0,1,G21)*IF(I21=0,1,I21) -> 0 | O21: =N21/Portada!$F$15 -> 0 | S21: =M21*IF(G21=0,1,G21)*IF(I21=0,1,I21) -> 0 | EC21: =(IF(G21=0,1,G21)*IF(I21=0,1,I21)*L21 )+M21*IF(G21=0,1,G21)*IF(I21=0,1,I21) -> 0
B22: 01.02.02. | C22: Musica de llibreria | N22: =(IF(G22=0,1,G22)*IF(I22=0,1,I22)*L22 )+M22*IF(G22=0,1,G22)*IF(I22=0,1,I22) -> 0 | O22: =N22/Portada!$F$15 -> 0 | S22: =M22*IF(G22=0,1,G22)*IF(I22=0,1,I22) -> 0 | EC22: =(IF(G22=0,1,G22)*IF(I22=0,1,I22)*L22 )+M22*IF(G22=0,1,G22)*IF(I22=0,1,I22) -> 0
B23: 01.02.03. | C23: Arranjaments | N23: =(IF(G23=0,1,G23)*IF(I23=0,1,I23)*L23 )+M23*IF(G23=0,1,G23)*IF(I23=0,1,I23) -> 0 | O23: =N23/Portada!$F$15 -> 0 | S23: =M23*IF(G23=0,1,G23)*IF(I23=0,1,I23) -> 0 | EC23: =(IF(G23=0,1,G23)*IF(I23=0,1,I23)*L23 )+M23*IF(G23=0,1,G23)*IF(I23=0,1,I23) -> 0
B24: 01.02.04. | N24: =(IF(G24=0,1,G24)*IF(I24=0,1,I24)*L24 )+M24*IF(G24=0,1,G24)*IF(I24=0,1,I24) -> 0 | O24: =N24/Portada!$F$15 -> 0 | S24: =M24*IF(G24=0,1,G24)*IF(I24=0,1,I24) -> 0 | EC24: =(IF(G24=0,1,G24)*IF(I24=0,1,I24)*L24 )+M24*IF(G24=0,1,G24)*IF(I24=0,1,I24) -> 0
B25: 01.02.05. | N25: =(IF(G25=0,1,G25)*IF(I25=0,1,I25)*L25 )+M25*IF(G25=0,1,G25)*IF(I25=0,1,I25) -> 0 | O25: =N25/Portada!$F$15 -> 0 | S25: =M25*IF(G25=0,1,G25)*IF(I25=0,1,I25) -> 0 | EC25: =(IF(G25=0,1,G25)*IF(I25=0,1,I25)*L25 )+M25*IF(G25=0,1,G25)*IF(I25=0,1,I25) -> 0
B26: 01.02.06. | N26: =(IF(G26=0,1,G26)*IF(I26=0,1,I26)*L26 )+M26*IF(G26=0,1,G26)*IF(I26=0,1,I26) -> 0 | O26: =N26/Portada!$F$15 -> 0 | S26: =M26*IF(G26=0,1,G26)*IF(I26=0,1,I26) -> 0 | EC26: =(IF(G26=0,1,G26)*IF(I26=0,1,I26)*L26 )+M26*IF(G26=0,1,G26)*IF(I26=0,1,I26) -> 0
C27: ="TOTAL " &" " & B20 & " " & (C20) -> TOTAL 01.02. Música | N27: =SUM(N21:N26) -> 0 | O27: =SUM(O21:O26) -> 0 | P27: =SUM(P21:P26) -> 0 | Q27: =SUM(Q21:Q26) -> 0 | S27: =SUM(S21:S26) -> 0 | EC27: =SUM(EC21:EC26) -> 0
C28: TOTAL | D28: =C5 -> CAPÍTOL 01.- Guió, música i arxiu | N28: =(N18 + N27) -> 0 | O28: =(O18 + O27) -> 0 | P28: =(P18 + P27) -> 0 | Q28: =(Q18 + Q27) -> 0 | S28: =S18+S27 -> 0 | EC28: =(EC18 + EC27) -> 0
C30: CAPÍTOL 02.- Personal artístic
B31: Núm. Compte
B32: 02.01. | C32: Protagonistes
B33: 02.01.01. | N33: =(IF(G33=0,1,G33)*IF(I33=0,1,I33)*L33 )+M33*IF(G33=0,1,G33)*IF(I33=0,1,I33) -> 0 | O33: =N33/Portada!$F$15 -> 0 | S33: =M33*IF(G33=0,1,G33)*IF(I33=0,1,I33) -> 0 | U33: =IF(L33<>0,(M33/L33)/IF(G33=0,1,G33),0) -> 0 | EC33: =(IF(G33=0,1,G33)*IF(I33=0,1,I33)*L33 )+M33*IF(G33=0,1,G33)*IF(I33=0,1,I33) -> 0
B34: 02.01.02. | N34: =(IF(G34=0,1,G34)*IF(I34=0,1,I34)*L34 )+M34*IF(G34=0,1,G34)*IF(I34=0,1,I34) -> 0 | O34: =N34/Portada!$F$15 -> 0 | S34: =M34*IF(G34=0,1,G34)*IF(I34=0,1,I34) -> 0 | U34: =IF(L34<>0,(M34/L34)/IF(G34=0,1,G34),0) -> 0 | EC34: =(IF(G34=0,1,G34)*IF(I34=0,1,I34)*L34 )+M34*IF(G34=0,1,G34)*IF(I34=0,1,I34) -> 0
B35: 02.01.03. | N35: =(IF(G35=0,1,G35)*IF(I35=0,1,I35)*L35 )+M35*IF(G35=0,1,G35)*IF(I35=0,1,I35) -> 0 | O35: =N35/Portada!$F$15 -> 0 | S35: =M35*IF(G35=0,1,G35)*IF(I35=0,1,I35) -> 0 | U35: =IF(L35<>0,(M35/L35)/IF(G35=0,1,G35),0) -> 0 | EC35: =(IF(G35=0,1,G35)*IF(I35=0,1,I35)*L35 )+M35*IF(G35=0,1,G35)*IF(I35=0,1,I35) -> 0
B36: 02.01.04. | N36: =(IF(G36=0,1,G36)*IF(I36=0,1,I36)*L36 )+M36*IF(G36=0,1,G36)*IF(I36=0,1,I36) -> 0 | O36: =N36/Portada!$F$15 -> 0 | S36: =M36*IF(G36=0,1,G36)*IF(I36=0,1,I36) -> 0 | U36: =IF(L36<>0,(M36/L36)/IF(G36=0,1,G36),0) -> 0 | EC36: =(IF(G36=0,1,G36)*IF(I36=0,1,I36)*L36 )+M36*IF(G36=0,1,G36)*IF(I36=0,1,I36) -> 0
B37: 02.01.05. | M37: 0 | N37: =(IF(G37=0,1,G37)*IF(I37=0,1,I37)*L37 )+M37*IF(G37=0,1,G37)*IF(I37=0,1,I37) -> 0 | O37: =N37/Portada!$F$15 -> 0 | S37: =M37*IF(G37=0,1,G37)*IF(I37=0,1,I37) -> 0 | U37: =IF(L37<>0,(M37/L37)/IF(G37=0,1,G37),0) -> 0 | EC37: =(IF(G37=0,1,G37)*IF(I37=0,1,I37)*L37 )+M37*IF(G37=0,1,G37)*IF(I37=0,1,I37) -> 0
B38: 02.01.06. | N38: =(IF(G38=0,1,G38)*IF(I38=0,1,I38)*L38 )+M38*IF(G38=0,1,G38)*IF(I38=0,1,I38) -> 0 | O38: =N38/Portada!$F$15 -> 0 | S38: =M38*IF(G38=0,1,G38)*IF(I38=0,1,I38) -> 0 | U38: =IF(L38<>0,(M38/L38)/IF(G38=0,1,G38),0) -> 0 | EC38: =(IF(G38=0,1,G38)*IF(I38=0,1,I38)*L38 )+M38*IF(G38=0,1,G38)*IF(I38=0,1,I38) -> 0
B39: 02.01.07. | N39: =(IF(G39=0,1,G39)*IF(I39=0,1,I39)*L39 )+M39*IF(G39=0,1,G39)*IF(I39=0,1,I39) -> 0 | O39: =N39/Portada!$F$15 -> 0 | S39: =M39*IF(G39=0,1,G39)*IF(I39=0,1,I39) -> 0 | U39: =IF(L39<>0,(M39/L39)/IF(G39=0,1,G39),0) -> 0 | EC39: =(IF(G39=0,1,G39)*IF(I39=0,1,I39)*L39 )+M39*IF(G39=0,1,G39)*IF(I39=0,1,I39) -> 0
B40: 02.01.08. | N40: =(IF(G40=0,1,G40)*IF(I40=0,1,I40)*L40 )+M40*IF(G40=0,1,G40)*IF(I40=0,1,I40) -> 0 | O40: =N40/Portada!$F$15 -> 0 | S40: =M40*IF(G40=0,1,G40)*IF(I40=0,1,I40) -> 0 | U40: =IF(L40<>0,(M40/L40)/IF(G40=0,1,G40),0) -> 0 | EC40: =(IF(G40=0,1,G40)*IF(I40=0,1,I40)*L40 )+M40*IF(G40=0,1,G40)*IF(I40=0,1,I40) -> 0
B41: 02.01.09. | N41: =(IF(G41=0,1,G41)*IF(I41=0,1,I41)*L41 )+M41*IF(G41=0,1,G41)*IF(I41=0,1,I41) -> 0 | O41: =N41/Portada!$F$15 -> 0 | S41: =M41*IF(G41=0,1,G41)*IF(I41=0,1,I41) -> 0 | U41: =IF(L41<>0,(M41/L41)/IF(G41=0,1,G41),0) -> 0 | EC41: =(IF(G41=0,1,G41)*IF(I41=0,1,I41)*L41 )+M41*IF(G41=0,1,G41)*IF(I41=0,1,I41) -> 0
B42: 02.01.10. | N42: =(IF(G42=0,1,G42)*IF(I42=0,1,I42)*L42 )+M42*IF(G42=0,1,G42)*IF(I42=0,1,I42) -> 0 | O42: =N42/Portada!$F$15 -> 0 | S42: =M42*IF(G42=0,1,G42)*IF(I42=0,1,I42) -> 0 | U42: =IF(L42<>0,(M42/L42)/IF(G42=0,1,G42),0) -> 0 | EC42: =(IF(G42=0,1,G42)*IF(I42=0,1,I42)*L42 )+M42*IF(G42=0,1,G42)*IF(I42=0,1,I42) -> 0
...

Sheet Pressupost Producció TV
B1: =Portada!B1 -> Actualització a: 12/02/2026 | D1: Producció Audiovisual Televisió (Producció)
A2: Capítols de despesa | D2: Nom / Concepte | E2: Tipologia | G2: Quantitat | H2: NOTES EXPLICATIVES | I2: Unitats | K2: L-TF L-TT A | L2: Cost unitari | N2: Cost total | P2: Temp. Ant. | S2: S.S. | U2: S.S.
E3: E | F3: V | G3: valor numèric | I3: Nº | J3: Tipus | L3: Cost | M3: S.S. | N3: Total | O3: x Cap. | P3: PRESSUPOST | Q3: LIQUIDACIÓ | U3: %
C5: CAPÍTOL 01.- Guió, música i arxiu
B6: Núm. Compte
B7: 01.01. | C7: Guió
B8: 01.01.01. | C8: Argument original o bíblia | N8: =(IF(G8=0,1,G8)*IF(I8=0,1,I8)*L8)+M8*IF(G8=0,1,G8)*IF(I8=0,1,I8) -> 0 | O8: =N8/Portada!$F$15 -> 0 | S8: =M8*IF(G8=0,1,G8)*IF(I8=0,1,I8) -> 0 | EC8: =(IF(G8=0,1,G8)*IF(I8=0,1,I8)*L8 )+M8*IF(G8=0,1,G8)*IF(I8=0,1,I8) -> 0
B9: 01.01.02. | C9: Compra de guió | N9: =(IF(G9=0,1,G9)*IF(I9=0,1,I9)*L9)+M9*IF(G9=0,1,G9)*IF(I9=0,1,I9) -> 0 | O9: =N9/Portada!$F$15 -> 0 | S9: =M9*IF(G9=0,1,G9)*IF(I9=0,1,I9) -> 0 | EC9: =(IF(G9=0,1,G9)*IF(I9=0,1,I9)*L9 )+M9*IF(G9=0,1,G9)*IF(I9=0,1,I9) -> 0
B10: 01.01.03. | C10: Traduccions | N10: =(IF(G10=0,1,G10)*IF(I10=0,1,I10)*L10 )+M10*IF(G10=0,1,G10)*IF(I10=0,1,I10) -> 0 | O10: =N10/Portada!$F$15 -> 0 | S10: =M10*IF(G10=0,1,G10)*IF(I10=0,1,I10) -> 0 | EC10: =(IF(G10=0,1,G10)*IF(I10=0,1,I10)*L10 )+M10*IF(G10=0,1,G10)*IF(I10=0,1,I10) -> 0
B11: 01.01.04. | C11: Transcripcions | N11: =(IF(G11=0,1,G11)*IF(I11=0,1,I11)*L11 )+M11*IF(G11=0,1,G11)*IF(I11=0,1,I11) -> 0 | O11: =N11/Portada!$F$15 -> 0 | S11: =M11*IF(G11=0,1,G11)*IF(I11=0,1,I11) -> 0 | EC11: =(IF(G11=0,1,G11)*IF(I11=0,1,I11)*L11 )+M11*IF(G11=0,1,G11)*IF(I11=0,1,I11) -> 0
B12: 01.01.05. | C12: Imatges d'arxiu | N12: =(IF(G12=0,1,G12)*IF(I12=0,1,I12)*L12 )+M12*IF(G12=0,1,G12)*IF(I12=0,1,I12) -> 0 | O12: =N12/Portada!$F$15 -> 0 | S12: =M12*IF(G12=0,1,G12)*IF(I12=0,1,I12) -> 0 | EC12: =(IF(G12=0,1,G12)*IF(I12=0,1,I12)*L12 )+M12*IF(G12=0,1,G12)*IF(I12=0,1,I12) -> 0
B13: 01.01.06. | C13: Drets de format | N13: =(IF(G13=0,1,G13)*IF(I13=0,1,I13)*L13 )+M13*IF(G13=0,1,G13)*IF(I13=0,1,I13) -> 0 | O13: =N13/Portada!$F$15 -> 0 | S13: =M13*IF(G13=0,1,G13)*IF(I13=0,1,I13) -> 0 | EC13: =(IF(G13=0,1,G13)*IF(I13=0,1,I13)*L13 )+M13*IF(G13=0,1,G13)*IF(I13=0,1,I13) -> 0
B14: 01.01.07. | C14: Premis de Programa | N14: =(IF(G14=0,1,G14)*IF(I14=0,1,I14)*L14 )+M14*IF(G14=0,1,G14)*IF(I14=0,1,I14) -> 0 | O14: =N14/Portada!$F$15 -> 0 | S14: =M14*IF(G14=0,1,G14)*IF(I14=0,1,I14) -> 0 | EC14: =(IF(G14=0,1,G14)*IF(I14=0,1,I14)*L14 )+M14*IF(G14=0,1,G14)*IF(I14=0,1,I14) -> 0
B15: 01.01.08. | N15: =(IF(G15=0,1,G15)*IF(I15=0,1,I15)*L15 )+M15*IF(G15=0,1,G15)*IF(I15=0,1,I15) -> 0 | O15: =N15/Portada!$F$15 -> 0 | S15: =M15*IF(G15=0,1,G15)*IF(I15=0,1,I15) -> 0 | EC15: =(IF(G15=0,1,G15)*IF(I15=0,1,I15)*L15 )+M15*IF(G15=0,1,G15)*IF(I15=0,1,I15) -> 0
B16: 01.01.09. | N16: =(IF(G16=0,1,G16)*IF(I16=0,1,I16)*L16 )+M16*IF(G16=0,1,G16)*IF(I16=0,1,I16) -> 0 | O16: =N16/Portada!$F$15 -> 0 | S16: =M16*IF(G16=0,1,G16)*IF(I16=0,1,I16) -> 0 | EC16: =(IF(G16=0,1,G16)*IF(I16=0,1,I16)*L16 )+M16*IF(G16=0,1,G16)*IF(I16=0,1,I16) -> 0
B17: 01.01.10. | N17: =(IF(G17=0,1,G17)*IF(I17=0,1,I17)*L17 )+M17*IF(G17=0,1,G17)*IF(I17=0,1,I17) -> 0 | O17: =N17/Portada!$F$15 -> 0 | S17: =M17*IF(G17=0,1,G17)*IF(I17=0,1,I17) -> 0 | EC17: =(IF(G17=0,1,G17)*IF(I17=0,1,I17)*L17 )+M17*IF(G17=0,1,G17)*IF(I17=0,1,I17) -> 0
C18: ="TOTAL " &" " & B7 & " " & (C7) -> TOTAL 01.01. Guió | N18: =SUM(N8:N17) -> 0 | O18: =SUM(O8:O17) -> 0 | P18: =SUM(P8:P17) -> 0 | Q18: =SUM(Q8:Q17) -> 0 | S18: =SUM(S8:S17) -> 0 | EC18: =SUM(EC8:EC17) -> 0
B19: Núm. Compte
B20: 01.02. | C20: Música
B21: 01.02.01. | C21: Música original | N21: =(IF(G21=0,1,G21)*IF(I21=0,1,I21)*L21 )+M21*IF(G21=0,1,G21)*IF(I21=0,1,I21) -> 0 | O21: =N21/Portada!$F$15 -> 0 | S21: =M21*IF(G21=0,1,G21)*IF(I21=0,1,I21) -> 0 | EC21: =(IF(G21=0,1,G21)*IF(I21=0,1,I21)*L21 )+M21*IF(G21=0,1,G21)*IF(I21=0,1,I21) -> 0
B22: 01.02.02. | C22: Musica de llibreria | N22: =(IF(G22=0,1,G22)*IF(I22=0,1,I22)*L22 )+M22*IF(G22=0,1,G22)*IF(I22=0,1,I22) -> 0 | O22: =N22/Portada!$F$15 -> 0 | S22: =M22*IF(G22=0,1,G22)*IF(I22=0,1,I22) -> 0 | EC22: =(IF(G22=0,1,G22)*IF(I22=0,1,I22)*L22 )+M22*IF(G22=0,1,G22)*IF(I22=0,1,I22) -> 0
B23: 01.02.03. | C23: Arranjaments | N23: =(IF(G23=0,1,G23)*IF(I23=0,1,I23)*L23 )+M23*IF(G23=0,1,G23)*IF(I23=0,1,I23) -> 0 | O23: =N23/Portada!$F$15 -> 0 | S23: =M23*IF(G23=0,1,G23)*IF(I23=0,1,I23) -> 0 | EC23: =(IF(G23=0,1,G23)*IF(I23=0,1,I23)*L23 )+M23*IF(G23=0,1,G23)*IF(I23=0,1,I23) -> 0
B24: 01.02.04. | N24: =(IF(G24=0,1,G24)*IF(I24=0,1,I24)*L24 )+M24*IF(G24=0,1,G24)*IF(I24=0,1,I24) -> 0 | O24: =N24/Portada!$F$15 -> 0 | S24: =M24*IF(G24=0,1,G24)*IF(I24=0,1,I24) -> 0 | EC24: =(IF(G24=0,1,G24)*IF(I24=0,1,I24)*L24 )+M24*IF(G24=0,1,G24)*IF(I24=0,1,I24) -> 0
B25: 01.02.05. | N25: =(IF(G25=0,1,G25)*IF(I25=0,1,I25)*L25 )+M25*IF(G25=0,1,G25)*IF(I25=0,1,I25) -> 0 | O25: =N25/Portada!$F$15 -> 0 | S25: =M25*IF(G25=0,1,G25)*IF(I25=0,1,I25) -> 0 | EC25: =(IF(G25=0,1,G25)*IF(I25=0,1,I25)*L25 )+M25*IF(G25=0,1,G25)*IF(I25=0,1,I25) -> 0
B26: 01.02.06. | N26: =(IF(G26=0,1,G26)*IF(I26=0,1,I26)*L26 )+M26*IF(G26=0,1,G26)*IF(I26=0,1,I26) -> 0 | O26: =N26/Portada!$F$15 -> 0 | S26: =M26*IF(G26=0,1,G26)*IF(I26=0,1,I26) -> 0 | EC26: =(IF(G26=0,1,G26)*IF(I26=0,1,I26)*L26 )+M26*IF(G26=0,1,G26)*IF(I26=0,1,I26) -> 0
C27: ="TOTAL " &" " & B20 & " " & (C20) -> TOTAL 01.02. Música | N27: =SUM(N21:N26) -> 0 | O27: =SUM(O21:O26) -> 0 | P27: =SUM(P21:P26) -> 0 | Q27: =SUM(Q21:Q26) -> 0 | S27: =SUM(S21:S26) -> 0 | EC27: =SUM(EC21:EC26) -> 0
C28: TOTAL | D28: =C5 -> CAPÍTOL 01.- Guió, música i arxiu | N28: =(N18 + N27) -> 0 | O28: =(O18 + O27) -> 0 | P28: =(P18 + P27) -> 0 | Q28: =(Q18 + Q27) -> 0 | S28: =S18+S27 -> 0 | EC28: =(EC18 + EC27) -> 0
C30: CAPÍTOL 02.- Personal artístic
B31: Núm. Compte
B32: 02.01. | C32: Protagonistes
B33: 02.01.01. | N33: =(IF(G33=0,1,G33)*IF(I33=0,1,I33)*L33 )+M33*IF(G33=0,1,G33)*IF(I33=0,1,I33) -> 0 | O33: =N33/Portada!$F$15 -> 0 | S33: =M33*IF(G33=0,1,G33)*IF(I33=0,1,I33) -> 0 | U33: =IF(L33<>0,(M33/L33)/IF(G33=0,1,G33),0) -> 0 | EC33: =(IF(G33=0,1,G33)*IF(I33=0,1,I33)*L33 )+M33*IF(G33=0,1,G33)*IF(I33=0,1,I33) -> 0
B34: 02.01.02. | N34: =(IF(G34=0,1,G34)*IF(I34=0,1,I34)*L34 )+M34*IF(G34=0,1,G34)*IF(I34=0,1,I34) -> 0 | O34: =N34/Portada!$F$15 -> 0 | S34: =M34*IF(G34=0,1,G34)*IF(I34=0,1,I34) -> 0 | U34: =IF(L34<>0,(M34/L34)/IF(G34=0,1,G34),0) -> 0 | EC34: =(IF(G34=0,1,G34)*IF(I34=0,1,I34)*L34 )+M34*IF(G34=0,1,G34)*IF(I34=0,1,I34) -> 0
B35: 02.01.03. | N35: =(IF(G35=0,1,G35)*IF(I35=0,1,I35)*L35 )+M35*IF(G35=0,1,G35)*IF(I35=0,1,I35) -> 0 | O35: =N35/Portada!$F$15 -> 0 | S35: =M35*IF(G35=0,1,G35)*IF(I35=0,1,I35) -> 0 | U35: =IF(L35<>0,(M35/L35)/IF(G35=0,1,G35),0) -> 0 | EC35: =(IF(G35=0,1,G35)*IF(I35=0,1,I35)*L35 )+M35*IF(G35=0,1,G35)*IF(I35=0,1,I35) -> 0
B36: 02.01.04. | N36: =(IF(G36=0,1,G36)*IF(I36=0,1,I36)*L36 )+M36*IF(G36=0,1,G36)*IF(I36=0,1,I36) -> 0 | O36: =N36/Portada!$F$15 -> 0 | S36: =M36*IF(G36=0,1,G36)*IF(I36=0,1,I36) -> 0 | U36: =IF(L36<>0,(M36/L36)/IF(G36=0,1,G36),0) -> 0 | EC36: =(IF(G36=0,1,G36)*IF(I36=0,1,I36)*L36 )+M36*IF(G36=0,1,G36)*IF(I36=0,1,I36) -> 0
B37: 02.01.05. | N37: =(IF(G37=0,1,G37)*IF(I37=0,1,I37)*L37 )+M37*IF(G37=0,1,G37)*IF(I37=0,1,I37) -> 0 | O37: =N37/Portada!$F$15 -> 0 | S37: =M37*IF(G37=0,1,G37)*IF(I37=0,1,I37) -> 0 | U37: =IF(L37<>0,(M37/L37)/IF(G37=0,1,G37),0) -> 0 | EC37: =(IF(G37=0,1,G37)*IF(I37=0,1,I37)*L37 )+M37*IF(G37=0,1,G37)*IF(I37=0,1,I37) -> 0
B38: 02.01.06. | N38: =(IF(G38=0,1,G38)*IF(I38=0,1,I38)*L38 )+M38*IF(G38=0,1,G38)*IF(I38=0,1,I38) -> 0 | O38: =N38/Portada!$F$15 -> 0 | S38: =M38*IF(G38=0,1,G38)*IF(I38=0,1,I38) -> 0 | U38: =IF(L38<>0,(M38/L38)/IF(G38=0,1,G38),0) -> 0 | EC38: =(IF(G38=0,1,G38)*IF(I38=0,1,I38)*L38 )+M38*IF(G38=0,1,G38)*IF(I38=0,1,I38) -> 0
B39: 02.01.07. | N39: =(IF(G39=0,1,G39)*IF(I39=0,1,I39)*L39 )+M39*IF(G39=0,1,G39)*IF(I39=0,1,I39) -> 0 | O39: =N39/Portada!$F$15 -> 0 | S39: =M39*IF(G39=0,1,G39)*IF(I39=0,1,I39) -> 0 | U39: =IF(L39<>0,(M39/L39)/IF(G39=0,1,G39),0) -> 0 | EC39: =(IF(G39=0,1,G39)*IF(I39=0,1,I39)*L39 )+M39*IF(G39=0,1,G39)*IF(I39=0,1,I39) -> 0
B40: 02.01.08. | N40: =(IF(G40=0,1,G40)*IF(I40=0,1,I40)*L40 )+M40*IF(G40=0,1,G40)*IF(I40=0,1,I40) -> 0 | O40: =N40/Portada!$F$15 -> 0 | S40: =M40*IF(G40=0,1,G40)*IF(I40=0,1,I40) -> 0 | U40: =IF(L40<>0,(M40/L40)/IF(G40=0,1,G40),0) -> 0 | EC40: =(IF(G40=0,1,G40)*IF(I40=0,1,I40)*L40 )+M40*IF(G40=0,1,G40)*IF(I40=0,1,I40) -> 0
B41: 02.01.09. | N41: =(IF(G41=0,1,G41)*IF(I41=0,1,I41)*L41 )+M41*IF(G41=0,1,G41)*IF(I41=0,1,I41) -> 0 | O41: =N41/Portada!$F$15 -> 0 | S41: =M41*IF(G41=0,1,G41)*IF(I41=0,1,I41) -> 0 | U41: =IF(L41<>0,(M41/L41)/IF(G41=0,1,G41),0) -> 0 | EC41: =(IF(G41=0,1,G41)*IF(I41=0,1,I41)*L41 )+M41*IF(G41=0,1,G41)*IF(I41=0,1,I41) -> 0
B42: 02.01.10. | N42: =(IF(G42=0,1,G42)*IF(I42=0,1,I42)*L42 )+M42*IF(G42=0,1,G42)*IF(I42=0,1,I42) -> 0 | O42: =N42/Portada!$F$15 -> 0 | S42: =M42*IF(G42=0,1,G42)*IF(I42=0,1,I42) -> 0 | U42: =IF(L42<>0,(M42/L42)/IF(G42=0,1,G42),0) -> 0 | EC42: =(IF(G42=0,1,G42)*IF(I42=0,1,I42)*L42 )+M42*IF(G42=0,1,G42)*IF(I42=0,1,I42) -> 0
...

Sheet Resum
A1: =Portada!B1 -> Actualització a: 12/02/2026
A3: RESUM PRESSUPOST
C5: PRES. ARRENCADA | D5: PRES. PRODUCCIÓ | E5: TOTALS | F5: COST / CAPÍTOL | G5: OBSERVACIONS
A6: ='Pressupost Producció TV'!C5& "....................................................................." -> CAPÍTOL 01.- Guió, música i arxiu..................................................................... | C6: ='Pressupost Arrencada TV'!N28-AA16 -> 0 | D6: ='Pressupost Producció TV'!N28-AB16 -> 0 | E6: =C6+D6 -> 0 | F6: =E6/Portada!$F$15 -> 0
A7: ='Pressupost Producció TV'!C30& "..........................................................................." -> CAPÍTOL 02.- Personal artístic........................................................................... | C7: ='Pressupost Arrencada TV'!N157 -> 0 | D7: ='Pressupost Producció TV'!N157 -> 0 | E7: =C7+D7 -> 0 | F7: =E7/Portada!$F$15 -> 0 | Z7: Valors de llista L-TF / L-TT / A | AA7: L-TF
A8: ='Pressupost Producció TV'!C159& "............................................................................" -> CAPÍTOL 03.- Equip programa............................................................................ | C8: ='Pressupost Arrencada TV'!N211-AA21 -> 0 | D8: ='Pressupost Producció TV'!N211-AB21 -> 0 | E8: =C8+D8 -> 0 | F8: =E8/Portada!$F$15 -> 0 | AA8: L-TT
A9: ='Pressupost Producció TV'!C213& "........................................" -> CAPÍTOL 04.-Serveis artístics i de postproducció........................................ | C9: ='Pressupost Arrencada TV'!N272 -> 0 | D9: ='Pressupost Producció TV'!N272 -> 0 | E9: =C9+D9 -> 0 | F9: =E9/Portada!$F$15 -> 0 | AA9: A
A10: ='Pressupost Producció TV'!C274& "......................................................." -> CAPÍTOL 05.-Serveis tècnics / Explotació....................................................... | C10: ='Pressupost Arrencada TV'!N323 -> 0 | D10: ='Pressupost Producció TV'!N323 -> 0 | E10: =C10+D10 -> 0 | F10: =E10/Portada!$F$15 -> 0 | AA10: Pressupost Arrencada TV | AB10: Pressupost Producció TV | AC10: Realitats Arrencada TV | AD10: Realitats Producció TV
A11: ='Pressupost Producció TV'!C325& "................................................................................." -> CAPÍTOL 06.- Escenografia................................................................................. | C11: ='Pressupost Arrencada TV'!N361 -> 0 | D11: ='Pressupost Producció TV'!N361 -> 0 | E11: =C11+D11 -> 0 | F11: =E11/Portada!$F$15 -> 0 | Z11: Cost total SS | AA11: ='Pressupost Arrencada TV'!S471 -> 0 | AB11: ='Pressupost Producció TV'!S471 -> 0
A12: ='Pressupost Producció TV'!C363& "...................................................." -> CAPÍTOL 07.- Estudis rodatge/sonorització.................................................... | C12: ='Pressupost Arrencada TV'!N384 -> 0 | D12: ='Pressupost Producció TV'!N384 -> 0 | E12: =C12+D12 -> 0 | F12: =E12/Portada!$F$15 -> 0 | Z12: IMPORTS QUE NO COMPUTEN PER AL BENEFICI INDUSTRIAL.
A13: ='Pressupost Producció TV'!C386& "............................................................." -> CAPÍTOL 08.- Despeses de producció............................................................. | C13: ='Pressupost Arrencada TV'!N435 -> 0 | D13: ='Pressupost Producció TV'!N435 -> 0 | E13: =C13+D13 -> 0 | F13: =E13/Portada!$F$15 -> 0 | Y13: Imports del capítol 1 que son fixos | Z13: ='Pressupost Producció TV'!B13 & " " &'Pressupost Producció TV'!C13 -> 01.01.06. Drets de format | AA13: ='Pressupost Arrencada TV'!N13 -> 0 | AB13: ='Pressupost Producció TV'!N13 -> 0 | AC13: ='Realitats Arrencada TV'!F13 -> 0 | AD13: ='Realitats Producció TV'!F13 -> 0
A14: ='Pressupost Producció TV'!C437& ".............................................................................." -> CAPÍTOL 09.- Assegurances.............................................................................. | C14: ='Pressupost Arrencada TV'!N445 -> 0 | D14: ='Pressupost Producció TV'!N445 -> 0 | E14: =C14+D14 -> 0 | F14: =E14/Portada!$F$15 -> 0 | Z14: ='Pressupost Producció TV'!B14 & " " &'Pressupost Producció TV'!C14 -> 01.01.07. Premis de Programa | AA14: ='Pressupost Arrencada TV'!N14 -> 0 | AB14: ='Pressupost Producció TV'!N14 -> 0 | AC14: ='Realitats Arrencada TV'!F14 -> 0 | AD14: ='Realitats Producció TV'!F14 -> 0
A15: ='Pressupost Producció TV'!C447& "....................................................................." -> CAPÍTOL 10.- Despeses generals..................................................................... | C15: =('Pressupost Arrencada TV'!N468-AA27) -> 0 | D15: =('Pressupost Producció TV'!N468-AB27) -> 0 | E15: =C15+D15 -> 0 | F15: =E15/Portada!$F$15 -> 0
Z16: Total imports a restar al TOTAL resum Capítol 1 | AA16: =SUM(AA13:AA15) -> 0 | AB16: =SUM(AB13:AB15) -> 0 | AC16: =SUM(AC13:AC15) -> 0 | AD16: =SUM(AD13:AD15) -> 0
B17: COST DE LA PRODUCCIÓ ......................... | C17: =SUM(C6:C16) -> 0 | D17: =SUM(D6:D16) -> 0 | E17: =SUM(E6:E16) -> 0 | F17: =SUM(F6:F16) -> 0 | G17: Subtotal
B18: Despeses d'estructura + Imprevistos (màx 3 %) .............. | C18: =AA33 -> 0 | D18: =AB33 -> 0 | E18: =C18+D18 -> 0 | F18: =E18/Portada!$F$15 -> 0 | G18: Límit màxim conjunt: 13% o 11% del subtotal | Y18: Imports del CAPITOL 3 que son d'ESTRUCTURA | Z18: ='Pressupost Producció TV'!B161 & " " &'Pressupost Producció TV'!C161 -> 03.01. Direcció | AA18: =SUMIF('Pressupost Arrencada TV'!E162:'Pressupost Arrencada TV'!E182,"E",'Pressupost Arrencada TV'!N162:'Pressupost Arrencada TV'!N182) -> 0 | AB18: =SUMIF('Pressupost Producció TV'!E162:'Pressupost Producció TV'!E182,"E",'Pressupost Producció TV'!N162:'Pressupost Producció TV'!N182) -> 0 | AC18: ='Realitats Arrencada TV'!F183 -> 0 | AD18: ='Realitats Producció TV'!F183 -> 0
B19: ="Benefici Industrial " & (Portada!I17*100) & " % " & "........................................................" -> Benefici Industrial 10 % ........................................................ | C19: =C17*Portada!I17 -> 0 | D19: =D17*Portada!I17 -> 0 | E19: =C19+D19 -> 0 | F19: =E19/Portada!$F$15 -> 0 | Z19: ='Pressupost Producció TV'!B185 & " " &'Pressupost Producció TV'!C185 -> 03.02. Producció | AA19: =SUMIF('Pressupost Arrencada TV'!E186:'Pressupost Arrencada TV'!E196,"E",'Pressupost Arrencada TV'!N186:'Pressupost Arrencada TV'!N196) -> 0 | AB19: =SUMIF('Pressupost Producció TV'!E186:'Pressupost Producció TV'!E196,"E",'Pressupost Producció TV'!N186:'Pressupost Producció TV'!N196) -> 0 | AC19: ='Realitats Arrencada TV'!F197 -> 0 | AD19: ='Realitats Producció TV'!F197 -> 0
B20: ="Despeses excloses del càlcul del Benefici industrial" & "......." -> Despeses excloses del càlcul del Benefici industrial....... | C20: =AA16+AA21+AA27 -> 0 | D20: =AB16+AB21+AB27 -> 0 | E20: =C20+D20 -> 0 | F20: =E20/Portada!$F$15 -> 0 | Z20: ='Pressupost Producció TV'!B199 & " " &'Pressupost Producció TV'!C199 -> 03.03. Realització / Imatge | AA20: =SUMIF('Pressupost Arrencada TV'!E200:'Pressupost Arrencada TV'!E209,"E",'Pressupost Arrencada TV'!N200:'Pressupost Arrencada TV'!N209) -> 0 | AB20: =SUMIF('Pressupost Producció TV'!E200:'Pressupost Producció TV'!E209,"E",'Pressupost Producció TV'!N200:'Pressupost Producció TV'!N209) -> 0 | AC20: ='Realitats Arrencada TV'!F210 -> 0 | AD20: ='Realitats Producció TV'!F210 -> 0
B21: COST TOTAL PRODUCCIÓ .................... | C21: =C17+C19+C20 -> 0 | D21: =D17+D19+D20 -> 0 | E21: =E17+E19+E20 -> 0 | F21: =F17+F19+F20 -> 0 | Z21: Total imports a restar al TOTAL resum Capítol 3 | AA21: =SUM(AA18:AA20) -> 0 | AB21: =SUM(AB18:AB20) -> 0 | AC21: =SUM(AC18:AC20) -> 0 | AD21: =SUM(AD18:AD20) -> 0
Y23: Imports del CAPÍTOL 10 que son d'ESTRUCTURA i alguns epígrafs fixos, encara que no siguin d'ESTRUCTURA | Z23: ='Pressupost Producció TV'!C447 & " d'ESTRUCTURA menys els epígrafs 11, 13 i 14)" -> CAPÍTOL 10.- Despeses generals d'ESTRUCTURA menys els epígrafs 11, 13 i 14) | AA23: =SUMIF('Pressupost Arrencada TV'!E450:'Pressupost Arrencada TV'!E459,"E",'Pressupost Arrencada TV'!N459:'Pressupost Arrencada TV'!N459)+ SUMIF('Pressupost Arrencada TV'!E461,"E",'Pressupost Arrencada TV'!N461) -> 0 | AB23: =SUMIF('Pressupost Producció TV'!E450:'Pressupost Producció TV'!E459,"E",'Pressupost Producció TV'!N459:'Pressupost Producció TV'!N459)+ SUMIF('Pressupost Producció TV'!E461,"E",'Pressupost Producció TV'!N461) -> 0 | AC23: {=SUM('Realitats Arrencada TV'!F450:F459+'Realitats Arrencada TV'!F461)} -> 0 | AD23: {=SUM('Realitats Producció TV'!F450:F459+'Realitats Producció TV'!F461)} -> 0
Z24: ='Pressupost Producció TV'!B460 & " " &'Pressupost Producció TV'!C460 -> 10.01.11. Despeses financeres | AA24: ='Pressupost Arrencada TV'!N460 -> 0 | AB24: ='Pressupost Producció TV'!N460 -> 0 | AC24: ='Realitats Arrencada TV'!F460 -> 0 | AD24: ='Realitats Producció TV'!F460 -> 0
Z25: ='Pressupost Producció TV'!B462 & " " &'Pressupost Producció TV'!C462 -> 10.01.13. Despeses especials | AA25: ='Pressupost Arrencada TV'!N462 -> 0 | AB25: ='Pressupost Producció TV'!N462 -> 0 | AC25: ='Realitats Arrencada TV'!F462 -> 0 | AD25: ='Realitats Producció TV'!F462 -> 0
Z26: ='Pressupost Producció TV'!B463 & " " &'Pressupost Producció TV'!C463 -> 10.01.14. Despeses especials | AA26: ='Pressupost Arrencada TV'!N463 -> 0 | AB26: ='Pressupost Producció TV'!N463 -> 0 | AC26: ='Realitats Arrencada TV'!F463 -> 0 | AD26: ='Realitats Producció TV'!F463 -> 0
Z27: Total imports a restar al TOTAL Resum Capítol 10 | AA27: =SUM(AA23:AA26) -> 0 | AB27: =SUM(AB23:AB26) -> 0 | AC27: =SUM(AC23:AC26) -> 0 | AD27: =SUM(AD23:AD26) -> 0
Z29: IMPORTS DESPESES D'ESTRUCTURA + IMPREVISTOS (MÀX 3%)
Z30: ='Pressupost Producció TV'!B159 & " " &'Pressupost Producció TV'!C159 -> CAPÍTOL 03.- Equip programa | AA30: =AA21 -> 0 | AB30: =AB21 -> 0 | AC30: =AC21 -> 0 | AD30: =AD21 -> 0
Z31: ='Pressupost Producció TV'!B461 & " " &'Pressupost Producció TV'!C461 -> 10.01.12. Imprevistos | AA31: ='Pressupost Arrencada TV'!N461 -> 0 | AB31: ='Pressupost Producció TV'!N461 -> 0 | AC31: =('Realitats Arrencada TV'!F461) -> 0 | AD31: =('Realitats Producció TV'!F461) -> 0
Z32: De la 10.01.01 fins a 10.01.10 si son d'estructura | AA32: =SUMIF('Pressupost Arrencada TV'!E450:'Pressupost Arrencada TV'!E459,"E",'Pressupost Arrencada TV'!N450:'Pressupost Arrencada TV'!N459) -> 0 | AB32: =SUMIF('Pressupost Producció TV'!E450:'Pressupost Producció TV'!E459,"E",'Pressupost Producció TV'!N450:'Pressupost Producció TV'!N459) -> 0 | AC32: =SUM('Realitats Arrencada TV'!F450 : 'Realitats Arrencada TV'!F459) -> 0 | AD32: =SUM('Realitats Producció TV'!F450 : 'Realitats Producció TV'!F459) -> 0
Z33: Total imports Estructura + Imprevistos | AA33: =SUM(AA30:AA32) -> 0 | AB33: =SUM(AB30:AB32) -> 0 | AC33: =SUM(AC30:AC32) -> 0 | AD33: =SUM(AD30:AD32) -> 0
AA43: Calculs SS | AB43: L-TF | AC43: Import | AD43: 5101.2
AC44: Percentage | AD44: 0.3215
AC45: Tope | AD45: =ROUNDUP(AD43*AD44,2) -> 1640.04
AB47: L-TT | AC47: Import | AD47: 5101.2
AC48: Percentage | AD48: 0.3335
AC49: Tope | AD49: =ROUNDUP(AD47*AD48,2) -> 1701.26
AA52: Quota solidaritat | AB52: Des de | AC52: fins | AD52: % Empresa
AA53: Tram 1 | AB53: 5101.21 | AC53: 5611.32 | AD53: 0.0096
AA54: Tram 2 | AB54: 5611.33 | AC54: 5970.19 | AD54: 0.0104
AA55: Tram 3 | AB55: 7651.81 | AD55: 0.0122

Sheet Portada
B1: Actualització a: 12/02/2026
I2: Logo Programa
F3: RESUM PRESSUPOST
F5: TÍTOL: | M5: SETMANAL
C6: Dades Productora | M6: DIÀRIA
F7: PRODUCCIÓ EXECUTIVA: | M7: MENSUAL
F8: DIRECCIÓ: | M8: ESPECIAL
F9: REALITZACIÓ: | M9: CAP DE SETMANA
F10: PRODUCCIÓ:
H12: PRESSUPOST ARRENCADA | I12: =Resum!C21 -> 0
C13: TIPUS DE PRODUCCIÓ (pel càlcul del benefici industrial) | F13: 2 | H13: PRESSUPOST PRODUCCIÓ | I13: =Resum!D21 -> 0
C14: TEMPORADA (1 per primera temporada) | F14: 1 | H14: TOTAL PRESSUPOST | I14: =I12+I13 -> 0
C15: NUM. CAPÍTOLS | F15: 1 | H15: COST PER CAPÍTOL SENSE ARRENCADA | I15: =I13/F15 -> 0
C16: DURADA (minuts) | H16: COST PER CAPÍTOL | I16: =I14/F15 -> 0 | M16: Catalunya Ràdio
C17: PREVISIÓ EMISSIÓ | H17: % BENEFICI INDUSTRIAL TV | I17: =IF($G$31=1,10%,8%) -> 0.1 | M17: ICatFm
C18: FORMAT: | H18: IMPORT BENEFICI INDUSTRIAL | I18: =Resum!C19+Resum!D19 -> 0 | M18: Catalunya Informació
M19: Catalunya Música
C20: TIMINGS PRODUCCIÓ | F20: Preproducció | H20: COST/MINUT PRODUCCIÓ | I20: =(I12 + I13)/(F15*F16) -> #DIV/0! | M20: TV3
F21: Producció | H21: COST/HORA PRODUCCIÓ | I21: =((I12 +I13)/(F15*F16)) * 60 -> #DIV/0! | M21: 3/24
F22: Edició | H22: INGRESSOS | M22: Súper3 / 33
M23: ES3
F24: Canal:
C25: IMPORT A LIQUIDAR | D25: =(Resum!E17 + Resum!E20) -> 0
H27: Data presentació projecte:
H28: Data aprovació/rebuig:
F31: Producció claus en mà | G31: 1
F32: Producció híbrida o Tira diària

Sheet Realitats Arrencada TV
B1: =Portada!B1 -> Actualització a: 12/02/2026 | D1: Realitats Producció TV (Arrencada)
A2: Capítols de despesa | D2: Nom / Concepte | E2: Pressupostat | F2: Realitat | G2: Diferència
C5: ='Pressupost Arrencada TV'!C5 -> CAPÍTOL 01.- Guió, música i arxiu
B6: ='Pressupost Arrencada TV'!B6 -> Núm. Compte
B7: ='Pressupost Arrencada TV'!B7 -> 01.01. | C7: ='Pressupost Arrencada TV'!C7 -> Guió
B8: ='Pressupost Arrencada TV'!B8 -> 01.01.01. | C8: ='Pressupost Arrencada TV'!C8 -> Argument original o bíblia | D8: ='Pressupost Arrencada TV'!D8 -> 0 | E8: ='Pressupost Arrencada TV'!N8 -> 0 | G8: =F8-E8 -> 0 | DL8: =(IF(#REF!=0,1,#REF!)*IF(#REF!=0,1,#REF!)*#REF! )+#REF!*IF(#REF!=0,1,#REF!)*IF(#REF!=0,1,#REF!) -> #REF!
B9: ='Pressupost Arrencada TV'!B9 -> 01.01.02. | C9: ='Pressupost Arrencada TV'!C9 -> Compra de guió | D9: ='Pressupost Arrencada TV'!D9 -> 0 | E9: ='Pressupost Arrencada TV'!N9 -> 0 | G9: =F9-E9 -> 0 | DL9: =(IF(#REF!=0,1,#REF!)*IF(#REF!=0,1,#REF!)*#REF! )+#REF!*IF(#REF!=0,1,#REF!)*IF(#REF!=0,1,#REF!) -> #REF!
B10: ='Pressupost Arrencada TV'!B10 -> 01.01.03. | C10: ='Pressupost Arrencada TV'!C10 -> Traduccions | D10: ='Pressupost Arrencada TV'!D10 -> 0 | E10: ='Pressupost Arrencada TV'!N10 -> 0 | G10: =F10-E10 -> 0 | DL10: =(IF(#REF!=0,1,#REF!)*IF(#REF!=0,1,#REF!)*#REF! )+#REF!*IF(#REF!=0,1,#REF!)*IF(#REF!=0,1,#REF!) -> #REF!
B11: ='Pressupost Arrencada TV'!B11 -> 01.01.04. | C11: ='Pressupost Arrencada TV'!C11 -> Transcripcions | D11: ='Pressupost Arrencada TV'!D11 -> 0 | E11: ='Pressupost Arrencada TV'!N11 -> 0 | G11: =F11-E11 -> 0 | DL11: =(IF(#REF!=0,1,#REF!)*IF(#REF!=0,1,#REF!)*#REF! )+#REF!*IF(#REF!=0,1,#REF!)*IF(#REF!=0,1,#REF!) -> #REF!
B12: ='Pressupost Arrencada TV'!B12 -> 01.01.05. | C12: ='Pressupost Arrencada TV'!C12 -> Imatges d'arxiu | D12: ='Pressupost Arrencada TV'!D12 -> 0 | E12: ='Pressupost Arrencada TV'!N12 -> 0 | G12: =F12-E12 -> 0 | DL12: =(IF(#REF!=0,1,#REF!)*IF(#REF!=0,1,#REF!)*#REF! )+#REF!*IF(#REF!=0,1,#REF!)*IF(#REF!=0,1,#REF!) -> #REF!
B13: ='Pressupost Arrencada TV'!B13 -> 01.01.06. | C13: ='Pressupost Arrencada TV'!C13 -> Drets de format | D13: ='Pressupost Arrencada TV'!D13 -> 0 | E13: ='Pressupost Arrencada TV'!N13 -> 0 | G13: =F13-E13 -> 0 | DL13: =(IF(#REF!=0,1,#REF!)*IF(#REF!=0,1,#REF!)*#REF! )+#REF!*IF(#REF!=0,1,#REF!)*IF(#REF!=0,1,#REF!) -> #REF!
B14: ='Pressupost Arrencada TV'!B14 -> 01.01.07. | C14: ='Pressupost Arrencada TV'!C14 -> Premis de Programa | D14: ='Pressupost Arrencada TV'!D14 -> 0 | E14: ='Pressupost Arrencada TV'!N14 -> 0 | G14: =F14-E14 -> 0 | DL14: =(IF(#REF!=0,1,#REF!)*IF(#REF!=0,1,#REF!)*#REF! )+#REF!*IF(#REF!=0,1,#REF!)*IF(#REF!=0,1,#REF!) -> #REF!
B15: ='Pressupost Arrencada TV'!B15 -> 01.01.08. | C15: ='Pressupost Arrencada TV'!C15 -> 0 | D15: ='Pressupost Arrencada TV'!D15 -> 0 | E15: ='Pressupost Arrencada TV'!N15 -> 0 | G15: =F15-E15 -> 0 | DL15: =(IF(#REF!=0,1,#REF!)*IF(#REF!=0,1,#REF!)*#REF! )+#REF!*IF(#REF!=0,1,#REF!)*IF(#REF!=0,1,#REF!) -> #REF!
B16: ='Pressupost Arrencada TV'!B16 -> 01.01.09. | C16: ='Pressupost Arrencada TV'!C16 -> 0 | D16: ='Pressupost Arrencada TV'!D16 -> 0 | E16: ='Pressupost Arrencada TV'!N16 -> 0 | G16: =F16-E16 -> 0 | DL16: =(IF(#REF!=0,1,#REF!)*IF(#REF!=0,1,#REF!)*#REF! )+#REF!*IF(#REF!=0,1,#REF!)*IF(#REF!=0,1,#REF!) -> #REF!
B17: ='Pressupost Arrencada TV'!B17 -> 01.01.10. | C17: ='Pressupost Arrencada TV'!C17 -> 0 | D17: ='Pressupost Arrencada TV'!D17 -> 0 | E17: ='Pressupost Arrencada TV'!N17 -> 0 | G17: =F17-E17 -> 0 | DL17: =(IF(#REF!=0,1,#REF!)*IF(#REF!=0,1,#REF!)*#REF! )+#REF!*IF(#REF!=0,1,#REF!)*IF(#REF!=0,1,#REF!) -> #REF!
C18: ='Pressupost Arrencada TV'!C18 -> TOTAL 01.01. Guió | D18: ='Pressupost Arrencada TV'!D18 -> 0 | E18: ='Pressupost Arrencada TV'!N18 -> 0 | F18: =SUM(F8:F17) -> 0 | G18: =SUM(G8:G17) -> 0 | DL18: =SUM(DL8:DL17) -> #REF!
B19: ='Pressupost Arrencada TV'!B19 -> Núm. Compte
B20: ='Pressupost Arrencada TV'!B20 -> 01.02. | C20: ='Pressupost Arrencada TV'!C20 -> Música
B21: ='Pressupost Arrencada TV'!B21 -> 01.02.01. | C21: ='Pressupost Arrencada TV'!C21 -> Música original | D21: ='Pressupost Arrencada TV'!D21 -> 0 | E21: ='Pressupost Arrencada TV'!N21 -> 0 | G21: =F21-E21 -> 0 | DL21: =(IF(#REF!=0,1,#REF!)*IF(#REF!=0,1,#REF!)*#REF! )+#REF!*IF(#REF!=0,1,#REF!)*IF(#REF!=0,1,#REF!) -> #REF!
B22: ='Pressupost Arrencada TV'!B22 -> 01.02.02. | C22: ='Pressupost Arrencada TV'!C22 -> Musica de llibreria | D22: ='Pressupost Arrencada TV'!D22 -> 0 | E22: ='Pressupost Arrencada TV'!N22 -> 0 | G22: =F22-E22 -> 0 | DL22: =(IF(#REF!=0,1,#REF!)*IF(#REF!=0,1,#REF!)*#REF! )+#REF!*IF(#REF!=0,1,#REF!)*IF(#REF!=0,1,#REF!) -> #REF!
B23: ='Pressupost Arrencada TV'!B23 -> 01.02.03. | C23: ='Pressupost Arrencada TV'!C23 -> Arranjaments | D23: ='Pressupost Arrencada TV'!D23 -> 0 | E23: ='Pressupost Arrencada TV'!N23 -> 0 | G23: =F23-E23 -> 0 | DL23: =(IF(#REF!=0,1,#REF!)*IF(#REF!=0,1,#REF!)*#REF! )+#REF!*IF(#REF!=0,1,#REF!)*IF(#REF!=0,1,#REF!) -> #REF!
B24: ='Pressupost Arrencada TV'!B24 -> 01.02.04. | C24: ='Pressupost Arrencada TV'!C24 -> 0 | D24: ='Pressupost Arrencada TV'!D24 -> 0 | E24: ='Pressupost Arrencada TV'!N24 -> 0 | G24: =F24-E24 -> 0 | DL24: =(IF(#REF!=0,1,#REF!)*IF(#REF!=0,1,#REF!)*#REF! )+#REF!*IF(#REF!=0,1,#REF!)*IF(#REF!=0,1,#REF!) -> #REF!
B25: ='Pressupost Arrencada TV'!B25 -> 01.02.05. | C25: ='Pressupost Arrencada TV'!C25 -> 0 | D25: ='Pressupost Arrencada TV'!D25 -> 0 | E25: ='Pressupost Arrencada TV'!N25 -> 0 | G25: =F25-E25 -> 0 | DL25: =(IF(#REF!=0,1,#REF!)*IF(#REF!=0,1,#REF!)*#REF! )+#REF!*IF(#REF!=0,1,#REF!)*IF(#REF!=0,1,#REF!) -> #REF!
B26: ='Pressupost Arrencada TV'!B26 -> 01.02.06. | C26: ='Pressupost Arrencada TV'!C26 -> 0 | D26: ='Pressupost Arrencada TV'!D26 -> 0 | E26: ='Pressupost Arrencada TV'!N26 -> 0 | G26: =F26-E26 -> 0 | DL26: =(IF(#REF!=0,1,#REF!)*IF(#REF!=0,1,#REF!)*#REF! )+#REF!*IF(#REF!=0,1,#REF!)*IF(#REF!=0,1,#REF!) -> #REF!
C27: ='Pressupost Arrencada TV'!C27 -> TOTAL 01.02. Música | D27: ='Pressupost Arrencada TV'!D27 -> 0 | E27: ='Pressupost Arrencada TV'!N27 -> 0 | F27: =SUM(F21:F26) -> 0 | G27: =SUM(G21:G26) -> 0 | DL27: =SUM(DL21:DL26) -> #REF!
C28: ="TOTAL" & " " &C5 -> TOTAL CAPÍTOL 01.- Guió, música i arxiu | E28: ='Pressupost Arrencada TV'!N28 -> 0 | F28: =F18 +F27 -> 0 | G28: =G18 +G27 -> 0 | DL28: =(DL18 + DL27) -> #REF!
C30: ='Pressupost Arrencada TV'!C30 -> CAPÍTOL 02.- Personal artístic
B31: ='Pressupost Arrencada TV'!B31 -> Núm. Compte
B32: ='Pressupost Arrencada TV'!B32 -> 02.01. | C32: ='Pressupost Arrencada TV'!C32 -> Protagonistes
B33: ='Pressupost Arrencada TV'!B33 -> 02.01.01. | C33: ='Pressupost Arrencada TV'!C33 | D33: ='Pressupost Arrencada TV'!D33 -> 0 | E33: ='Pressupost Arrencada TV'!N33 -> 0 | G33: =F33-E33 -> 0 | DL33: =(IF(#REF!=0,1,#REF!)*IF(#REF!=0,1,#REF!)*#REF! )+#REF!*IF(#REF!=0,1,#REF!)*IF(#REF!=0,1,#REF!) -> #REF!
B34: ='Pressupost Arrencada TV'!B34 -> 02.01.02. | C34: ='Pressupost Arrencada TV'!C34 -> 0 | D34: ='Pressupost Arrencada TV'!D34 -> 0 | E34: ='Pressupost Arrencada TV'!N34 -> 0 | G34: =F34-E34 -> 0 | DL34: =(IF(#REF!=0,1,#REF!)*IF(#REF!=0,1,#REF!)*#REF! )+#REF!*IF(#REF!=0,1,#REF!)*IF(#REF!=0,1,#REF!) -> #REF!
B35: ='Pressupost Arrencada TV'!B35 -> 02.01.03. | C35: ='Pressupost Arrencada TV'!C35 -> 0 | D35: ='Pressupost Arrencada TV'!D35 -> 0 | E35: ='Pressupost Arrencada TV'!N35 -> 0 | G35: =F35-E35 -> 0 | DL35: =(IF(#REF!=0,1,#REF!)*IF(#REF!=0,1,#REF!)*#REF! )+#REF!*IF(#REF!=0,1,#REF!)*IF(#REF!=0,1,#REF!) -> #REF!
B36: ='Pressupost Arrencada TV'!B36 -> 02.01.04. | C36: ='Pressupost Arrencada TV'!C36 -> 0 | D36: ='Pressupost Arrencada TV'!D36 -> 0 | E36: ='Pressupost Arrencada TV'!N36 -> 0 | G36: =F36-E36 -> 0 | DL36: =(IF(#REF!=0,1,#REF!)*IF(#REF!=0,1,#REF!)*#REF! )+#REF!*IF(#REF!=0,1,#REF!)*IF(#REF!=0,1,#REF!) -> #REF!
B37: ='Pressupost Arrencada TV'!B37 -> 02.01.05. | C37: ='Pressupost Arrencada TV'!C37 -> 0 | D37: ='Pressupost Arrencada TV'!D37 -> 0 | E37: ='Pressupost Arrencada TV'!N37 -> 0 | G37: =F37-E37 -> 0 | DL37: =(IF(#REF!=0,1,#REF!)*IF(#REF!=0,1,#REF!)*#REF! )+#REF!*IF(#REF!=0,1,#REF!)*IF(#REF!=0,1,#REF!) -> #REF!
B38: ='Pressupost Arrencada TV'!B38 -> 02.01.06. | C38: ='Pressupost Arrencada TV'!C38 -> 0 | D38: ='Pressupost Arrencada TV'!D38 -> 0 | E38: ='Pressupost Arrencada TV'!N38 -> 0 | G38: =F38-E38 -> 0 | DL38: =(IF(#REF!=0,1,#REF!)*IF(#REF!=0,1,#REF!)*#REF! )+#REF!*IF(#REF!=0,1,#REF!)*IF(#REF!=0,1,#REF!) -> #REF!
B39: ='Pressupost Arrencada TV'!B39 -> 02.01.07. | C39: ='Pressupost Arrencada TV'!C39 -> 0 | D39: ='Pressupost Arrencada TV'!D39 -> 0 | E39: ='Pressupost Arrencada TV'!N39 -> 0 | G39: =F39-E39 -> 0 | DL39: =(IF(#REF!=0,1,#REF!)*IF(#REF!=0,1,#REF!)*#REF! )+#REF!*IF(#REF!=0,1,#REF!)*IF(#REF!=0,1,#REF!) -> #REF!
B40: ='Pressupost Arrencada TV'!B40 -> 02.01.08. | C40: ='Pressupost Arrencada TV'!C40 -> 0 | D40: ='Pressupost Arrencada TV'!D40 -> 0 | E40: ='Pressupost Arrencada TV'!N40 -> 0 | G40: =F40-E40 -> 0 | DL40: =(IF(#REF!=0,1,#REF!)*IF(#REF!=0,1,#REF!)*#REF! )+#REF!*IF(#REF!=0,1,#REF!)*IF(#REF!=0,1,#REF!) -> #REF!
B41: ='Pressupost Arrencada TV'!B41 -> 02.01.09. | C41: ='Pressupost Arrencada TV'!C41 -> 0 | D41: ='Pressupost Arrencada TV'!D41 -> 0 | E41: ='Pressupost Arrencada TV'!N41 -> 0 | G41: =F41-E41 -> 0 | DL41: =(IF(#REF!=0,1,#REF!)*IF(#REF!=0,1,#REF!)*#REF! )+#REF!*IF(#REF!=0,1,#REF!)*IF(#REF!=0,1,#REF!) -> #REF!
B42: ='Pressupost Arrencada TV'!B42 -> 02.01.10. | C42: ='Pressupost Arrencada TV'!C42 -> 0 | D42: ='Pressupost Arrencada TV'!D42 -> 0 | E42: ='Pressupost Arrencada TV'!N42 -> 0 | G42: =F42-E42 -> 0 | DL42: =(IF(#REF!=0,1,#REF!)*IF(#REF!=0,1,#REF!)*#REF! )+#REF!*IF(#REF!=0,1,#REF!)*IF(#REF!=0,1,#REF!) -> #REF!
C43: ="TOTAL " &" " & B32 & " " & (C32) -> TOTAL 02.01. Protagonistes | D43: ='Pressupost Arrencada TV'!D43 -> 0 | E43: ='Pressupost Arrencada TV'!N43 -> 0 | F43: =SUM(F33:F42) -> 0 | G43: =SUM(G33:G42) -> 0 | DL43: =SUM(DL33:DL42) -> #REF!
...

Sheet Realitats Producció TV
B1: =Portada!B1 -> Actualització a: 12/02/2026 | D1: Realitats Producció TV (Producció)
A2: Capítols de despesa | D2: Nom / Concepte | E2: Pressupostat | F2: Realitat | G2: Diferència
C5: ='Pressupost Producció TV'!C5 -> CAPÍTOL 01.- Guió, música i arxiu
B6: ='Pressupost Producció TV'!B6 -> Núm. Compte
B7: ='Pressupost Producció TV'!B7 -> 01.01. | C7: ='Pressupost Producció TV'!C7 -> Guió
B8: ='Pressupost Producció TV'!B8 -> 01.01.01. | C8: ='Pressupost Producció TV'!C8 -> Argument original o bíblia | D8: ='Pressupost Producció TV'!D8 -> 0 | E8: ='Pressupost Producció TV'!N8 -> 0 | G8: =F8-E8 -> 0 | DL8: =(IF(#REF!=0,1,#REF!)*IF(#REF!=0,1,#REF!)*#REF! )+#REF!*IF(#REF!=0,1,#REF!)*IF(#REF!=0,1,#REF!) -> #REF!
B9: ='Pressupost Producció TV'!B9 -> 01.01.02. | C9: ='Pressupost Producció TV'!C9 -> Compra de guió | D9: ='Pressupost Producció TV'!D9 -> 0 | E9: ='Pressupost Producció TV'!N9 -> 0 | G9: =F9-E9 -> 0 | DL9: =(IF(#REF!=0,1,#REF!)*IF(#REF!=0,1,#REF!)*#REF! )+#REF!*IF(#REF!=0,1,#REF!)*IF(#REF!=0,1,#REF!) -> #REF!
B10: ='Pressupost Producció TV'!B10 -> 01.01.03. | C10: ='Pressupost Producció TV'!C10 -> Traduccions | D10: ='Pressupost Producció TV'!D10 -> 0 | E10: ='Pressupost Producció TV'!N10 -> 0 | G10: =F10-E10 -> 0 | DL10: =(IF(#REF!=0,1,#REF!)*IF(#REF!=0,1,#REF!)*#REF! )+#REF!*IF(#REF!=0,1,#REF!)*IF(#REF!=0,1,#REF!) -> #REF!
B11: ='Pressupost Producció TV'!B11 -> 01.01.04. | C11: ='Pressupost Producció TV'!C11 -> Transcripcions | D11: ='Pressupost Producció TV'!D11 -> 0 | E11: ='Pressupost Producció TV'!N11 -> 0 | G11: =F11-E11 -> 0 | DL11: =(IF(#REF!=0,1,#REF!)*IF(#REF!=0,1,#REF!)*#REF! )+#REF!*IF(#REF!=0,1,#REF!)*IF(#REF!=0,1,#REF!) -> #REF!
B12: ='Pressupost Producció TV'!B12 -> 01.01.05. | C12: ='Pressupost Producció TV'!C12 -> Imatges d'arxiu | D12: ='Pressupost Producció TV'!D12 -> 0 | E12: ='Pressupost Producció TV'!N12 -> 0 | G12: =F12-E12 -> 0 | DL12: =(IF(#REF!=0,1,#REF!)*IF(#REF!=0,1,#REF!)*#REF! )+#REF!*IF(#REF!=0,1,#REF!)*IF(#REF!=0,1,#REF!) -> #REF!
B13: ='Pressupost Producció TV'!B13 -> 01.01.06. | C13: ='Pressupost Producció TV'!C13 -> Drets de format | D13: ='Pressupost Producció TV'!D13 -> 0 | E13: ='Pressupost Producció TV'!N13 -> 0 | G13: =F13-E13 -> 0 | DL13: =(IF(#REF!=0,1,#REF!)*IF(#REF!=0,1,#REF!)*#REF! )+#REF!*IF(#REF!=0,1,#REF!)*IF(#REF!=0,1,#REF!) -> #REF!
B14: ='Pressupost Producció TV'!B14 -> 01.01.07. | C14: ='Pressupost Producció TV'!C14 -> Premis de Programa | D14: ='Pressupost Producció TV'!D14 -> 0 | E14: ='Pressupost Producció TV'!N14 -> 0 | G14: =F14-E14 -> 0 | DL14: =(IF(#REF!=0,1,#REF!)*IF(#REF!=0,1,#REF!)*#REF! )+#REF!*IF(#REF!=0,1,#REF!)*IF(#REF!=0,1,#REF!) -> #REF!
B15: ='Pressupost Producció TV'!B15 -> 01.01.08. | C15: ='Pressupost Producció TV'!C15 -> 0 | D15: ='Pressupost Producció TV'!D15 -> 0 | E15: ='Pressupost Producció TV'!N15 -> 0 | G15: =F15-E15 -> 0 | DL15: =(IF(#REF!=0,1,#REF!)*IF(#REF!=0,1,#REF!)*#REF! )+#REF!*IF(#REF!=0,1,#REF!)*IF(#REF!=0,1,#REF!) -> #REF!
B16: ='Pressupost Producció TV'!B16 -> 01.01.09. | C16: ='Pressupost Producció TV'!C16 -> 0 | D16: ='Pressupost Producció TV'!D16 -> 0 | E16: ='Pressupost Producció TV'!N16 -> 0 | G16: =F16-E16 -> 0 | DL16: =(IF(#REF!=0,1,#REF!)*IF(#REF!=0,1,#REF!)*#REF! )+#REF!*IF(#REF!=0,1,#REF!)*IF(#REF!=0,1,#REF!) -> #REF!
B17: ='Pressupost Producció TV'!B17 -> 01.01.10. | C17: ='Pressupost Producció TV'!C17 -> 0 | D17: ='Pressupost Producció TV'!D17 -> 0 | E17: ='Pressupost Producció TV'!N17 -> 0 | G17: =F17-E17 -> 0 | DL17: =(IF(#REF!=0,1,#REF!)*IF(#REF!=0,1,#REF!)*#REF! )+#REF!*IF(#REF!=0,1,#REF!)*IF(#REF!=0,1,#REF!) -> #REF!
C18: ='Pressupost Producció TV'!C18 -> TOTAL 01.01. Guió | D18: ='Pressupost Producció TV'!D18 -> 0 | E18: ='Pressupost Producció TV'!N18 -> 0 | F18: =SUM(F8:F17) -> 0 | G18: =SUM(G8:G17) -> 0 | DL18: =SUM(DL8:DL17) -> #REF!
B19: ='Pressupost Producció TV'!B19 -> Núm. Compte
B20: ='Pressupost Producció TV'!B20 -> 01.02. | C20: ='Pressupost Producció TV'!C20 -> Música
B21: ='Pressupost Producció TV'!B21 -> 01.02.01. | C21: ='Pressupost Producció TV'!C21 -> Música original | D21: ='Pressupost Producció TV'!D21 -> 0 | E21: ='Pressupost Producció TV'!N21 -> 0 | G21: =F21-E21 -> 0 | DL21: =(IF(#REF!=0,1,#REF!)*IF(#REF!=0,1,#REF!)*#REF! )+#REF!*IF(#REF!=0,1,#REF!)*IF(#REF!=0,1,#REF!) -> #REF!
B22: ='Pressupost Producció TV'!B22 -> 01.02.02. | C22: ='Pressupost Producció TV'!C22 -> Musica de llibreria | D22: ='Pressupost Producció TV'!D22 -> 0 | E22: ='Pressupost Producció TV'!N22 -> 0 | G22: =F22-E22 -> 0 | DL22: =(IF(#REF!=0,1,#REF!)*IF(#REF!=0,1,#REF!)*#REF! )+#REF!*IF(#REF!=0,1,#REF!)*IF(#REF!=0,1,#REF!) -> #REF!
B23: ='Pressupost Producció TV'!B23 -> 01.02.03. | C23: ='Pressupost Producció TV'!C23 -> Arranjaments | D23: ='Pressupost Producció TV'!D23 -> 0 | E23: ='Pressupost Producció TV'!N23 -> 0 | G23: =F23-E23 -> 0 | DL23: =(IF(#REF!=0,1,#REF!)*IF(#REF!=0,1,#REF!)*#REF! )+#REF!*IF(#REF!=0,1,#REF!)*IF(#REF!=0,1,#REF!) -> #REF!
B24: ='Pressupost Producció TV'!B24 -> 01.02.04. | C24: ='Pressupost Producció TV'!C24 -> 0 | D24: ='Pressupost Producció TV'!D24 -> 0 | E24: ='Pressupost Producció TV'!N24 -> 0 | G24: =F24-E24 -> 0 | DL24: =(IF(#REF!=0,1,#REF!)*IF(#REF!=0,1,#REF!)*#REF! )+#REF!*IF(#REF!=0,1,#REF!)*IF(#REF!=0,1,#REF!) -> #REF!
B25: ='Pressupost Producció TV'!B25 -> 01.02.05. | C25: ='Pressupost Producció TV'!C25 -> 0 | D25: ='Pressupost Producció TV'!D25 -> 0 | E25: ='Pressupost Producció TV'!N25 -> 0 | G25: =F25-E25 -> 0 | DL25: =(IF(#REF!=0,1,#REF!)*IF(#REF!=0,1,#REF!)*#REF! )+#REF!*IF(#REF!=0,1,#REF!)*IF(#REF!=0,1,#REF!) -> #REF!
B26: ='Pressupost Producció TV'!B26 -> 01.02.06. | C26: ='Pressupost Producció TV'!C26 -> 0 | D26: ='Pressupost Producció TV'!D26 -> 0 | E26: ='Pressupost Producció TV'!N26 -> 0 | G26: =F26-E26 -> 0 | DL26: =(IF(#REF!=0,1,#REF!)*IF(#REF!=0,1,#REF!)*#REF! )+#REF!*IF(#REF!=0,1,#REF!)*IF(#REF!=0,1,#REF!) -> #REF!
C27: ='Pressupost Producció TV'!C27 -> TOTAL 01.02. Música | D27: ='Pressupost Producció TV'!D27 -> 0 | E27: ='Pressupost Producció TV'!N27 -> 0 | F27: =SUM(F21:F26) -> 0 | G27: =SUM(G21:G26) -> 0 | DL27: =SUM(DL21:DL26) -> #REF!
C28: ="TOTAL" & " " &C5 -> TOTAL CAPÍTOL 01.- Guió, música i arxiu | E28: ='Pressupost Producció TV'!N28 -> 0 | F28: =F18 +F27 -> 0 | G28: =G18 +G27 -> 0 | DL28: =(DL18 + DL27) -> #REF!
C30: ='Pressupost Producció TV'!C30 -> CAPÍTOL 02.- Personal artístic
B31: ='Pressupost Producció TV'!B31 -> Núm. Compte
B32: ='Pressupost Producció TV'!B32 -> 02.01. | C32: ='Pressupost Producció TV'!C32 -> Protagonistes
B33: ='Pressupost Producció TV'!B33 -> 02.01.01. | C33: ='Pressupost Producció TV'!C33 | D33: ='Pressupost Producció TV'!D33 -> 0 | E33: ='Pressupost Producció TV'!N33 -> 0 | G33: =F33-E33 -> 0 | DL33: =(IF(#REF!=0,1,#REF!)*IF(#REF!=0,1,#REF!)*#REF! )+#REF!*IF(#REF!=0,1,#REF!)*IF(#REF!=0,1,#REF!) -> #REF!
B34: ='Pressupost Producció TV'!B34 -> 02.01.02. | C34: ='Pressupost Producció TV'!C34 -> 0 | D34: ='Pressupost Producció TV'!D34 -> 0 | E34: ='Pressupost Producció TV'!N34 -> 0 | G34: =F34-E34 -> 0 | DL34: =(IF(#REF!=0,1,#REF!)*IF(#REF!=0,1,#REF!)*#REF! )+#REF!*IF(#REF!=0,1,#REF!)*IF(#REF!=0,1,#REF!) -> #REF!
B35: ='Pressupost Producció TV'!B35 -> 02.01.03. | C35: ='Pressupost Producció TV'!C35 -> 0 | D35: ='Pressupost Producció TV'!D35 -> 0 | E35: ='Pressupost Producció TV'!N35 -> 0 | G35: =F35-E35 -> 0 | DL35: =(IF(#REF!=0,1,#REF!)*IF(#REF!=0,1,#REF!)*#REF! )+#REF!*IF(#REF!=0,1,#REF!)*IF(#REF!=0,1,#REF!) -> #REF!
B36: ='Pressupost Producció TV'!B36 -> 02.01.04. | C36: ='Pressupost Producció TV'!C36 -> 0 | D36: ='Pressupost Producció TV'!D36 -> 0 | E36: ='Pressupost Producció TV'!N36 -> 0 | G36: =F36-E36 -> 0 | DL36: =(IF(#REF!=0,1,#REF!)*IF(#REF!=0,1,#REF!)*#REF! )+#REF!*IF(#REF!=0,1,#REF!)*IF(#REF!=0,1,#REF!) -> #REF!
B37: ='Pressupost Producció TV'!B37 -> 02.01.05. | C37: ='Pressupost Producció TV'!C37 -> 0 | D37: ='Pressupost Producció TV'!D37 -> 0 | E37: ='Pressupost Producció TV'!N37 -> 0 | G37: =F37-E37 -> 0 | DL37: =(IF(#REF!=0,1,#REF!)*IF(#REF!=0,1,#REF!)*#REF! )+#REF!*IF(#REF!=0,1,#REF!)*IF(#REF!=0,1,#REF!) -> #REF!
B38: ='Pressupost Producció TV'!B38 -> 02.01.06. | C38: ='Pressupost Producció TV'!C38 -> 0 | D38: ='Pressupost Producció TV'!D38 -> 0 | E38: ='Pressupost Producció TV'!N38 -> 0 | G38: =F38-E38 -> 0 | DL38: =(IF(#REF!=0,1,#REF!)*IF(#REF!=0,1,#REF!)*#REF! )+#REF!*IF(#REF!=0,1,#REF!)*IF(#REF!=0,1,#REF!) -> #REF!
B39: ='Pressupost Producció TV'!B39 -> 02.01.07. | C39: ='Pressupost Producció TV'!C39 -> 0 | D39: ='Pressupost Producció TV'!D39 -> 0 | E39: ='Pressupost Producció TV'!N39 -> 0 | G39: =F39-E39 -> 0 | DL39: =(IF(#REF!=0,1,#REF!)*IF(#REF!=0,1,#REF!)*#REF! )+#REF!*IF(#REF!=0,1,#REF!)*IF(#REF!=0,1,#REF!) -> #REF!
B40: ='Pressupost Producció TV'!B40 -> 02.01.08. | C40: ='Pressupost Producció TV'!C40 -> 0 | D40: ='Pressupost Producció TV'!D40 -> 0 | E40: ='Pressupost Producció TV'!N40 -> 0 | G40: =F40-E40 -> 0 | DL40: =(IF(#REF!=0,1,#REF!)*IF(#REF!=0,1,#REF!)*#REF! )+#REF!*IF(#REF!=0,1,#REF!)*IF(#REF!=0,1,#REF!) -> #REF!
B41: ='Pressupost Producció TV'!B41 -> 02.01.09. | C41: ='Pressupost Producció TV'!C41 -> 0 | D41: ='Pressupost Producció TV'!D41 -> 0 | E41: ='Pressupost Producció TV'!N41 -> 0 | G41: =F41-E41 -> 0 | DL41: =(IF(#REF!=0,1,#REF!)*IF(#REF!=0,1,#REF!)*#REF! )+#REF!*IF(#REF!=0,1,#REF!)*IF(#REF!=0,1,#REF!) -> #REF!
B42: ='Pressupost Producció TV'!B42 -> 02.01.10. | C42: ='Pressupost Producció TV'!C42 -> 0 | D42: ='Pressupost Producció TV'!D42 -> 0 | E42: ='Pressupost Producció TV'!N42 -> 0 | G42: =F42-E42 -> 0 | DL42: =(IF(#REF!=0,1,#REF!)*IF(#REF!=0,1,#REF!)*#REF! )+#REF!*IF(#REF!=0,1,#REF!)*IF(#REF!=0,1,#REF!) -> #REF!
C43: ="TOTAL " &" " & B32 & " " & (C32) -> TOTAL 02.01. Protagonistes | D43: ='Pressupost Producció TV'!D43 -> 0 | E43: ='Pressupost Producció TV'!N43 -> 0 | F43: =SUM(F33:F42) -> 0 | G43: =SUM(G33:G42) -> 0 | DL43: =SUM(DL33:DL42) -> #REF!
...

Sheet Indicacions
A1: =Portada!B1 -> Actualització a: 12/02/2026
B4: Notes i instruccions per emplenar aquest document
B7: Tipologia: Complimentant aquestes columnes s'informa de si la despesa és directa o imputació de costos d'estructura (E) i si prové d'una
B8: empresa vinculada (V).
B10: Quantitat: Nombre de professionals d'una categoria (si no es detallen un a un) o nombre d'elements, mitjans o serveis pressupostats.
B12: Notes explicatives: Resenya aclaridora relativa al capítol en qüestió.
B14: Nº: Nombre d'unitats de mesura dins el perìode contractual de la producció.
B16: Tipus: Unitat de mesura que s'utilitza per a la valoració del cost (mes, setmana, capítol, convocatòria,...) - columna amb un desplegable dels
B17: diferents tipus d'unitats de mesura, pel personal laboral es recomana utilitzar la unitat temporal del mes i mai superior a aquest.
B19: L-TF / L-TT / A: en cas de personal L indica laboral fix (TF) o temporal (TT) i, per tant, nòmina i A autònom.
B20: La L activa la fòrmula de cost de la columna SS. El personal laboral, tant si és artístic com de programa o tècnic,
B21: s'ha de relacionar individualment a no ser que coincideixi la remuneració de persones d'una
B22: mateixa categoria o col·lectiu.
... B37: recomana agrupar conceptes homogènis en una mateixa fila donant la màxima informació a la casella de Notes Explicatives.
B41: Impressió Fulls de Pressupostos | I41: Impressió Fulls de Realitats
D43: Fulls | K43: Fulls
B44: Capítol 1 | D44: 1 | I44: Capítol 1 | K44: 1
B45: Capítol 2 | D45: 2,3 i 4 | I45: Capítol 2 | K45: 2 i 3
B46: Capítol 3 | D46: 5 i 6 | I46: Capítol 3 | K46: 4
B47: Capítol 4 | D47: 7 i 8 | I47: Capítol 4 | K47: 5
B48: Capítol 5 | D48: 9 | I48: Capítol 5 | K48: 6
B49: Capítol 6 | D49: 10 | I49: Capítol 6 | K49: 7
B50: Capítol 7 | D50: 11 | I50: Capítol 7 | K50: 8
B51: Capítol 8 | D51: 12 | I51: Capítol 8 | K51: 9
B52: Capítol 9 | D52: 13 | I52: Capítol 9 | K52: 10
B53: Capítol 10 | D53: 14 | I53: Capítol 10 | K53: 11

Sheet Validació
A1: =Portada!B1 -> Actualització a: 12/02/2026
A3: VALIDACIONS
C4: TELEVISIÓ
C5: ARRENCADA | F5: PRODUCCIÓ
C6: Intr. | D6: Valid. | E6: Difer. | F6: Intr. | G6: Valid. | H6: Difer.
A7: ='Pressupost Producció TV'!C5& "....................................................................." -> CAPÍTOL 01.- Guió, música i arxiu..................................................................... | C7: ='Pressupost Arrencada TV'!N28 -> 0 | D7: ='Pressupost Arrencada TV'!EC28 -> 0 | E7: ='Pressupost Arrencada TV'!N28 - 'Pressupost Arrencada TV'!EC28 -> 0 | F7: ='Pressupost Producció TV'!N28 -> 0 | G7: ='Pressupost Producció TV'!EC28 -> 0 | H7: ='Pressupost Producció TV'!N28 -'Pressupost Producció TV'!EC28 -> 0
A8: ='Pressupost Producció TV'!C30& "..........................................................................." -> CAPÍTOL 02.- Personal artístic........................................................................... | C8: ='Pressupost Arrencada TV'!N157 -> 0 | D8: ='Pressupost Arrencada TV'!EC157 -> 0 | E8: ='Pressupost Arrencada TV'!N157 - 'Pressupost Arrencada TV'!EC157 -> 0 | F8: ='Pressupost Producció TV'!N157 -> 0 | G8: ='Pressupost Producció TV'!EC157 -> 0 | H8: ='Pressupost Producció TV'!N157 -'Pressupost Producció TV'!EC157 -> 0
A9: ='Pressupost Producció TV'!C159& "............................................................................" -> CAPÍTOL 03.- Equip programa............................................................................ | C9: ='Pressupost Arrencada TV'!N211 -> 0 | D9: ='Pressupost Arrencada TV'!EC211 -> 0 | E9: ='Pressupost Arrencada TV'!N211-'Pressupost Arrencada TV'!EC211 -> 0 | F9: ='Pressupost Producció TV'!N211 -> 0 | G9: ='Pressupost Producció TV'!EC211 -> 0 | H9: ='Pressupost Producció TV'!N211-'Pressupost Producció TV'!EC211 -> 0
A10: ='Pressupost Producció TV'!C213& "........................................" -> CAPÍTOL 04.-Serveis artístics i de postproducció........................................ | C10: ='Pressupost Arrencada TV'!N272 -> 0 | D10: ='Pressupost Arrencada TV'!EC272 -> 0 | E10: ='Pressupost Arrencada TV'!N272 - 'Pressupost Arrencada TV'!EC272 -> 0 | F10: ='Pressupost Producció TV'!N272 -> 0 | G10: ='Pressupost Producció TV'!EC272 -> 0 | H10: ='Pressupost Producció TV'!N272-'Pressupost Producció TV'!EC272 -> 0
A11: ='Pressupost Producció TV'!C274& "......................................................." -> CAPÍTOL 05.-Serveis tècnics / Explotació....................................................... | C11: ='Pressupost Arrencada TV'!N323 -> 0 | D11: ='Pressupost Arrencada TV'!EC323 -> 0 | E11: ='Pressupost Arrencada TV'!N323 - 'Pressupost Arrencada TV'!EC323 -> 0 | F11: ='Pressupost Producció TV'!N323 -> 0 | G11: ='Pressupost Producció TV'!EC323 -> 0 | H11: ='Pressupost Producció TV'!N323-'Pressupost Producció TV'!EC323 -> 0
A12: ='Pressupost Producció TV'!C325& "................................................................................." -> CAPÍTOL 06.- Escenografia................................................................................. | C12: ='Pressupost Arrencada TV'!N361 -> 0 | D12: ='Pressupost Arrencada TV'!EC361 -> 0 | E12: ='Pressupost Arrencada TV'!N361 - 'Pressupost Arrencada TV'!EC361 -> 0 | F12: ='Pressupost Producció TV'!N361 -> 0 | G12: ='Pressupost Producció TV'!EC361 -> 0 | H12: ='Pressupost Producció TV'!N361-'Pressupost Producció TV'!EC361 -> 0
A13: ='Pressupost Producció TV'!C363& "...................................................." -> CAPÍTOL 07.- Estudis rodatge/sonorització.................................................... | C13: ='Pressupost Arrencada TV'!N384 -> 0 | D13: ='Pressupost Arrencada TV'!EC384 -> 0 | E13: ='Pressupost Arrencada TV'!N384 - 'Pressupost Arrencada TV'!EC384 -> 0 | F13: ='Pressupost Producció TV'!N384 -> 0 | G13: ='Pressupost Producció TV'!EC384 -> 0 | H13: ='Pressupost Producció TV'!N384 - 'Pressupost Producció TV'!EC384 -> 0
A14: ='Pressupost Producció TV'!C386& "............................................................." -> CAPÍTOL 08.- Despeses de producció............................................................. | C14: ='Pressupost Arrencada TV'!N435 -> 0 | D14: ='Pressupost Arrencada TV'!EC435 -> 0 | E14: ='Pressupost Arrencada TV'!N435 -'Pressupost Arrencada TV'!EC435 -> 0 | F14: ='Pressupost Producció TV'!N435 -> 0 | G14: ='Pressupost Producció TV'!EC435 -> 0 | H14: ='Pressupost Producció TV'!N435 -'Pressupost Producció TV'!EC435 -> 0
A15: ='Pressupost Producció TV'!C437& "............................................................................." -> CAPÍTOL 09.- Assegurances............................................................................. | C15: ='Pressupost Arrencada TV'!N445 -> 0 | D15: ='Pressupost Arrencada TV'!EC445 -> 0 | E15: ='Pressupost Arrencada TV'!N445-'Pressupost Arrencada TV'!EC445 -> 0 | F15: ='Pressupost Producció TV'!N445 -> 0 | G15: ='Pressupost Producció TV'!EC445 -> 0 | H15: ='Pressupost Producció TV'!N445 - 'Pressupost Producció TV'!EC445 -> 0
A16: ='Pressupost Producció TV'!C447& "....................................................................." -> CAPÍTOL 10.- Despeses generals..................................................................... | C16: ='Pressupost Arrencada TV'!N468 -> 0 | D16: =('Pressupost Arrencada TV'!EC468) -> 0 | E16: =('Pressupost Arrencada TV'!N468-'Pressupost Arrencada TV'!EC468) -> 0 | F16: ='Pressupost Producció TV'!N468 -> 0 | G16: ='Pressupost Producció TV'!EC468 -> 0 | H16: ='Pressupost Producció TV'!N468-'Pressupost Producció TV'!EC468 -> 0
B18: Total | C18: ='Pressupost Arrencada TV'!N471 -> 0 | D18: ='Pressupost Arrencada TV'!EC471 -> 0 | E18: =('Pressupost Arrencada TV'!N471-'Pressupost Arrencada TV'!EC471) -> 0 | F18: ='Pressupost Producció TV'!N471 -> 0 | G18: ='Pressupost Producció TV'!EC471 -> 0 | H18: =('Pressupost Producció TV'!N471-'Pressupost Producció TV'!EC471) -> 0
