Workbook
Name _GoBack: Indicacions!#REF!

Sheet Pressupost Arrencada TV
B1: =Portada!B1 -> Actualització a: 12/02/2026 | D1: Producció Audiovisual Televisió (Arrencada)
A2: Capítols de despesa | D2: Nom / Concepte | E2: Tipologia | G2: Quantitat | H2: NOTES EXPLICATIVES | I2: Unitats | K2: L-TF L-TT A | L2: Cost unitari | N2: Cost total | P2: Temp. Ant. | S2: S.S. | U2: S.S.
E3: E | F3: V | G3: valor numèric | I3: Nº | J3: Tipus | L3: Cost | M3: S.S. | N3: Total | O3: x Cap. | P3: PRESSUPOST | Q3: LIQUIDACIÓ | U3: %
C5: CAPÍTOL 01.- Guió, música i arxiu
B6: Núm. Compte
B7: 01.01. | C7: Guió
B8: 01.01.01. | C8: Argument original o bíblia | N8: =(IF(G8=0,1,G8)*IF(I8=0,1,I8)*L8 )+M8*IF(G8=0,1,G8)*IF(I8=0,1,I8) -> 0 | O8: =N8/Portada!$F$15 -> 0 | S8: =M8*IF(G8=0,1,G8)*IF(I8=0,1,I8) -> 0 | EC8: =(IF(G8=0,1,G8)*IF(I8=0,1,I8)*L8 )+M8*IF(G8=0,1,G8)*IF(I8=0,1,I8) -> 0
B9: 01.01.02. | C9: Compra de guió | N9: =(IF(G9=0,1,G9)*IF(I9=0,1,I9)*L9 )+M9*IF(G9=0,1,G9)*IF(I9=0,1,I9) -> 0 | O9: =N9/Portada!$F$15 -> 0 | S9: =M9*IF(G9=0,1,G9)*IF(I9=0,1,I9) -> 0 | EC9: =(IF(G9=0,1,G9)*IF(I9=0,1,I9)*L9 )+M9*IF(G9=0,1,G9)*IF(I9=0,1,I9) -> 0
B10: 01.01.03. | C10: Traduccions | N10: =(IF(G10=0,1,G10)*IF(I10=0,1,I10)*L10 )+M10*IF(G10=0,1,G10)*IF(I10=0,1,I10) -> 0 | O10: =N10/Portada!$F$15 -> 0 | S10: =M10*IF(G10=0,1,G10)*IF(I10=0,1,I10) -> 0 | EC10: =(IF(G10=0,1,G10)*IF(I10=0,1,I10)*L10 )+M10*IF(G10=0,1,G10)*IF(I10=0,1,I10) -> 0
B11: 01.01.04. | C11: Transcripcions | N11: =(IF(G11=0,1,G11)*IF(I11=0,1,I11)*L11 )+M11*IF(G11=0,1,G11)*IF(I11=0,1,I11) -> 0 | O11: =N11/Portada!$F$15 -> 0 | S11: =M11*IF(G11=0,1,G11)*IF(I11=0,1,I11) -> 0 | EC11: =(IF(G11=0,1,G11)*IF(I11=0,1,I11)*L11 )+M11*IF(G11=0,1,G11)*IF(I11=0,1,I11) -> 0
B12: 01.01.05. | C12: Imatges d'arxiu | N12: =(IF(G12=0,1,G12)*IF(I12=0,1,I12)*L12 )+M12*IF(G12=0,1,G12)*IF(I12=0,1,I12) -> 0 | O12: =N12/Portada!$F$15 -> 0 | S12: =M12*IF(G12=0,1,G12)*IF(I12=0,1,I12) -> 0 | EC12: =(IF(G12=0,1,G12)*IF(I12=0,1,I12)*L12 )+M12*IF(G12=0,1,G12)*IF(I12=0,1,I12) -> 0
B13: 01.01.06. | C13: Drets de format | N13: =(IF(G13=0,1,G13)*IF(I13=0,1,I13)*L13 )+M13*IF(G13=0,1,G13)*IF(I13=0,1,I13) -> 0 | O13: =N13/Portada!$F$15 -> 0 | S13: =M13*IF(G13=0,1,G13)*IF(I13=0,1,I13) -> 0 | EC13: =(IF(G13=0,1,G13)*IF(I13=0,1,I13)*L13 )+M13*IF(G13=0,1,G13)*IF(I13=0,1,I13) -> 0
B14: 01.01.07. | C14: Premis de Programa | N14: =(IF(G14=0,1,G14)*IF(I14=0,1,I14)*L14 )+M14*IF(G14=0,1,G14)*IF(I14=0,1,I14) -> 0 | O14: =N14/Portada!$F$15 -> 0 | S14: =M14*IF(G14=0,1,G14)*IF(I14=0,1,I14) -> 0 | EC14: =(IF(G14=0,1,G14)*IF(I14=0,1,I14)*L14 )+M14*IF(G14=0,1,G14)*IF(I14=0,1,I14) -> 0
B15: 01.01.08. | N15: =(IF(G15=0,1,G15)*IF(I15=0,1,I15)*L15 )+M15*IF(G15=0,1,G15)*IF(I15=0,1,I15) -> 0 | O15: =N15/Portada!$F$15 -> 0 | S15: =M15*IF(G15=0,1,G15)*IF(I15=0,1,I15) -> 0 | EC15: =(IF(G15=0,1,G15)*IF(I15=0,1,I15)*L15 )+M15*IF(G15=0,1,G15)*IF(I15=0,1,I15) -> 0
B16: 01.01.09. | N16: =(IF(G16=0,1,G16)*IF(I16=0,1,I16)*L16 )+M16*IF(G16=0,1,G16)*IF(I16=0,1,I16) -> 0 | O16: =N16/Portada!$F$15 -> 0 | S16: =M16*IF(G16=0,1,G16)*IF(I16=0,1,I16) -> 0 | EC16: =(IF(G16=0,1,G16)*IF(I16=0,1,I16)*L16 )+M16*IF(G16=0,1,G16)*IF(I16=0,1,I16) -> 0
B17: 01.01.10. | N17: =(IF(G17=0,1,G17)*IF(I17=0,1,I17)*L17 )+M17*IF(G17=0,1,G17)*IF(I17=0,1,I17) -> 0 | O17: =N17/Portada!$F$15 -> 0 | S17: =M17*IF(G17=0,1,G17)*IF(I17=0,1,I17) -> 0 | EC17: =(IF(G17=0,1,G17)*IF(I17=0,1,I17)*L17 )+M17*IF(G17=0,1,G17)*IF(I17=0,1,I17) -> 0
C18: ="TOTAL " &" " & B7 & " " & (C7) -> TOTAL 01.01. Guió | N18: =SUM(N8:N17) -> 0 | O18: =SUM(O8:O17) -> 0 | P18: =SUM(P8:P17) -> 0 | Q18: =SUM(Q8:Q17) -> 0 | S18: =SUM(S8:S17) -> 0 | EC18: =SUM(EC8:EC17) -> 0
B19: Núm. Compte
B20: 01.02. | C20: Música
B21: 01.02.01. | C21: Música original | N21: =(IF(G21=0,1,G21)*IF(I21=0,1,I21)*L21 )+M21*IF(G21=0,1,G21)*IF(I21=0,1,I21) -> 0 | O21: =N21/Portada!$F$15 -> 0 | S21: =M21*IF(G21=0,1,G21)*IF(I21=0,1,I21) -> 0 | EC21: =(IF(G21=0,1,G21)*IF(I21=0,1,I21)*L21 )+M21*IF(G21=0,1,G21)*IF(I21=0,1,I21) -> 0
B22: 01.02.02. | C22: Musica de llibreria | N22: =(IF(G22=0,1,G22)*IF(I22=0,1,I22)*L22 )+M22*IF(G22=0,1,G22)*IF(I22=0,1,I22) -> 0 | O22: =N22/Portada!$F$15 -> 0 | S22: =M22*IF(G22=0,1,G22)*IF(I22=0,1,I22) -> 0 | EC22: =(IF(G22=0,1,G22)*IF(I22=0,1,I22)*L22 )+M22*IF(G22=0,1,G22)*IF(I22=0,1,I22) -> 0
B23: 01.02.03. | C23: Arranjaments | N23: =(IF(G23=0,1,G23)*IF(I23=0,1,I23)*L23 )+M23*IF(G23=0,1,G23)*IF(I23=0,1,I23) -> 0 | O23: =N23/Portada!$F$15 -> 0 | S23: =M23*IF(G23=0,1,G23)*IF(I23=0,1,I23) -> 0 | EC23: =(IF(G23=0,1,G23)*IF(I23=0,1,I23)*L23 )+M23*IF(G23=0,1,G23)*IF(I23=0,1,I23) -> 0
B24: 01.02.04. | N24: =(IF(G24=0,1,G24)*IF(I24=0,1,I24)*L24 )+M24*IF(G24=0,1,G24)*IF(I24=0,1,I24) -> 0 | O24: =N24/Portada!$F$15 -> 0 | S24: =M24*IF(G24=0,1,G24)*IF(I24=0,1,I24) -> 0 | EC24: =(IF(G24=0,1,G24)*IF(I24=0,1,I24)*L24 )+M24*IF(G24=0,1,G24)*IF(I24=0,1,I24) -> 0
B25: 01.02.05. | N25: =(IF(G25=0,1,G25)*IF(I25=0,1,I25)*L25 )+M25*IF(G25=0,1,G25)*IF(I25=0,1,I25) -> 0 | O25: =N25/Portada!$F$15 -> 0 | S25: =M25*IF(G25=0,1,G25)*IF(I25=0,1,I25) -> 0 | EC25: =(IF(G25=0,1,G25)*IF(I25=0,1,I25)*L25 )+M25*IF(G25=0,1,G25)*IF(I25=0,1,I25) -> 0
B26: 01.02.06. | N26: =(IF(G26=0,1,G26)*IF(I26=0,1,I26)*L26 )+M26*IF(G26=0,1,G26)*IF(I26=0,1,I26) -> 0 | O26: =N26/Portada!$F$15 -> 0 | S26: =M26*IF(G26=0,1,G26)*IF(I26=0,1,I26) -> 0 | EC26: =(IF(G26=0,1,G26)*IF(I26=0,1,I26)*L26 )+M26*IF(G26=0,1,G26)*IF(I26=0,1,I26) -> 0
C27: ="TOTAL " &" " & B20 & " " & (C20) -> TOTAL 01.02. Música | N27: =SUM(N21:N26) -> 0 | O27: =SUM(O21:O26) -> 0 | P27: =SUM(P21:P26) -> 0 | Q27: =SUM(Q21:Q26) -> 0 | S27: =SUM(S21:S26) -> 0 | EC27: =SUM(EC21:EC26) -> 0
C28: TOTAL | D28: =C5 -> CAPÍTOL 01.- Guió, música i arxiu | N28: =(N18 + N27) -> 0 | O28: =(O18 + O27) -> 0 | P28: =(P18 + P27) -> 0 | Q28: =(Q18 + Q27) -> 0 | S28: =S18+S27 -> 0 | EC28: =(EC18 + EC27) -> 0
C30: CAPÍTOL 02.- Personal artístic
B31: Núm. Compte
B32: 02.01. | C32: Protagonistes
B33: 02.01.01. | N33: =(IF(G33=0,1,G33)*IF(I33=0,1,I33)*L33 )+M33*IF(G33=0,1,G33)*IF(I33=0,1,I33) -> 0 | O33: =N33/Portada!$F$15 -> 0 | S33: =M33*IF(G33=0,1,G33)*IF(I33=0,1,I33) -> 0 | U33: =IF(L33<>0,(M33/L33)/IF(G33=0,1,G33),0) -> 0 | EC33: =(IF(G33=0,1,G33)*IF(I33=0,1,I33)*L33 )+M33*IF(G33=0,1,G33)*IF(I33=0,1,I33) -> 0
B34: 02.01.02. | N34: =(IF(G34=0,1,G34)*IF(I34=0,1,I34)*L34 )+M34*IF(G34=0,1,G34)*IF(I34=0,1,I34) -> 0 | O34: =N34/Portada!$F$15 -> 0 | S34: =M34*IF(G34=0,1,G34)*IF(I34=0,1,I34) -> 0 | U34: =IF(L34<>0,(M34/L34)/IF(G34=0,1,G34),0) -> 0 | EC34: =(IF(G34=0,1,G34)*IF(I34=0,1,I34)*L34 )+M34*IF(G34=0,1,G34)*IF(I34=0,1,I34) -> 0
B35: 02.01.03. | N35: =(IF(G35=0,1,G35)*IF(I35=0,1,I35)*L35 )+M35*IF(G35=0,1,G35)*IF(I35=0,1,I35) -> 0 | O35: =N35/Portada!$F$15 -> 0 | S35: =M35*IF(G35=0,1,G35)*IF(I35=0,1,I35) -> 0 | U35: =IF(L35<>0,(M35/L35)/IF(G35=0,1,G35),0) -> 0 | EC35: =(IF(G35=0,1,G35)*IF(I35=0,1,I35)*L35 )+M35*IF(G35=0,1,G35)*IF(I35=0,1,I35) -> 0
B36: 02.01.04. | N36: =(IF(G36=0,1,G36)*IF(I36=0,1,I36)*L36 )+M36*IF(G36=0,1,G36)*IF(I36=0,1,I36) -> 0 | O36: =N36/Portada!$F$15 -> 0 | S36: =M36*IF(G36=0,1,G36)*IF(I36=0,1,I36) -> 0 | U36: =IF(L36<>0,(M36/L36)/IF(G36=0,1,G36),0) -> 0 | EC36: =(IF(G36=0,1,G36)*IF(I36=0,1,I36)*L36 )+M36*IF(G36=0,1,G36)*IF(I36=0,1,I36) -> 0
B37: 02.01.05. | M37: 0 | N37: =(IF(G37=0,1,G37)*IF(I37=0,1,I37)*L37 )+M37*IF(G37=0,1,G37)*IF(I37=0,1,I37) -> 0 | O37: =N37/Portada!$F$15 -> 0 | S37: =M37*IF(G37=0,1,G37)*IF(I37=0,1,I37) -> 0 | U37: =IF(L37<>0,(M37/L37)/IF(G37=0,1,G37),0) -> 0 | EC37: =(IF(G37=0,1,G37)*IF(I37=0,1,I37)*L37 )+M37*IF(G37=0,1,G37)*IF(I37=0,1,I37) -> 0
B38: 02.01.06. | N38: =(IF(G38=0,1,G38)*IF(I38=0,1,I38)*L38 )+M38*IF(G38=0,1,G38)*IF(I38=0,1,I38) -> 0 | O38: =N38/Portada!$F$15 -> 0 | S38: =M38*IF(G38=0,1,G38)*IF(I38=0,1,I38) -> 0 | U38: =IF(L38<>0,(M38/L38)/IF(G38=0,1,G38),0) -> 0 | EC38: =(IF(G38=0,1,G38)*IF(I38=0,1,I38)*L38 )+M38*IF(G38=0,1,G38)*IF(I38=0,1,I38) -> 0
B39: 02.01.07. | N39: =(IF(G39=0,1,G39)*IF(I39=0,1,I39)*L39 )+M39*IF(G39=0,1,G39)*IF(I39=0,1,I39) -> 0 | O39: =N39/Portada!$F$15 -> 0 | S39: =M39*IF(G39=0,1,G39)*IF(I39=0,1,I39) -> 0 | U39: =IF(L39<>0,(M39/L39)/IF(G39=0,1,G39),0) -> 0 | EC39: =(IF(G39=0,1,G39)*IF(I39=0,1,I39)*L39 )+M39*IF(G39=0,1,G39)*IF(I39=0,1,I39) -> 0
B40: 02.01.08. | N40: =(IF(G40=0,1,G40)*IF(I40=0,1,I40)*L40 )+M40*IF(G40=0,1,G40)*IF(I40=0,1,I40) -> 0 | O40: =N40/Portada!$F$15 -> 0 | S40: =M40*IF(G40=0,1,G40)*IF(I40=0,1,I40) -> 0 | U40: =IF(L40<>0,(M40/L40)/IF(G40=0,1,G40),0) -> 0 | EC40: =(IF(G40=0,1,G40)*IF(I40=0,1,I40)*L40 )+M40*IF(G40=0,1,G40)*IF(I40=0,1,I40) -> 0
B41: 02.01.09. | N41: =(IF(G41=0,1,G41)*IF(I41=0,1,I41)*L41 )+M41*IF(G41=0,1,G41)*IF(I41=0,1,I41) -> 0 | O41: =N41/Portada!$F$15 -> 0 | S41: =M41*IF(G41=0,1,G41)*IF(I41=0,1,I41) -> 0 | U41: =IF(L41<>0,(M41/L41)/IF(G41=0,1,G41),0) -> 0 | EC41: =(IF(G41=0,1,G41)*IF(I41=0,1,I41)*L41 )+M41*IF(G41=0,1,G41)*IF(I41=0,1,I41) -> 0
B42: 02.01.10. | N42: =(IF(G42=0,1,G42)*IF(I42=0,1,I42)*L42 )+M42*IF(G42=0,1,G42)*IF(I42=0,1,I42) -> 0 | O42: =N42/Portada!$F$15 -> 0 | S42: =M42*IF(G42=0,1,G42)*IF(I42=0,1,I42) -> 0 | U42: =IF(L42<>0,(M42/L42)/IF(G42=0,1,G42),0) -> 0 | EC42: =(IF(G42=0,1,G42)*IF(I42=0,1,I42)*L42 )+M42*IF(G42=0,1,G42)*IF(I42=0,1,I42) -> 0
C43: ="TOTAL " &" " & B32 & " " & (C32) -> TOTAL 02.01. Protagonistes | N43: =SUM(N33:N42) -> 0 | O43: =SUM(O33:O42) -> 0 | P43: =SUM(P33:P42) -> 0 | Q43: =SUM(Q33:Q42) -> 0 | S43: =SUM(S33:S42) -> 0 | EC43: =SUM(EC33:EC42) -> 0
B44: Núm. Compte
B45: 02.02. | C45: Primers papers
B46: 02.02.01. | N46: =(IF(G46=0,1,G46)*IF(I46=0,1,I46)*L46 )+M46*IF(G46=0,1,G46)*IF(I46=0,1,I46) -> 0 | O46: =N46/Portada!$F$15 -> 0 | S46: =M46*IF(G46=0,1,G46)*IF(I46=0,1,I46) -> 0 | U46: =IF(L46<>0,(M46/L46)/IF(G46=0,1,G46),0) -> 0 | EC46: =(IF(G46=0,1,G46)*IF(I46=0,1,I46)*L46 )+M46*IF(G46=0,1,G46)*IF(I46=0,1,I46) -> 0
B47: 02.02.02. | N47: =(IF(G47=0,1,G47)*IF(I47=0,1,I47)*L47 )+M47*IF(G47=0,1,G47)*IF(I47=0,1,I47) -> 0 | O47: =N47/Portada!$F$15 -> 0 | S47: =M47*IF(G47=0,1,G47)*IF(I47=0,1,I47) -> 0 | U47: =IF(L47<>0,(M47/L47)/IF(G47=0,1,G47),0) -> 0 | EC47: =(IF(G47=0,1,G47)*IF(I47=0,1,I47)*L47 )+M47*IF(G47=0,1,G47)*IF(I47=0,1,I47) -> 0
B48: 02.02.03. | N48: =(IF(G48=0,1,G48)*IF(I48=0,1,I48)*L48 )+M48*IF(G48=0,1,G48)*IF(I48=0,1,I48) -> 0 | O48: =N48/Portada!$F$15 -> 0 | S48: =M48*IF(G48=0,1,G48)*IF(I48=0,1,I48) -> 0 | U48: =IF(L48<>0,(M48/L48)/IF(G48=0,1,G48),0) -> 0 | EC48: =(IF(G48=0,1,G48)*IF(I48=0,1,I48)*L48 )+M48*IF(G48=0,1,G48)*IF(I48=0,1,I48) -> 0
B49: 02.02.04. | N49: =(IF(G49=0,1,G49)*IF(I49=0,1,I49)*L49 )+M49*IF(G49=0,1,G49)*IF(I49=0,1,I49) -> 0 | O49: =N49/Portada!$F$15 -> 0 | S49: =M49*IF(G49=0,1,G49)*IF(I49=0,1,I49) -> 0 | U49: =IF(L49<>0,(M49/L49)/IF(G49=0,1,G49),0) -> 0 | EC49: =(IF(G49=0,1,G49)*IF(I49=0,1,I49)*L49 )+M49*IF(G49=0,1,G49)*IF(I49=0,1,I49) -> 0
B50: 02.02.05. | N50: =(IF(G50=0,1,G50)*IF(I50=0,1,I50)*L50 )+M50*IF(G50=0,1,G50)*IF(I50=0,1,I50) -> 0 | O50: =N50/Portada!$F$15 -> 0 | S50: =M50*IF(G50=0,1,G50)*IF(I50=0,1,I50) -> 0 | U50: =IF(L50<>0,(M50/L50)/IF(G50=0,1,G50),0) -> 0 | EC50: =(IF(G50=0,1,G50)*IF(I50=0,1,I50)*L50 )+M50*IF(G50=0,1,G50)*IF(I50=0,1,I50) -> 0
B51: 02.02.06. | N51: =(IF(G51=0,1,G51)*IF(I51=0,1,I51)*L51 )+M51*IF(G51=0,1,G51)*IF(I51=0,1,I51) -> 0 | O51: =N51/Portada!$F$15 -> 0 | S51: =M51*IF(G51=0,1,G51)*IF(I51=0,1,I51) -> 0 | U51: =IF(L51<>0,(M51/L51)/IF(G51=0,1,G51),0) -> 0 | EC51: =(IF(G51=0,1,G51)*IF(I51=0,1,I51)*L51 )+M51*IF(G51=0,1,G51)*IF(I51=0,1,I51) -> 0
B52: 02.02.07. | N52: =(IF(G52=0,1,G52)*IF(I52=0,1,I52)*L52 )+M52*IF(G52=0,1,G52)*IF(I52=0,1,I52) -> 0 | O52: =N52/Portada!$F$15 -> 0 | S52: =M52*IF(G52=0,1,G52)*IF(I52=0,1,I52) -> 0 | U52: =IF(L52<>0,(M52/L52)/IF(G52=0,1,G52),0) -> 0 | EC52: =(IF(G52=0,1,G52)*IF(I52=0,1,I52)*L52 )+M52*IF(G52=0,1,G52)*IF(I52=0,1,I52) -> 0
B53: 02.02.08. | N53: =(IF(G53=0,1,G53)*IF(I53=0,1,I53)*L53 )+M53*IF(G53=0,1,G53)*IF(I53=0,1,I53) -> 0 | O53: =N53/Portada!$F$15 -> 0 | S53: =M53*IF(G53=0,1,G53)*IF(I53=0,1,I53) -> 0 | U53: =IF(L53<>0,(M53/L53)/IF(G53=0,1,G53),0) -> 0 | EC53: =(IF(G53=0,1,G53)*IF(I53=0,1,I53)*L53 )+M53*IF(G53=0,1,G53)*IF(I53=0,1,I53) -> 0
B54: 02.02.09. | N54: =(IF(G54=0,1,G54)*IF(I54=0,1,I54)*L54 )+M54*IF(G54=0,1,G54)*IF(I54=0,1,I54) -> 0 | O54: =N54/Portada!$F$15 -> 0 | S54: =M54*IF(G54=0,1,G54)*IF(I54=0,1,I54) -> 0 | U54: =IF(L54<>0,(M54/L54)/IF(G54=0,1,G54),0) -> 0 | EC54: =(IF(G54=0,1,G54)*IF(I54=0,1,I54)*L54 )+M54*IF(G54=0,1,G54)*IF(I54=0,1,I54) -> 0
B55: 02.02.10. | N55: =(IF(G55=0,1,G55)*IF(I55=0,1,I55)*L55 )+M55*IF(G55=0,1,G55)*IF(I55=0,1,I55) -> 0 | O55: =N55/Portada!$F$15 -> 0 | S55: =M55*IF(G55=0,1,G55)*IF(I55=0,1,I55) -> 0 | U55: =IF(L55<>0,(M55/L55)/IF(G55=0,1,G55),0) -> 0 | EC55: =(IF(G55=0,1,G55)*IF(I55=0,1,I55)*L55 )+M55*IF(G55=0,1,G55)*IF(I55=0,1,I55) -> 0
B56: 02.02.11. | N56: =(IF(G56=0,1,G56)*IF(I56=0,1,I56)*L56 )+M56*IF(G56=0,1,G56)*IF(I56=0,1,I56) -> 0 | O56: =N56/Portada!$F$15 -> 0 | S56: =M56*IF(G56=0,1,G56)*IF(I56=0,1,I56) -> 0 | U56: =IF(L56<>0,(M56/L56)/IF(G56=0,1,G56),0) -> 0 | EC56: =(IF(G56=0,1,G56)*IF(I56=0,1,I56)*L56 )+M56*IF(G56=0,1,G56)*IF(I56=0,1,I56) -> 0
B57: 02.02.12. | N57: =(IF(G57=0,1,G57)*IF(I57=0,1,I57)*L57 )+M57*IF(G57=0,1,G57)*IF(I57=0,1,I57) -> 0 | O57: =N57/Portada!$F$15 -> 0 | S57: =M57*IF(G57=0,1,G57)*IF(I57=0,1,I57) -> 0 | U57: =IF(L57<>0,(M57/L57)/IF(G57=0,1,G57),0) -> 0 | EC57: =(IF(G57=0,1,G57)*IF(I57=0,1,I57)*L57 )+M57*IF(G57=0,1,G57)*IF(I57=0,1,I57) -> 0
... B60: 02.02.15. | N60: =(IF(G60=0,1,G60)*IF(I60=0,1,I60)*L60 )+M60*IF(G60=0,1,G60)*IF(I60=0,1,I60) -> 0 | O60: =N60/Portada!$F$15 -> 0 | S60: =M60*IF(G60=0,1,G60)*IF(I60=0,1,I60) -> 0 | U60: =IF(L60<>0,(M60/L60)/IF(G60=0,1,G60),0) -> 0 | EC60: =(IF(G60=0,1,G60)*IF(I60=0,1,I60)*L60 )+M60*IF(G60=0,1,G60)*IF(I60=0,1,I60) -> 0
C61: ="TOTAL " &" " & B45 & " " & (C45) -> TOTAL 02.02. Primers papers | N61: =SUM(N46:N60) -> 0 | O61: =SUM(O46:O60) -> 0 | P61: =SUM(P46:P60) -> 0 | Q61: =SUM(Q46:Q60) -> 0 | S61: =SUM(S46:S60) -> 0 | EC61: =SUM(EC46:EC60) -> 0
B62: Núm. Compte
B63: 02.03. | C63: Segons papers
B64: 02.03.01. | N64: =(IF(G64=0,1,G64)*IF(I64=0,1,I64)*L64 )+M64*IF(G64=0,1,G64)*IF(I64=0,1,I64) -> 0 | O64: =N64/Portada!$F$15 -> 0 | S64: =M64*IF(G64=0,1,G64)*IF(I64=0,1,I64) -> 0 | U64: =IF(L64<>0,(M64/L64)/IF(G64=0,1,G64),0) -> 0 | EC64: =(IF(G64=0,1,G64)*IF(I64=0,1,I64)*L64 )+M64*IF(G64=0,1,G64)*IF(I64=0,1,I64) -> 0
B65: 02.03.02. | N65: =(IF(G65=0,1,G65)*IF(I65=0,1,I65)*L65 )+M65*IF(G65=0,1,G65)*IF(I65=0,1,I65) -> 0 | O65: =N65/Portada!$F$15 -> 0 | S65: =M65*IF(G65=0,1,G65)*IF(I65=0,1,I65) -> 0 | U65: =IF(L65<>0,(M65/L65)/IF(G65=0,1,G65),0) -> 0 | EC65: =(IF(G65=0,1,G65)*IF(I65=0,1,I65)*L65 )+M65*IF(G65=0,1,G65)*IF(I65=0,1,I65) -> 0
B66: 02.03.03. | N66: =(IF(G66=0,1,G66)*IF(I66=0,1,I66)*L66 )+M66*IF(G66=0,1,G66)*IF(I66=0,1,I66) -> 0 | O66: =N66/Portada!$F$15 -> 0 | S66: =M66*IF(G66=0,1,G66)*IF(I66=0,1,I66) -> 0 | U66: =IF(L66<>0,(M66/L66)/IF(G66=0,1,G66),0) -> 0 | EC66: =(IF(G66=0,1,G66)*IF(I66=0,1,I66)*L66 )+M66*IF(G66=0,1,G66)*IF(I66=0,1,I66) -> 0
B67: 02.03.04. | N67: =(IF(G67=0,1,G67)*IF(I67=0,1,I67)*L67 )+M67*IF(G67=0,1,G67)*IF(I67=0,1,I67) -> 0 | O67: =N67/Portada!$F$15 -> 0 | S67: =M67*IF(G67=0,1,G67)*IF(I67=0,1,I67) -> 0 | U67: =IF(L67<>0,(M67/L67)/IF(G67=0,1,G67),0) -> 0 | EC67: =(IF(G67=0,1,G67)*IF(I67=0,1,I67)*L67 )+M67*IF(G67=0,1,G67)*IF(I67=0,1,I67) -> 0
B68: 02.03.05. | N68: =(IF(G68=0,1,G68)*IF(I68=0,1,I68)*L68 )+M68*IF(G68=0,1,G68)*IF(I68=0,1,I68) -> 0 | O68: =N68/Portada!$F$15 -> 0 | S68: =M68*IF(G68=0,1,G68)*IF(I68=0,1,I68) -> 0 | U68: =IF(L68<>0,(M68/L68)/IF(G68=0,1,G68),0) -> 0 | EC68: =(IF(G68=0,1,G68)*IF(I68=0,1,I68)*L68 )+M68*IF(G68=0,1,G68)*IF(I68=0,1,I68) -> 0
B69: 02.03.06. | N69: =(IF(G69=0,1,G69)*IF(I69=0,1,I69)*L69 )+M69*IF(G69=0,1,G69)*IF(I69=0,1,I69) -> 0 | O69: =N69/Portada!$F$15 -> 0 | S69: =M69*IF(G69=0,1,G69)*IF(I69=0,1,I69) -> 0 | U69: =IF(L69<>0,(M69/L69)/IF(G69=0,1,G69),0) -> 0 | EC69: =(IF(G69=0,1,G69)*IF(I69=0,1,I69)*L69 )+M69*IF(G69=0,1,G69)*IF(I69=0,1,I69) -> 0
B70: 02.03.07. | N70: =(IF(G70=0,1,G70)*IF(I70=0,1,I70)*L70 )+M70*IF(G70=0,1,G70)*IF(I70=0,1,I70) -> 0 | O70: =N70/Portada!$F$15 -> 0 | S70: =M70*IF(G70=0,1,G70)*IF(I70=0,1,I70) -> 0 | U70: =IF(L70<>0,(M70/L70)/IF(G70=0,1,G70),0) -> 0 | EC70: =(IF(G70=0,1,G70)*IF(I70=0,1,I70)*L70 )+M70*IF(G70=0,1,G70)*IF(I70=0,1,I70) -> 0
B71: 02.03.08. | N71: =(IF(G71=0,1,G71)*IF(I71=0,1,I71)*L71 )+M71*IF(G71=0,1,G71)*IF(I71=0,1,I71) -> 0 | O71: =N71/Portada!$F$15 -> 0 | S71: =M71*IF(G71=0,1,G71)*IF(I71=0,1,I71) -> 0 | U71: =IF(L71<>0,(M71/L71)/IF(G71=0,1,G71),0) -> 0 | EC71: =(IF(G71=0,1,G71)*IF(I71=0,1,I71)*L71 )+M71*IF(G71=0,1,G71)*IF(I71=0,1,I71) -> 0
B72: 02.03.09. | N72: =(IF(G72=0,1,G72)*IF(I72=0,1,I72)*L72 )+M72*IF(G72=0,1,G72)*IF(I72=0,1,I72) -> 0 | O72: =N72/Portada!$F$15 -> 0 | S72: =M72*IF(G72=0,1,G72)*IF(I72=0,1,I72) -> 0 | U72: =IF(L72<>0,(M72/L72)/IF(G72=0,1,G72),0) -> 0 | EC72: =(IF(G72=0,1,G72)*IF(I72=0,1,I72)*L72 )+M72*IF(G72=0,1,G72)*IF(I72=0,1,I72) -> 0
B73: 02.03.10. | N73: =(IF(G73=0,1,G73)*IF(I73=0,1,I73)*L73 )+M73*IF(G73=0,1,G73)*IF(I73=0,1,I73) -> 0 | O73: =N73/Portada!$F$15 -> 0 | S73: =M73*IF(G73=0,1,G73)*IF(I73=0,1,I73) -> 0 | U73: =IF(L73<>0,(M73/L73)/IF(G73=0,1,G73),0) -> 0 | EC73: =(IF(G73=0,1,G73)*IF(I73=0,1,I73)*L73 )+M73*IF(G73=0,1,G73)*IF(I73=0,1,I73) -> 0
B74: 02.03.11. | N74: =(IF(G74=0,1,G74)*IF(I74=0,1,I74)*L74 )+M74*IF(G74=0,1,G74)*IF(I74=0,1,I74) -> 0 | O74: =N74/Portada!$F$15 -> 0 | S74: =M74*IF(G74=0,1,G74)*IF(I74=0,1,I74) -> 0 | U74: =IF(L74<>0,(M74/L74)/IF(G74=0,1,G74),0) -> 0 | EC74: =(IF(G74=0,1,G74)*IF(I74=0,1,I74)*L74 )+M74*IF(G74=0,1,G74)*IF(I74=0,1,I74) -> 0
B75: 02.03.12. | N75: =(IF(G75=0,1,G75)*IF(I75=0,1,I75)*L75 )+M75*IF(G75=0,1,G75)*IF(I75=0,1,I75) -> 0 | O75: =N75/Portada!$F$15 -> 0 | S75: =M75*IF(G75=0,1,G75)*IF(I75=0,1,I75) -> 0 | U75: =IF(L75<>0,(M75/L75)/IF(G75=0,1,G75),0) -> 0 | EC75: =(IF(G75=0,1,G75)*IF(I75=0,1,I75)*L75 )+M75*IF(G75=0,1,G75)*IF(I75=0,1,I75) -> 0
... B78: 02.03.15. | N78: =(IF(G78=0,1,G78)*IF(I78=0,1,I78)*L78 )+M78*IF(G78=0,1,G78)*IF(I78=0,1,I78) -> 0 | O78: =N78/Portada!$F$15 -> 0 | S78: =M78*IF(G78=0,1,G78)*IF(I78=0,1,I78) -> 0 | U78: =IF(L78<>0,(M78/L78)/IF(G78=0,1,G78),0) -> 0 | EC78: =(IF(G78=0,1,G78)*IF(I78=0,1,I78)*L78 )+M78*IF(G78=0,1,G78)*IF(I78=0,1,I78) -> 0
C79: ="TOTAL " &" " & B63 & " " & (C63) -> TOTAL 02.03. Segons papers | N79: =SUM(N64:N78) -> 0 | O79: =SUM(O64:O78) -> 0 | P79: =SUM(P64:P78) -> 0 | Q79: =SUM(Q64:Q78) -> 0 | S79: =SUM(S64:S78) -> 0 | EC79: =SUM(EC64:EC78) -> 0
B80: Núm. Compte
B81: 02.04. | C81: Repartiment
B82: 02.04.01. | N82: =(IF(G82=0,1,G82)*IF(I82=0,1,I82)*L82 )+M82*IF(G82=0,1,G82)*IF(I82=0,1,I82) -> 0 | O82: =N82/Portada!$F$15 -> 0 | S82: =M82*IF(G82=0,1,G82)*IF(I82=0,1,I82) -> 0 | U82: =IF(L82<>0,(M82/L82)/IF(G82=0,1,G82),0) -> 0 | EC82: =(IF(G82=0,1,G82)*IF(I82=0,1,I82)*L82 )+M82*IF(G82=0,1,G82)*IF(I82=0,1,I82) -> 0
B83: 02.04.02. | N83: =(IF(G83=0,1,G83)*IF(I83=0,1,I83)*L83 )+M83*IF(G83=0,1,G83)*IF(I83=0,1,I83) -> 0 | O83: =N83/Portada!$F$15 -> 0 | S83: =M83*IF(G83=0,1,G83)*IF(I83=0,1,I83) -> 0 | U83: =IF(L83<>0,(M83/L83)/IF(G83=0,1,G83),0) -> 0 | EC83: =(IF(G83=0,1,G83)*IF(I83=0,1,I83)*L83 )+M83*IF(G83=0,1,G83)*IF(I83=0,1,I83) -> 0
B84: 02.04.03. | N84: =(IF(G84=0,1,G84)*IF(I84=0,1,I84)*L84 )+M84*IF(G84=0,1,G84)*IF(I84=0,1,I84) -> 0 | O84: =N84/Portada!$F$15 -> 0 | S84: =M84*IF(G84=0,1,G84)*IF(I84=0,1,I84) -> 0 | U84: =IF(L84<>0,(M84/L84)/IF(G84=0,1,G84),0) -> 0 | EC84: =(IF(G84=0,1,G84)*IF(I84=0,1,I84)*L84 )+M84*IF(G84=0,1,G84)*IF(I84=0,1,I84) -> 0
B85: 02.04.04. | N85: =(IF(G85=0,1,G85)*IF(I85=0,1,I85)*L85 )+M85*IF(G85=0,1,G85)*IF(I85=0,1,I85) -> 0 | O85: =N85/Portada!$F$15 -> 0 | S85: =M85*IF(G85=0,1,G85)*IF(I85=0,1,I85) -> 0 | U85: =IF(L85<>0,(M85/L85)/IF(G85=0,1,G85),0) -> 0 | EC85: =(IF(G85=0,1,G85)*IF(I85=0,1,I85)*L85 )+M85*IF(G85=0,1,G85)*IF(I85=0,1,I85) -> 0
B86: 02.04.05. | N86: =(IF(G86=0,1,G86)*IF(I86=0,1,I86)*L86 )+M86*IF(G86=0,1,G86)*IF(I86=0,1,I86) -> 0 | O86: =N86/Portada!$F$15 -> 0 | S86: =M86*IF(G86=0,1,G86)*IF(I86=0,1,I86) -> 0 | U86: =IF(L86<>0,(M86/L86)/IF(G86=0,1,G86),0) -> 0 | EC86: =(IF(G86=0,1,G86)*IF(I86=0,1,I86)*L86 )+M86*IF(G86=0,1,G86)*IF(I86=0,1,I86) -> 0
B87: 02.04.06. | N87: =(IF(G87=0,1,G87)*IF(I87=0,1,I87)*L87 )+M87*IF(G87=0,1,G87)*IF(I87=0,1,I87) -> 0 | O87: =N87/Portada!$F$15 -> 0 | S87: =M87*IF(G87=0,1,G87)*IF(I87=0,1,I87) -> 0 | U87: =IF(L87<>0,(M87/L87)/IF(G87=0,1,G87),0) -> 0 | EC87: =(IF(G87=0,1,G87)*IF(I87=0,1,I87)*L87 )+M87*IF(G87=0,1,G87)*IF(I87=0,1,I87) -> 0
B88: 02.04.07. | N88: =(IF(G88=0,1,G88)*IF(I88=0,1,I88)*L88 )+M88*IF(G88=0,1,G88)*IF(I88=0,1,I88) -> 0 | O88: =N88/Portada!$F$15 -> 0 | S88: =M88*IF(G88=0,1,G88)*IF(I88=0,1,I88) -> 0 | U88: =IF(L88<>0,(M88/L88)/IF(G88=0,1,G88),0) -> 0 | EC88: =(IF(G88=0,1,G88)*IF(I88=0,1,I88)*L88 )+M88*IF(G88=0,1,G88)*IF(I88=0,1,I88) -> 0
B89: 02.04.08. | N89: =(IF(G89=0,1,G89)*IF(I89=0,1,I89)*L89 )+M89*IF(G89=0,1,G89)*IF(I89=0,1,I89) -> 0 | O89: =N89/Portada!$F$15 -> 0 | S89: =M89*IF(G89=0,1,G89)*IF(I89=0,1,I89) -> 0 | U89: =IF(L89<>0,(M89/L89)/IF(G89=0,1,G89),0) -> 0 | EC89: =(IF(G89=0,1,G89)*IF(I89=0,1,I89)*L89 )+M89*IF(G89=0,1,G89)*IF(I89=0,1,I89) -> 0
B90: 02.04.09. | N90: =(IF(G90=0,1,G90)*IF(I90=0,1,I90)*L90 )+M90*IF(G90=0,1,G90)*IF(I90=0,1,I90) -> 0 | O90: =N90/Portada!$F$15 -> 0 | S90: =M90*IF(G90=0,1,G90)*IF(I90=0,1,I90) -> 0 | U90: =IF(L90<>0,(M90/L90)/IF(G90=0,1,G90),0) -> 0 | EC90: =(IF(G90=0,1,G90)*IF(I90=0,1,I90)*L90 )+M90*IF(G90=0,1,G90)*IF(I90=0,1,I90) -> 0
B91: 02.04.10. | N91: =(IF(G91=0,1,G91)*IF(I91=0,1,I91)*L91 )+M91*IF(G91=0,1,G91)*IF(I91=0,1,I91) -> 0 | O91: =N91/Portada!$F$15 -> 0 | S91: =M91*IF(G91=0,1,G91)*IF(I91=0,1,I91) -> 0 | U91: =IF(L91<>0,(M91/L91)/IF(G91=0,1,G91),0) -> 0 | EC91: =(IF(G91=0,1,G91)*IF(I91=0,1,I91)*L91 )+M91*IF(G91=0,1,G91)*IF(I91=0,1,I91) -> 0
B92: 02.04.11. | N92: =(IF(G92=0,1,G92)*IF(I92=0,1,I92)*L92 )+M92*IF(G92=0,1,G92)*IF(I92=0,1,I92) -> 0 | O92: =N92/Portada!$F$15 -> 0 | S92: =M92*IF(G92=0,1,G92)*IF(I92=0,1,I92) -> 0 | U92: =IF(L92<>0,(M92/L92)/IF(G92=0,1,G92),0) -> 0 | EC92: =(IF(G92=0,1,G92)*IF(I92=0,1,I92)*L92 )+M92*IF(G92=0,1,G92)*IF(I92=0,1,I92) -> 0
B93: 02.04.12. | N93: =(IF(G93=0,1,G93)*IF(I93=0,1,I93)*L93 )+M93*IF(G93=0,1,G93)*IF(I93=0,1,I93) -> 0 | O93: =N93/Portada!$F$15 -> 0 | S93: =M93*IF(G93=0,1,G93)*IF(I93=0,1,I93) -> 0 | U93: =IF(L93<>0,(M93/L93)/IF(G93=0,1,G93),0) -> 0 | EC93: =(IF(G93=0,1,G93)*IF(I93=0,1,I93)*L93 )+M93*IF(G93=0,1,G93)*IF(I93=0,1,I93) -> 0
... B96: 02.04.15. | N96: =(IF(G96=0,1,G96)*IF(I96=0,1,I96)*L96 )+M96*IF(G96=0,1,G96)*IF(I96=0,1,I96) -> 0 | O96: =N96/Portada!$F$15 -> 0 | S96: =M96*IF(G96=0,1,G96)*IF(I96=0,1,I96) -> 0 | U96: =IF(L96<>0,(M96/L96)/IF(G96=0,1,G96),0) -> 0 | EC96: =(IF(G96=0,1,G96)*IF(I96=0,1,I96)*L96 )+M96*IF(G96=0,1,G96)*IF(I96=0,1,I96) -> 0
C97: ="TOTAL " &" " & B81 & " " & (C81) -> TOTAL 02.04. Repartiment | N97: =SUM(N82:N96) -> 0 | O97: =SUM(O82:O96) -> 0 | P97: =SUM(P82:P96) -> 0 | Q97: =SUM(Q82:Q96) -> 0 | S97: =SUM(S82:S96) -> 0 | EC97: =SUM(EC82:EC96) -> 0
B98: Núm. Compte
B99: 02.05. | C99: Intervenció breu
B100: 02.05.01. | N100: =(IF(G100=0,1,G100)*IF(I100=0,1,I100)*L100 )+M100*IF(G100=0,1,G100)*IF(I100=0,1,I100) -> 0 | O100: =N100/Portada!$F$15 -> 0 | S100: =M100*IF(G100=0,1,G100)*IF(I100=0,1,I100) -> 0 | U100: =IF(L100<>0,(M100/L100)/IF(G100=0,1,G100),0) -> 0 | EC100: =(IF(G100=0,1,G100)*IF(I100=0,1,I100)*L100 )+M100*IF(G100=0,1,G100)*IF(I100=0,1,I100) -> 0
B101: 02.05.02. | N101: =(IF(G101=0,1,G101)*IF(I101=0,1,I101)*L101 )+M101*IF(G101=0,1,G101)*IF(I101=0,1,I101) -> 0 | O101: =N101/Portada!$F$15 -> 0 | S101: =M101*IF(G101=0,1,G101)*IF(I101=0,1,I101) -> 0 | U101: =IF(L101<>0,(M101/L101)/IF(G101=0,1,G101),0) -> 0 | EC101: =(IF(G101=0,1,G101)*IF(I101=0,1,I101)*L101 )+M101*IF(G101=0,1,G101)*IF(I101=0,1,I101) -> 0
B102: 02.05.03. | N102: =(IF(G102=0,1,G102)*IF(I102=0,1,I102)*L102 )+M102*IF(G102=0,1,G102)*IF(I102=0,1,I102) -> 0 | O102: =N102/Portada!$F$15 -> 0 | S102: =M102*IF(G102=0,1,G102)*IF(I102=0,1,I102) -> 0 | U102: =IF(L102<>0,(M102/L102)/IF(G102=0,1,G102),0) -> 0 | EC102: =(IF(G102=0,1,G102)*IF(I102=0,1,I102)*L102 )+M102*IF(G102=0,1,G102)*IF(I102=0,1,I102) -> 0
B103: 02.05.04. | N103: =(IF(G103=0,1,G103)*IF(I103=0,1,I103)*L103 )+M103*IF(G103=0,1,G103)*IF(I103=0,1,I103) -> 0 | O103: =N103/Portada!$F$15 -> 0 | S103: =M103*IF(G103=0,1,G103)*IF(I103=0,1,I103) -> 0 | U103: =IF(L103<>0,(M103/L103)/IF(G103=0,1,G103),0) -> 0 | EC103: =(IF(G103=0,1,G103)*IF(I103=0,1,I103)*L103 )+M103*IF(G103=0,1,G103)*IF(I103=0,1,I103) -> 0
B104: 02.05.05. | N104: =(IF(G104=0,1,G104)*IF(I104=0,1,I104)*L104 )+M104*IF(G104=0,1,G104)*IF(I104=0,1,I104) -> 0 | O104: =N104/Portada!$F$15 -> 0 | S104: =M104*IF(G104=0,1,G104)*IF(I104=0,1,I104) -> 0 | U104: =IF(L104<>0,(M104/L104)/IF(G104=0,1,G104),0) -> 0 | EC104: =(IF(G104=0,1,G104)*IF(I104=0,1,I104)*L104 )+M104*IF(G104=0,1,G104)*IF(I104=0,1,I104) -> 0
B105: 02.05.06. | N105: =(IF(G105=0,1,G105)*IF(I105=0,1,I105)*L105 )+M105*IF(G105=0,1,G105)*IF(I105=0,1,I105) -> 0 | O105: =N105/Portada!$F$15 -> 0 | S105: =M105*IF(G105=0,1,G105)*IF(I105=0,1,I105) -> 0 | U105: =IF(L105<>0,(M105/L105)/IF(G105=0,1,G105),0) -> 0 | EC105: =(IF(G105=0,1,G105)*IF(I105=0,1,I105)*L105 )+M105*IF(G105=0,1,G105)*IF(I105=0,1,I105) -> 0
B106: 02.05.07. | N106: =(IF(G106=0,1,G106)*IF(I106=0,1,I106)*L106 )+M106*IF(G106=0,1,G106)*IF(I106=0,1,I106) -> 0 | O106: =N106/Portada!$F$15 -> 0 | S106: =M106*IF(G106=0,1,G106)*IF(I106=0,1,I106) -> 0 | U106: =IF(L106<>0,(M106/L106)/IF(G106=0,1,G106),0) -> 0 | EC106: =(IF(G106=0,1,G106)*IF(I106=0,1,I106)*L106 )+M106*IF(G106=0,1,G106)*IF(I106=0,1,I106) -> 0
B107: 02.05.08. | N107: =(IF(G107=0,1,G107)*IF(I107=0,1,I107)*L107 )+M107*IF(G107=0,1,G107)*IF(I107=0,1,I107) -> 0 | O107: =N107/Portada!$F$15 -> 0 | S107: =M107*IF(G107=0,1,G107)*IF(I107=0,1,I107) -> 0 | U107: =IF(L107<>0,(M107/L107)/IF(G107=0,1,G107),0) -> 0 | EC107: =(IF(G107=0,1,G107)*IF(I107=0,1,I107)*L107 )+M107*IF(G107=0,1,G107)*IF(I107=0,1,I107) -> 0
B108: 02.05.09. | N108: =(IF(G108=0,1,G108)*IF(I108=0,1,I108)*L108 )+M108*IF(G108=0,1,G108)*IF(I108=0,1,I108) -> 0 | O108: =N108/Portada!$F$15 -> 0 | S108: =M108*IF(G108=0,1,G108)*IF(I108=0,1,I108) -> 0 | U108: =IF(L108<>0,(M108/L108)/IF(G108=0,1,G108),0) -> 0 | EC108: =(IF(G108=0,1,G108)*IF(I108=0,1,I108)*L108 )+M108*IF(G108=0,1,G108)*IF(I108=0,1,I108) -> 0
...

Sheet Pressupost Producció TV
B1: =Portada!B1 -> Actualització a: 12/02/2026 | D1: Producció Audiovisual Televisió (Producció)
A2: Capítols de despesa | D2: Nom / Concepte | E2: Tipologia | G2: Quantitat | H2: NOTES EXPLICATIVES | I2: Unitats | K2: L-TF L-TT A | L2: Cost unitari | N2: Cost total | P2: Temp. Ant. | S2: S.S. | U2: S.S.
E3: E | F3: V | G3: valor numèric | I3: Nº | J3: Tipus | L3: Cost | M3: S.S. | N3: Total | O3: x Cap. | P3: PRESSUPOST | Q3: LIQUIDACIÓ | U3: %
C5: CAPÍTOL 01.- Guió, música i arxiu
B6: Núm. Compte
B7: 01.01. | C7: Guió
B8: 01.01.01. | C8: Argument original o bíblia | N8: =(IF(G8=0,1,G8)*IF(I8=0,1,I8)*L8)+M8*IF(G8=0,1,G8)*IF(I8=0,1,I8) -> 0 | O8: =N8/Portada!$F$15 -> 0 | S8: =M8*IF(G8=0,1,G8)*IF(I8=0,1,I8) -> 0 | EC8: =(IF(G8=0,1,G8)*IF(I8=0,1,I8)*L8 )+M8*IF(G8=0,1,G8)*IF(I8=0,1,I8) -> 0
B9: 01.01.02. | C9: Compra de guió | N9: =(IF(G9=0,1,G9)*IF(I9=0,1,I9)*L9)+M9*IF(G9=0,1,G9)*IF(I9=0,1,I9) -> 0 | O9: =N9/Portada!$F$15 -> 0 | S9: =M9*IF(G9=0,1,G9)*IF(I9=0,1,I9) -> 0 | EC9: =(IF(G9=0,1,G9)*IF(I9=0,1,I9)*L9 )+M9*IF(G9=0,1,G9)*IF(I9=0,1,I9) -> 0
B10: 01.01.03. | C10: Traduccions | N10: =(IF(G10=0,1,G10)*IF(I10=0,1,I10)*L10 )+M10*IF(G10=0,1,G10)*IF(I10=0,1,I10) -> 0 | O10: =N10/Portada!$F$15 -> 0 | S10: =M10*IF(G10=0,1,G10)*IF(I10=0,1,I10) -> 0 | EC10: =(IF(G10=0,1,G10)*IF(I10=0,1,I10)*L10 )+M10*IF(G10=0,1,G10)*IF(I10=0,1,I10) -> 0
B11: 01.01.04. | C11: Transcripcions | N11: =(IF(G11=0,1,G11)*IF(I11=0,1,I11)*L11 )+M11*IF(G11=0,1,G11)*IF(I11=0,1,I11) -> 0 | O11: =N11/Portada!$F$15 -> 0 | S11: =M11*IF(G11=0,1,G11)*IF(I11=0,1,I11) -> 0 | EC11: =(IF(G11=0,1,G11)*IF(I11=0,1,I11)*L11 )+M11*IF(G11=0,1,G11)*IF(I11=0,1,I11) -> 0
B12: 01.01.05. | C12: Imatges d'arxiu | N12: =(IF(G12=0,1,G12)*IF(I12=0,1,I12)*L12 )+M12*IF(G12=0,1,G12)*IF(I12=0,1,I12) -> 0 | O12: =N12/Portada!$F$15 -> 0 | S12: =M12*IF(G12=0,1,G12)*IF(I12=0,1,I12) -> 0 | EC12: =(IF(G12=0,1,G12)*IF(I12=0,1,I12)*L12 )+M12*IF(G12=0,1,G12)*IF(I12=0,1,I12) -> 0
B13: 01.01.06. | C13: Drets de format | N13: =(IF(G13=0,1,G13)*IF(I13=0,1,I13)*L13 )+M13*IF(G13=0,1,G13)*IF(I13=0,1,I13) -> 0 | O13: =N13/Portada!$F$15 -> 0 | S13: =M13*IF(G13=0,1,G13)*IF(I13=0,1,I13) -> 0 | EC13: =(IF(G13=0,1,G13)*IF(I13=0,1,I13)*L13 )+M13*IF(G13=0,1,G13)*IF(I13=0,1,I13) -> 0
B14: 01.01.07. | C14: Premis de Programa | N14: =(IF(G14=0,1,G14)*IF(I14=0,1,I14)*L14 )+M14*IF(G14=0,1,G14)*IF(I14=0,1,I14) -> 0 | O14: =N14/Portada!$F$15 -> 0 | S14: =M14*IF(G14=0,1,G14)*IF(I14=0,1,I14) -> 0 | EC14: =(IF(G14=0,1,G14)*IF(I14=0,1,I14)*L14 )+M14*IF(G14=0,1,G14)*IF(I14=0,1,I14) -> 0
B15: 01.01.08. | N15: =(IF(G15=0,1,G15)*IF(I15=0,1,I15)*L15 )+M15*IF(G15=0,1,G15)*IF(I15=0,1,I15) -> 0 | O15: =N15/Portada!$F$15 -> 0 | S15: =M15*IF(G15=0,1,G15)*IF(I15=0,1,I15) -> 0 | EC15: =(IF(G15=0,1,G15)*IF(I15=0,1,I15)*L15 )+M15*IF(G15=0,1,G15)*IF(I15=0,1,I15) -> 0
B16: 01.01.09. | N16: =(IF(G16=0,1,G16)*IF(I16=0,1,I16)*L16 )+M16*IF(G16=0,1,G16)*IF(I16=0,1,I16) -> 0 | O16: =N16/Portada!$F$15 -> 0 | S16: =M16*IF(G16=0,1,G16)*IF(I16=0,1,I16) -> 0 | EC16: =(IF(G16=0,1,G16)*IF(I16=0,1,I16)*L16 )+M16*IF(G16=0,1,G16)*IF(I16=0,1,I16) -> 0
B17: 01.01.10. | N17: =(IF(G17=0,1,G17)*IF(I17=0,1,I17)*L17 )+M17*IF(G17=0,1,G17)*IF(I17=0,1,I17) -> 0 | O17: =N17/Portada!$F$15 -> 0 | S17: =M17*IF(G17=0,1,G17)*IF(I17=0,1,I17) -> 0 | EC17: =(IF(G17=0,1,G17)*IF(I17=0,1,I17)*L17 )+M17*IF(G17=0,1,G17)*IF(I17=0,1,I17) -> 0
C18: ="TOTAL " &" " & B7 & " " & (C7) -> TOTAL 01.01. Guió | N18: =SUM(N8:N17) -> 0 | O18: =SUM(O8:O17) -> 0 | P18: =SUM(P8:P17) -> 0 | Q18: =SUM(Q8:Q17) -> 0 | S18: =SUM(S8:S17) -> 0 | EC18: =SUM(EC8:EC17) -> 0
B19: Núm. Compte
B20: 01.02. | C20: Música
B21: 01.02.01. | C21: Música original | N21: =(IF(G21=0,1,G21)*IF(I21=0,1,I21)*L21 )+M21*IF(G21=0,1,G21)*IF(I21=0,1,I21) -> 0 | O21: =N21/Portada!$F$15 -> 0 | S21: =M21*IF(G21=0,1,G21)*IF(I21=0,1,I21) -> 0 | EC21: =(IF(G21=0,1,G21)*IF(I21=0,1,I21)*L21 )+M21*IF(G21=0,1,G21)*IF(I21=0,1,I21) -> 0
B22: 01.02.02. | C22: Musica de llibreria | N22: =(IF(G22=0,1,G22)*IF(I22=0,1,I22)*L22 )+M22*IF(G22=0,1,G22)*IF(I22=0,1,I22) -> 0 | O22: =N22/Portada!$F$15 -> 0 | S22: =M22*IF(G22=0,1,G22)*IF(I22=0,1,I22) -> 0 | EC22: =(IF(G22=0,1,G22)*IF(I22=0,1,I22)*L22 )+M22*IF(G22=0,1,G22)*IF(I22=0,1,I22) -> 0
B23: 01.02.03. | C23: Arranjaments | N23: =(IF(G23=0,1,G23)*IF(I23=0,1,I23)*L23 )+M23*IF(G23=0,1,G23)*IF(I23=0,1,I23) -> 0 | O23: =N23/Portada!$F$15 -> 0 | S23: =M23*IF(G23=0,1,G23)*IF(I23=0,1,I23) -> 0 | EC23: =(IF(G23=0,1,G23)*IF(I23=0,1,I23)*L23 )+M23*IF(G23=0,1,G23)*IF(I23=0,1,I23) -> 0
B24: 01.02.04. | N24: =(IF(G24=0,1,G24)*IF(I24=0,1,I24)*L24 )+M24*IF(G24=0,1,G24)*IF(I24=0,1,I24) -> 0 | O24: =N24/Portada!$F$15 -> 0 | S24: =M24*IF(G24=0,1,G24)*IF(I24=0,1,I24) -> 0 | EC24: =(IF(G24=0,1,G24)*IF(I24=0,1,I24)*L24 )+M24*IF(G24=0,1,G24)*IF(I24=0,1,I24) -> 0
B25: 01.02.05. | N25: =(IF(G25=0,1,G25)*IF(I25=0,1,I25)*L25 )+M25*IF(G25=0,1,G25)*IF(I25=0,1,I25) -> 0 | O25: =N25/Portada!$F$15 -> 0 | S25: =M25*IF(G25=0,1,G25)*IF(I25=0,1,I25) -> 0 | EC25: =(IF(G25=0,1,G25)*IF(I25=0,1,I25)*L25 )+M25*IF(G25=0,1,G25)*IF(I25=0,1,I25) -> 0
B26: 01.02.06. | N26: =(IF(G26=0,1,G26)*IF(I26=0,1,I26)*L26 )+M26*IF(G26=0,1,G26)*IF(I26=0,1,I26) -> 0 | O26: =N26/Portada!$F$15 -> 0 | S26: =M26*IF(G26=0,1,G26)*IF(I26=0,1,I26) -> 0 | EC26: =(IF(G26=0,1,G26)*IF(I26=0,1,I26)*L26 )+M26*IF(G26=0,1,G26)*IF(I26=0,1,I26) -> 0
C27: ="TOTAL " &" " & B20 & " " & (C20) -> TOTAL 01.02. Música | N27: =SUM(N21:N26) -> 0 | O27: =SUM(O21:O26) -> 0 | P27: =SUM(P21:P26) -> 0 | Q27: =SUM(Q21:Q26) -> 0 | S27: =SUM(S21:S26) -> 0 | EC27: =SUM(EC21:EC26) -> 0
C28: TOTAL | D28: =C5 -> CAPÍTOL 01.- Guió, música i arxiu | N28: =(N18 + N27) -> 0 | O28: =(O18 + O27) -> 0 | P28: =(P18 + P27) -> 0 | Q28: =(Q18 + Q27) -> 0 | S28: =S18+S27 -> 0 | EC28: =(EC18 + EC27) -> 0
C30: CAPÍTOL 02.- Personal artístic
B31: Núm. Compte
B32: 02.01. | C32: Protagonistes
B33: 02.01.01. | N33: =(IF(G33=0,1,G33)*IF(I33=0,1,I33)*L33 )+M33*IF(G33=0,1,G33)*IF(I33=0,1,I33) -> 0 | O33: =N33/Portada!$F$15 -> 0 | S33: =M33*IF(G33=0,1,G33)*IF(I33=0,1,I33) -> 0 | U33: =IF(L33<>0,(M33/L33)/IF(G33=0,1,G33),0) -> 0 | EC33: =(IF(G33=0,1,G33)*IF(I33=0,1,I33)*L33 )+M33*IF(G33=0,1,G33)*IF(I33=0,1,I33) -> 0
B34: 02.01.02. | N34: =(IF(G34=0,1,G34)*IF(I34=0,1,I34)*L34 )+M34*IF(G34=0,1,G34)*IF(I34=0,1,I34) -> 0 | O34: =N34/Portada!$F$15 -> 0 | S34: =M34*IF(G34=0,1,G34)*IF(I34=0,1,I34) -> 0 | U34: =IF(L34<>0,(M34/L34)/IF(G34=0,1,G34),0) -> 0 | EC34: =(IF(G34=0,1,G34)*IF(I34=0,1,I34)*L34 )+M34*IF(G34=0,1,G34)*IF(I34=0,1,I34) -> 0
B35: 02.01.03. | N35: =(IF(G35=0,1,G35)*IF(I35=0,1,I35)*L35 )+M35*IF(G35=0,1,G35)*IF(I35=0,1,I35) -> 0 | O35: =N35/Portada!$F$15 -> 0 | S35: =M35*IF(G35=0,1,G35)*IF(I35=0,1,I35) -> 0 | U35: =IF(L35<>0,(M35/L35)/IF(G35=0,1,G35),0) -> 0 | EC35: =(IF(G35=0,1,G35)*IF(I35=0,1,I35)*L35 )+M35*IF(G35=0,1,G35)*IF(I35=0,1,I35) -> 0
B36: 02.01.04. | N36: =(IF(G36=0,1,G36)*IF(I36=0,1,I36)*L36 )+M36*IF(G36=0,1,G36)*IF(I36=0,1,I36) -> 0 | O36: =N36/Portada!$F$15 -> 0 | S36: =M36*IF(G36=0,1,G36)*IF(I36=0,1,I36) -> 0 | U36: =IF(L36<>0,(M36/L36)/IF(G36=0,1,G36),0) -> 0 | EC36: =(IF(G36=0,1,G36)*IF(I36=0,1,I36)*L36 )+M36*IF(G36=0,1,G36)*IF(I36=0,1,I36) -> 0
B37: 02.01.05. | N37: =(IF(G37=0,1,G37)*IF(I37=0,1,I37)*L37 )+M37*IF(G37=0,1,G37)*IF(I37=0,1,I37) -> 0 | O37: =N37/Portada!$F$15 -> 0 | S37: =M37*IF(G37=0,1,G37)*IF(I37=0,1,I37) -> 0 | U37: =IF(L37<>0,(M37/L37)/IF(G37=0,1,G37),0) -> 0 | EC37: =(IF(G37=0,1,G37)*IF(I37=0,1,I37)*L37 )+M37*IF(G37=0,1,G37)*IF(I37=0,1,I37) -> 0
B38: 02.01.06. | N38: =(IF(G38=0,1,G38)*IF(I38=0,1,I38)*L38 )+M38*IF(G38=0,1,G38)*IF(I38=0,1,I38) -> 0 | O38: =N38/Portada!$F$15 -> 0 | S38: =M38*IF(G38=0,1,G38)*IF(I38=0,1,I38) -> 0 | U38: =IF(L38<>0,(M38/L38)/IF(G38=0,1,G38),0) -> 0 | EC38: =(IF(G38=0,1,G38)*IF(I38=0,1,I38)*L38 )+M38*IF(G38=0,1,G38)*IF(I38=0,1,I38) -> 0
B39: 02.01.07. | N39: =(IF(G39=0,1,G39)*IF(I39=0,1,I39)*L39 )+M39*IF(G39=0,1,G39)*IF(I39=0,1,I39) -> 0 | O39: =N39/Portada!$F$15 -> 0 | S39: =M39*IF(G39=0,1,G39)*IF(I39=0,1,I39) -> 0 | U39: =IF(L39<>0,(M39/L39)/IF(G39=0,1,G39),0) -> 0 | EC39: =(IF(G39=0,1,G39)*IF(I39=0,1,I39)*L39 )+M39*IF(G39=0,1,G39)*IF(I39=0,1,I39) -> 0
B40: 02.01.08. | N40: =(IF(G40=0,1,G40)*IF(I40=0,1,I40)*L40 )+M40*IF(G40=0,1,G40)*IF(I40=0,1,I40) -> 0 | O40: =N40/Portada!$F$15 -> 0 | S40: =M40*IF(G40=0,1,G40)*IF(I40=0,1,I40) -> 0 | U40: =IF(L40<>0,(M40/L40)/IF(G40=0,1,G40),0) -> 0 | EC40: =(IF(G40=0,1,G40)*IF(I40=0,1,I40)*L40 )+M40*IF(G40=0,1,G40)*IF(I40=0,1,I40) -> 0
B41: 02.01.09. | N41: =(IF(G41=0,1,G41)*IF(I41=0,1,I41)*L41 )+M41*IF(G41=0,1,G41)*IF(I41=0,1,I41) -> 0 | O41: =N41/Portada!$F$15 -> 0 | S41: =M41*IF(G41=0,1,G41)*IF(I41=0,1,I41) -> 0 | U41: =IF(L41<>0,(M41/L41)/IF(G41=0,1,G41),0) -> 0 | EC41: =(IF(G41=0,1,G41)*IF(I41=0,1,I41)*L41 )+M41*IF(G41=0,1,G41)*IF(I41=0,1,I41) -> 0
B42: 02.01.10. | N42: =(IF(G42=0,1,G42)*IF(I42=0,1,I42)*L42 )+M42*IF(G42=0,1,G42)*IF(I42=0,1,I42) -> 0 | O42: =N42/Portada!$F$15 -> 0 | S42: =M42*IF(G42=0,1,G42)*IF(I42=0,1,I42) -> 0 | U42: =IF(L42<>0,(M42/L42)/IF(G42=0,1,G42),0) -> 0 | EC42: =(IF(G42=0,1,G42)*IF(I42=0,1,I42)*L42 )+M42*IF(G42=0,1,G42)*IF(I42=0,1,I42) -> 0
C43: ="TOTAL " &" " & B32 & " " & (C32) -> TOTAL 02.01. Protagonistes | N43: =SUM(N33:N42) -> 0 | O43: =SUM(O33:O42) -> 0 | P43: =SUM(P33:P42) -> 0 | Q43: =SUM(Q33:Q42) -> 0 | S43: =SUM(S33:S42) -> 0 | EC43: =SUM(EC33:EC42) -> 0
B44: Núm. Compte
B45: 02.02. | C45: Primers papers
B46: 02.02.01. | N46: =(IF(G46=0,1,G46)*IF(I46=0,1,I46)*L46 )+M46*IF(G46=0,1,G46)*IF(I46=0,1,I46) -> 0 | O46: =N46/Portada!$F$15 -> 0 | S46: =M46*IF(G46=0,1,G46)*IF(I46=0,1,I46) -> 0 | U46: =IF(L46<>0,(M46/L46)/IF(G46=0,1,G46),0) -> 0 | EC46: =(IF(G46=0,1,G46)*IF(I46=0,1,I46)*L46 )+M46*IF(G46=0,1,G46)*IF(I46=0,1,I46) -> 0
B47: 02.02.02. | N47: =(IF(G47=0,1,G47)*IF(I47=0,1,I47)*L47 )+M47*IF(G47=0,1,G47)*IF(I47=0,1,I47) -> 0 | O47: =N47/Portada!$F$15 -> 0 | S47: =M47*IF(G47=0,1,G47)*IF(I47=0,1,I47) -> 0 | U47: =IF(L47<>0,(M47/L47)/IF(G47=0,1,G47),0) -> 0 | EC47: =(IF(G47=0,1,G47)*IF(I47=0,1,I47)*L47 )+M47*IF(G47=0,1,G47)*IF(I47=0,1,I47) -> 0
B48: 02.02.03. | N48: =(IF(G48=0,1,G48)*IF(I48=0,1,I48)*L48 )+M48*IF(G48=0,1,G48)*IF(I48=0,1,I48) -> 0 | O48: =N48/Portada!$F$15 -> 0 | S48: =M48*IF(G48=0,1,G48)*IF(I48=0,1,I48) -> 0 | U48: =IF(L48<>0,(M48/L48)/IF(G48=0,1,G48),0) -> 0 | EC48: =(IF(G48=0,1,G48)*IF(I48=0,1,I48)*L48 )+M48*IF(G48=0,1,G48)*IF(I48=0,1,I48) -> 0
B49: 02.02.04. | N49: =(IF(G49=0,1,G49)*IF(I49=0,1,I49)*L49 )+M49*IF(G49=0,1,G49)*IF(I49=0,1,I49) -> 0 | O49: =N49/Portada!$F$15 -> 0 | S49: =M49*IF(G49=0,1,G49)*IF(I49=0,1,I49) -> 0 | U49: =IF(L49<>0,(M49/L49)/IF(G49=0,1,G49),0) -> 0 | EC49: =(IF(G49=0,1,G49)*IF(I49=0,1,I49)*L49 )+M49*IF(G49=0,1,G49)*IF(I49=0,1,I49) -> 0
B50: 02.02.05. | N50: =(IF(G50=0,1,G50)*IF(I50=0,1,I50)*L50 )+M50*IF(G50=0,1,G50)*IF(I50=0,1,I50) -> 0 | O50: =N50/Portada!$F$15 -> 0 | S50: =M50*IF(G50=0,1,G50)*IF(I50=0,1,I50) -> 0 | U50: =IF(L50<>0,(M50/L50)/IF(G50=0,1,G50),0) -> 0 | EC50: =(IF(G50=0,1,G50)*IF(I50=0,1,I50)*L50 )+M50*IF(G50=0,1,G50)*IF(I50=0,1,I50) -> 0
B51: 02.02.06. | N51: =(IF(G51=0,1,G51)*IF(I51=0,1,I51)*L51 )+M51*IF(G51=0,1,G51)*IF(I51=0,1,I51) -> 0 | O51: =N51/Portada!$F$15 -> 0 | S51: =M51*IF(G51=0,1,G51)*IF(I51=0,1,I51) -> 0 | U51: =IF(L51<>0,(M51/L51)/IF(G51=0,1,G51),0) -> 0 | EC51: =(IF(G51=0,1,G51)*IF(I51=0,1,I51)*L51 )+M51*IF(G51=0,1,G51)*IF(I51=0,1,I51) -> 0
B52: 02.02.07. | N52: =(IF(G52=0,1,G52)*IF(I52=0,1,I52)*L52 )+M52*IF(G52=0,1,G52)*IF(I52=0,1,I52) -> 0 | O52: =N52/Portada!$F$15 -> 0 | S52: =M52*IF(G52=0,1,G52)*IF(I52=0,1,I52) -> 0 | U52: =IF(L52<>0,(M52/L52)/IF(G52=0,1,G52),0) -> 0 | EC52: =(IF(G52=0,1,G52)*IF(I52=0,1,I52)*L52 )+M52*IF(G52=0,1,G52)*IF(I52=0,1,I52) -> 0
B53: 02.02.08. | N53: =(IF(G53=0,1,G53)*IF(I53=0,1,I53)*L53 )+M53*IF(G53=0,1,G53)*IF(I53=0,1,I53) -> 0 | O53: =N53/Portada!$F$15 -> 0 | S53: =M53*IF(G53=0,1,G53)*IF(I53=0,1,I53) -> 0 | U53: =IF(L53<>0,(M53/L53)/IF(G53=0,1,G53),0) -> 0 | EC53: =(IF(G53=0,1,G53)*IF(I53=0,1,I53)*L53 )+M53*IF(G53=0,1,G53)*IF(I53=0,1,I53) -> 0
B54: 02.02.09. | N54: =(IF(G54=0,1,G54)*IF(I54=0,1,I54)*L54 )+M54*IF(G54=0,1,G54)*IF(I54=0,1,I54) -> 0 | O54: =N54/Portada!$F$15 -> 0 | S54: =M54*IF(G54=0,1,G54)*IF(I54=0,1,I54) -> 0 | U54: =IF(L54<>0,(M54/L54)/IF(G54=0,1,G54),0) -> 0 | EC54: =(IF(G54=0,1,G54)*IF(I54=0,1,I54)*L54 )+M54*IF(G54=0,1,G54)*IF(I54=0,1,I54) -> 0
B55: 02.02.10. | N55: =(IF(G55=0,1,G55)*IF(I55=0,1,I55)*L55 )+M55*IF(G55=0,1,G55)*IF(I55=0,1,I55) -> 0 | O55: =N55/Portada!$F$15 -> 0 | S55: =M55*IF(G55=0,1,G55)*IF(I55=0,1,I55) -> 0 | U55: =IF(L55<>0,(M55/L55)/IF(G55=0,1,G55),0) -> 0 | EC55: =(IF(G55=0,1,G55)*IF(I55=0,1,I55)*L55 )+M55*IF(G55=0,1,G55)*IF(I55=0,1,I55) -> 0
B56: 02.02.11. | N56: =(IF(G56=0,1,G56)*IF(I56=0,1,I56)*L56 )+M56*IF(G56=0,1,G56)*IF(I56=0,1,I56) -> 0 | O56: =N56/Portada!$F$15 -> 0 | S56: =M56*IF(G56=0,1,G56)*IF(I56=0,1,I56) -> 0 | U56: =IF(L56<>0,(M56/L56)/IF(G56=0,1,G56),0) -> 0 | EC56: =(IF(G56=0,1,G56)*IF(I56=0,1,I56)*L56 )+M56*IF(G56=0,1,G56)*IF(I56=0,1,I56) -> 0
B57: 02.02.12. | N57: =(IF(G57=0,1,G57)*IF(I57=0,1,I57)*L57 )+M57*IF(G57=0,1,G57)*IF(I57=0,1,I57) -> 0 | O57: =N57/Portada!$F$15 -> 0 | S57: =M57*IF(G57=0,1,G57)*IF(I57=0,1,I57) -> 0 | U57: =IF(L57<>0,(M57/L57)/IF(G57=0,1,G57),0) -> 0 | EC57: =(IF(G57=0,1,G57)*IF(I57=0,1,I57)*L57 )+M57*IF(G57=0,1,G57)*IF(I57=0,1,I57) -> 0
... B60: 02.02.15. | N60: =(IF(G60=0,1,G60)*IF(I60=0,1,I60)*L60 )+M60*IF(G60=0,1,G60)*IF(I60=0,1,I60) -> 0 | O60: =N60/Portada!$F$15 -> 0 | S60: =M60*IF(G60=0,1,G60)*IF(I60=0,1,I60) -> 0 | U60: =IF(L60<>0,(M60/L60)/IF(G60=0,1,G60),0) -> 0 | EC60: =(IF(G60=0,1,G60)*IF(I60=0,1,I60)*L60 )+M60*IF(G60=0,1,G60)*IF(I60=0,1,I60) -> 0
C61: ="TOTAL " &" " & B45 & " " & (C45) -> TOTAL 02.02. Primers papers | N61: =SUM(N46:N60) -> 0 | O61: =SUM(O46:O60) -> 0 | P61: =SUM(P46:P60) -> 0 | Q61: =SUM(Q46:Q60) -> 0 | S61: =SUM(S46:S60) -> 0 | EC61: =SUM(EC46:EC60) -> 0
B62: Núm. Compte
B63: 02.03. | C63: Segons papers
B64: 02.03.01. | N64: =(IF(G64=0,1,G64)*IF(I64=0,1,I64)*L64 )+M64*IF(G64=0,1,G64)*IF(I64=0,1,I64) -> 0 | O64: =N64/Portada!$F$15 -> 0 | S64: =M64*IF(G64=0,1,G64)*IF(I64=0,1,I64) -> 0 | U64: =IF(L64<>0,(M64/L64)/IF(G64=0,1,G64),0) -> 0 | EC64: =(IF(G64=0,1,G64)*IF(I64=0,1,I64)*L64 )+M64*IF(G64=0,1,G64)*IF(I64=0,1,I64) -> 0
B65: 02.03.02. | N65: =(IF(G65=0,1,G65)*IF(I65=0,1,I65)*L65 )+M65*IF(G65=0,1,G65)*IF(I65=0,1,I65) -> 0 | O65: =N65/Portada!$F$15 -> 0 | S65: =M65*IF(G65=0,1,G65)*IF(I65=0,1,I65) -> 0 | U65: =IF(L65<>0,(M65/L65)/IF(G65=0,1,G65),0) -> 0 | EC65: =(IF(G65=0,1,G65)*IF(I65=0,1,I65)*L65 )+M65*IF(G65=0,1,G65)*IF(I65=0,1,I65) -> 0
B66: 02.03.03. | N66: =(IF(G66=0,1,G66)*IF(I66=0,1,I66)*L66 )+M66*IF(G66=0,1,G66)*IF(I66=0,1,I66) -> 0 | O66: =N66/Portada!$F$15 -> 0 | S66: =M66*IF(G66=0,1,G66)*IF(I66=0,1,I66) -> 0 | U66: =IF(L66<>0,(M66/L66)/IF(G66=0,1,G66),0) -> 0 | EC66: =(IF(G66=0,1,G66)*IF(I66=0,1,I66)*L66 )+M66*IF(G66=0,1,G66)*IF(I66=0,1,I66) -> 0
B67: 02.03.04. | N67: =(IF(G67=0,1,G67)*IF(I67=0,1,I67)*L67 )+M67*IF(G67=0,1,G67)*IF(I67=0,1,I67) -> 0 | O67: =N67/Portada!$F$15 -> 0 | S67: =M67*IF(G67=0,1,G67)*IF(I67=0,1,I67) -> 0 | U67: =IF(L67<>0,(M67/L67)/IF(G67=0,1,G67),0) -> 0 | EC67: =(IF(G67=0,1,G67)*IF(I67=0,1,I67)*L67 )+M67*IF(G67=0,1,G67)*IF(I67=0,1,I67) -> 0
B68: 02.03.05. | N68: =(IF(G68=0,1,G68)*IF(I68=0,1,I68)*L68 )+M68*IF(G68=0,1,G68)*IF(I68=0,1,I68) -> 0 | O68: =N68/Portada!$F$15 -> 0 | S68: =M68*IF(G68=0,1,G68)*IF(I68=0,1,I68) -> 0 | U68: =IF(L68<>0,(M68/L68)/IF(G68=0,1,G68),0) -> 0 | EC68: =(IF(G68=0,1,G68)*IF(I68=0,1,I68)*L68 )+M68*IF(G68=0,1,G68)*IF(I68=0,1,I68) -> 0
B69: 02.03.06. | N69: =(IF(G69=0,1,G69)*IF(I69=0,1,I69)*L69 )+M69*IF(G69=0,1,G69)*IF(I69=0,1,I69) -> 0 | O69: =N69/Portada!$F$15 -> 0 | S69: =M69*IF(G69=0,1,G69)*IF(I69=0,1,I69) -> 0 | U69: =IF(L69<>0,(M69/L69)/IF(G69=0,1,G69),0) -> 0 | EC69: =(IF(G69=0,1,G69)*IF(I69=0,1,I69)*L69 )+M69*IF(G69=0,1,G69)*IF(I69=0,1,I69) -> 0
B70: 02.03.07. | N70: =(IF(G70=0,1,G70)*IF(I70=0,1,I70)*L70 )+M70*IF(G70=0,1,G70)*IF(I70=0,1,I70) -> 0 | O70: =N70/Portada!$F$15 -> 0 | S70: =M70*IF(G70=0,1,G70)*IF(I70=0,1,I70) -> 0 | U70: =IF(L70<>0,(M70/L70)/IF(G70=0,1,G70),0) -> 0 | EC70: =(IF(G70=0,1,G70)*IF(I70=0,1,I70)*L70 )+M70*IF(G70=0,1,G70)*IF(I70=0,1,I70) -> 0
B71: 02.03.08. | N71: =(IF(G71=0,1,G71)*IF(I71=0,1,I71)*L71 )+M71*IF(G71=0,1,G71)*IF(I71=0,1,I71) -> 0 | O71: =N71/Portada!$F$15 -> 0 | S71: =M71*IF(G71=0,1,G71)*IF(I71=0,1,I71) -> 0 | U71: =IF(L71<>0,(M71/L71)/IF(G71=0,1,G71),0) -> 0 | EC71: =(IF(G71=0,1,G71)*IF(I71=0,1,I71)*L71 )+M71*IF(G71=0,1,G71)*IF(I71=0,1,I71) -> 0
B72: 02.03.09. | N72: =(IF(G72=0,1,G72)*IF(I72=0,1,I72)*L72 )+M72*IF(G72=0,1,G72)*IF(I72=0,1,I72) -> 0 | O72: =N72/Portada!$F$15 -> 0 | S72: =M72*IF(G72=0,1,G72)*IF(I72=0,1,I72) -> 0 | U72: =IF(L72<>0,(M72/L72)/IF(G72=0,1,G72),0) -> 0 | EC72: =(IF(G72=0,1,G72)*IF(I72=0,1,I72)*L72 )+M72*IF(G72=0,1,G72)*IF(I72=0,1,I72) -> 0
B73: 02.03.10. | N73: =(IF(G73=0,1,G73)*IF(I73=0,1,I73)*L73 )+M73*IF(G73=0,1,G73)*IF(I73=0,1,I73) -> 0 | O73: =N73/Portada!$F$15 -> 0 | S73: =M73*IF(G73=0,1,G73)*IF(I73=0,1,I73) -> 0 | U73: =IF(L73<>0,(M73/L73)/IF(G73=0,1,G73),0) -> 0 | EC73: =(IF(G73=0,1,G73)*IF(I73=0,1,I73)*L73 )+M73*IF(G73=0,1,G73)*IF(I73=0,1,I73) -> 0
B74: 02.03.11. | N74: =(IF(G74=0,1,G74)*IF(I74=0,1,I74)*L74 )+M74*IF(G74=0,1,G74)*IF(I74=0,1,I74) -> 0 | O74: =N74/Portada!$F$15 -> 0 | S74: =M74*IF(G74=0,1,G74)*IF(I74=0,1,I74) -> 0 | U74: =IF(L74<>0,(M74/L74)/IF(G74=0,1,G74),0) -> 0 | EC74: =(IF(G74=0,1,G74)*IF(I74=0,1,I74)*L74 )+M74*IF(G74=0,1,G74)*IF(I74=0,1,I74) -> 0
B75: 02.03.12. | N75: =(IF(G75=0,1,G75)*IF(I75=0,1,I75)*L75 )+M75*IF(G75=0,1,G75)*IF(I75=0,1,I75) -> 0 | O75: =N75/Portada!$F$15 -> 0 | S75: =M75*IF(G75=0,1,G75)*IF(I75=0,1,I75) -> 0 | U75: =IF(L75<>0,(M75/L75)/IF(G75=0,1,G75),0) -> 0 | EC75: =(IF(G75=0,1,G75)*IF(I75=0,1,I75)*L75 )+M75*IF(G75=0,1,G75)*IF(I75=0,1,I75) -> 0
... B78: 02.03.15. | N78: =(IF(G78=0,1,G78)*IF(I78=0,1,I78)*L78 )+M78*IF(G78=0,1,G78)*IF(I78=0,1,I78) -> 0 | O78: =N78/Portada!$F$15 -> 0 | S78: =M78*IF(G78=0,1,G78)*IF(I78=0,1,I78) -> 0 | U78: =IF(L78<>0,(M78/L78)/IF(G78=0,1,G78),0) -> 0 | EC78: =(IF(G78=0,1,G78)*IF(I78=0,1,I78)*L78 )+M78*IF(G78=0,1,G78)*IF(I78=0,1,I78) -> 0
C79: ="TOTAL " &" " & B63 & " " & (C63) -> TOTAL 02.03. Segons papers | N79: =SUM(N64:N78) -> 0 | O79: =SUM(O64:O78) -> 0 | P79: =SUM(P64:P78) -> 0 | Q79: =SUM(Q64:Q78) -> 0 | S79: =SUM(S64:S78) -> 0 | EC79: =SUM(EC64:EC78) -> 0
B80: Núm. Compte
B81: 02.04. | C81: Repartiment
B82: 02.04.01. | N82: =(IF(G82=0,1,G82)*IF(I82=0,1,I82)*L82 )+M82*IF(G82=0,1,G82)*IF(I82=0,1,I82) -> 0 | O82: =N82/Portada!$F$15 -> 0 | S82: =M82*IF(G82=0,1,G82)*IF(I82=0,1,I82) -> 0 | U82: =IF(L82<>0,(M82/L82)/IF(G82=0,1,G82),0) -> 0 | EC82: =(IF(G82=0,1,G82)*IF(I82=0,1,I82)*L82 )+M82*IF(G82=0,1,G82)*IF(I82=0,1,I82) -> 0
B83: 02.04.02. | N83: =(IF(G83=0,1,G83)*IF(I83=0,1,I83)*L83 )+M83*IF(G83=0,1,G83)*IF(I83=0,1,I83) -> 0 | O83: =N83/Portada!$F$15 -> 0 | S83: =M83*IF(G83=0,1,G83)*IF(I83=0,1,I83) -> 0 | U83: =IF(L83<>0,(M83/L83)/IF(G83=0,1,G83),0) -> 0 | EC83: =(IF(G83=0,1,G83)*IF(I83=0,1,I83)*L83 )+M83*IF(G83=0,1,G83)*IF(I83=0,1,I83) -> 0
B84: 02.04.03. | N84: =(IF(G84=0,1,G84)*IF(I84=0,1,I84)*L84 )+M84*IF(G84=0,1,G84)*IF(I84=0,1,I84) -> 0 | O84: =N84/Portada!$F$15 -> 0 | S84: =M84*IF(G84=0,1,G84)*IF(I84=0,1,I84) -> 0 | U84: =IF(L84<>0,(M84/L84)/IF(G84=0,1,G84),0) -> 0 | EC84: =(IF(G84=0,1,G84)*IF(I84=0,1,I84)*L84 )+M84*IF(G84=0,1,G84)*IF(I84=0,1,I84) -> 0
B85: 02.04.04. | N85: =(IF(G85=0,1,G85)*IF(I85=0,1,I85)*L85 )+M85*IF(G85=0,1,G85)*IF(I85=0,1,I85) -> 0 | O85: =N85/Portada!$F$15 -> 0 | S85: =M85*IF(G85=0,1,G85)*IF(I85=0,1,I85) -> 0 | U85: =IF(L85<>0,(M85/L85)/IF(G85=0,1,G85),0) -> 0 | EC85: =(IF(G85=0,1,G85)*IF(I85=0,1,I85)*L85 )+M85*IF(G85=0,1,G85)*IF(I85=0,1,I85) -> 0
B86: 02.04.05. | N86: =(IF(G86=0,1,G86)*IF(I86=0,1,I86)*L86 )+M86*IF(G86=0,1,G86)*IF(I86=0,1,I86) -> 0 | O86: =N86/Portada!$F$15 -> 0 | S86: =M86*IF(G86=0,1,G86)*IF(I86=0,1,I86) -> 0 | U86: =IF(L86<>0,(M86/L86)/IF(G86=0,1,G86),0) -> 0 | EC86: =(IF(G86=0,1,G86)*IF(I86=0,1,I86)*L86 )+M86*IF(G86=0,1,G86)*IF(I86=0,1,I86) -> 0
B87: 02.04.06. | N87: =(IF(G87=0,1,G87)*IF(I87=0,1,I87)*L87 )+M87*IF(G87=0,1,G87)*IF(I87=0,1,I87) -> 0 | O87: =N87/Portada!$F$15 -> 0 | S87: =M87*IF(G87=0,1,G87)*IF(I87=0,1,I87) -> 0 | U87: =IF(L87<>0,(M87/L87)/IF(G87=0,1,G87),0) -> 0 | EC87: =(IF(G87=0,1,G87)*IF(I87=0,1,I87)*L87 )+M87*IF(G87=0,1,G87)*IF(I87=0,1,I87) -> 0
B88: 02.04.07. | N88: =(IF(G88=0,1,G88)*IF(I88=0,1,I88)*L88 )+M88*IF(G88=0,1,G88)*IF(I88=0,1,I88) -> 0 | O88: =N88/Portada!$F$15 -> 0 | S88: =M88*IF(G88=0,1,G88)*IF(I88=0,1,I88) -> 0 | U88: =IF(L88<>0,(M88/L88)/IF(G88=0,1,G88),0) -> 0 | EC88: =(IF(G88=0,1,G88)*IF(I88=0,1,I88)*L88 )+M88*IF(G88=0,1,G88)*IF(I88=0,1,I88) -> 0
B89: 02.04.08. | N89: =(IF(G89=0,1,G89)*IF(I89=0,1,I89)*L89 )+M89*IF(G89=0,1,G89)*IF(I89=0,1,I89) -> 0 | O89: =N89/Portada!$F$15 -> 0 | S89: =M89*IF(G89=0,1,G89)*IF(I89=0,1,I89) -> 0 | U89: =IF(L89<>0,(M89/L89)/IF(G89=0,1,G89),0) -> 0 | EC89: =(IF(G89=0,1,G89)*IF(I89=0,1,I89)*L89 )+M89*IF(G89=0,1,G89)*IF(I89=0,1,I89) -> 0
B90: 02.04.09. | N90: =(IF(G90=0,1,G90)*IF(I90=0,1,I90)*L90 )+M90*IF(G90=0,1,G90)*IF(I90=0,1,I90) -> 0 | O90: =N90/Portada!$F$15 -> 0 | S90: =M90*IF(G90=0,1,G90)*IF(I90=0,1,I90) -> 0 | U90: =IF(L90<>0,(M90/L90)/IF(G90=0,1,G90),0) -> 0 | EC90: =(IF(G90=0,1,G90)*IF(I90=0,1,I90)*L90 )+M90*IF(G90=0,1,G90)*IF(I90=0,1,I90) -> 0
B91: 02.04.10. | N91: =(IF(G91=0,1,G91)*IF(I91=0,1,I91)*L91 )+M91*IF(G91=0,1,G91)*IF(I91=0,1,I91) -> 0 | O91: =N91/Portada!$F$15 -> 0 | S91: =M91*IF(G91=0,1,G91)*IF(I91=0,1,I91) -> 0 | U91: =IF(L91<>0,(M91/L91)/IF(G91=0,1,G91),0) -> 0 | EC91: =(IF(G91=0,1,G91)*IF(I91=0,1,I91)*L91 )+M91*IF(G91=0,1,G91)*IF(I91=0,1,I91) -> 0
B92: 02.04.11. | N92: =(IF(G92=0,1,G92)*IF(I92=0,1,I92)*L92 )+M92*IF(G92=0,1,G92)*IF(I92=0,1,I92) -> 0 | O92: =N92/Portada!$F$15 -> 0 | S92: =M92*IF(G92=0,1,G92)*IF(I92=0,1,I92) -> 0 | U92: =IF(L92<>0,(M92/L92)/IF(G92=0,1,G92),0) -> 0 | EC92: =(IF(G92=0,1,G92)*IF(I92=0,1,I92)*L92 )+M92*IF(G92=0,1,G92)*IF(I92=0,1,I92) -> 0
B93: 02.04.12. | N93: =(IF(G93=0,1,G93)*IF(I93=0,1,I93)*L93 )+M93*IF(G93=0,1,G93)*IF(I93=0,1,I93) -> 0 | O93: =N93/Portada!$F$15 -> 0 | S93: =M93*IF(G93=0,1,G93)*IF(I93=0,1,I93) -> 0 | U93: =IF(L93<>0,(M93/L93)/IF(G93=0,1,G93),0) -> 0 | EC93: =(IF(G93=0,1,G93)*IF(I93=0,1,I93)*L93 )+M93*IF(G93=0,1,G93)*IF(I93=0,1,I93) -> 0
... B96: 02.04.15. | N96: =(IF(G96=0,1,G96)*IF(I96=0,1,I96)*L96 )+M96*IF(G96=0,1,G96)*IF(I96=0,1,I96) -> 0 | O96: =N96/Portada!$F$15 -> 0 | S96: =M96*IF(G96=0,1,G96)*IF(I96=0,1,I96) -> 0 | U96: =IF(L96<>0,(M96/L96)/IF(G96=0,1,G96),0) -> 0 | EC96: =(IF(G96=0,1,G96)*IF(I96=0,1,I96)*L96 )+M96*IF(G96=0,1,G96)*IF(I96=0,1,I96) -> 0
C97: ="TOTAL " &" " & B81 & " " & (C81) -> TOTAL 02.04. Repartiment | N97: =SUM(N82:N96) -> 0 | O97: =SUM(O82:O96) -> 0 | P97: =SUM(P82:P96) -> 0 | Q97: =SUM(Q82:Q96) -> 0 | S97: =SUM(S82:S96) -> 0 | EC97: =SUM(EC82:EC96) -> 0
B98: Núm. Compte
B99: 02.05. | C99: Intervenció breu
B100: 02.05.01. | N100: =(IF(G100=0,1,G100)*IF(I100=0,1,I100)*L100 )+M100*IF(G100=0,1,G100)*IF(I100=0,1,I100) -> 0 | O100: =N100/Portada!$F$15 -> 0 | S100: =M100*IF(G100=0,1,G100)*IF(I100=0,1,I100) -> 0 | U100: =IF(L100<>0,(M100/L100)/IF(G100=0,1,G100),0) -> 0 | EC100: =(IF(G100=0,1,G100)*IF(I100=0,1,I100)*L100 )+M100*IF(G100=0,1,G100)*IF(I100=0,1,I100) -> 0
B101: 02.05.02. | N101: =(IF(G101=0,1,G101)*IF(I101=0,1,I101)*L101 )+M101*IF(G101=0,1,G101)*IF(I101=0,1,I101) -> 0 | O101: =N101/Portada!$F$15 -> 0 | S101: =M101*IF(G101=0,1,G101)*IF(I101=0,1,I101) -> 0 | U101: =IF(L101<>0,(M101/L101)/IF(G101=0,1,G101),0) -> 0 | EC101: =(IF(G101=0,1,G101)*IF(I101=0,1,I101)*L101 )+M101*IF(G101=0,1,G101)*IF(I101=0,1,I101) -> 0
B102: 02.05.03. | N102: =(IF(G102=0,1,G102)*IF(I102=0,1,I102)*L102 )+M102*IF(G102=0,1,G102)*IF(I102=0,1,I102) -> 0 | O102: =N102/Portada!$F$15 -> 0 | S102: =M102*IF(G102=0,1,G102)*IF(I102=0,1,I102) -> 0 | U102: =IF(L102<>0,(M102/L102)/IF(G102=0,1,G102),0) -> 0 | EC102: =(IF(G102=0,1,G102)*IF(I102=0,1,I102)*L102 )+M102*IF(G102=0,1,G102)*IF(I102=0,1,I102) -> 0
B103: 02.05.04. | N103: =(IF(G103=0,1,G103)*IF(I103=0,1,I103)*L103 )+M103*IF(G103=0,1,G103)*IF(I103=0,1,I103) -> 0 | O103: =N103/Portada!$F$15 -> 0 | S103: =M103*IF(G103=0,1,G103)*IF(I103=0,1,I103) -> 0 | U103: =IF(L103<>0,(M103/L103)/IF(G103=0,1,G103),0) -> 0 | EC103: =(IF(G103=0,1,G103)*IF(I103=0,1,I103)*L103 )+M103*IF(G103=0,1,G103)*IF(I103=0,1,I103) -> 0
B104: 02.05.05. | N104: =(IF(G104=0,1,G104)*IF(I104=0,1,I104)*L104 )+M104*IF(G104=0,1,G104)*IF(I104=0,1,I104) -> 0 | O104: =N104/Portada!$F$15 -> 0 | S104: =M104*IF(G104=0,1,G104)*IF(I104=0,1,I104) -> 0 | U104: =IF(L104<>0,(M104/L104)/IF(G104=0,1,G104),0) -> 0 | EC104: =(IF(G104=0,1,G104)*IF(I104=0,1,I104)*L104 )+M104*IF(G104=0,1,G104)*IF(I104=0,1,I104) -> 0
B105: 02.05.06. | N105: =(IF(G105=0,1,G105)*IF(I105=0,1,I105)*L105 )+M105*IF(G105=0,1,G105)*IF(I105=0,1,I105) -> 0 | O105: =N105/Portada!$F$15 -> 0 | S105: =M105*IF(G105=0,1,G105)*IF(I105=0,1,I105) -> 0 | U105: =IF(L105<>0,(M105/L105)/IF(G105=0,1,G105),0) -> 0 | EC105: =(IF(G105=0,1,G105)*IF(I105=0,1,I105)*L105 )+M105*IF(G105=0,1,G105)*IF(I105=0,1,I105) -> 0
B106: 02.05.07. | N106: =(IF(G106=0,1,G106)*IF(I106=0,1,I106)*L106 )+M106*IF(G106=0,1,G106)*IF(I106=0,1,I106) -> 0 | O106: =N106/Portada!$F$15 -> 0 | S106: =M106*IF(G106=0,1,G106)*IF(I106=0,1,I106) -> 0 | U106: =IF(L106<>0,(M106/L106)/IF(G106=0,1,G106),0) -> 0 | EC106: =(IF(G106=0,1,G106)*IF(I106=0,1,I106)*L106 )+M106*IF(G106=0,1,G106)*IF(I106=0,1,I106) -> 0
B107: 02.05.08. | N107: =(IF(G107=0,1,G107)*IF(I107=0,1,I107)*L107 )+M107*IF(G107=0,1,G107)*IF(I107=0,1,I107) -> 0 | O107: =N107/Portada!$F$15 -> 0 | S107: =M107*IF(G107=0,1,G107)*IF(I107=0,1,I107) -> 0 | U107: =IF(L107<>0,(M107/L107)/IF(G107=0,1,G107),0) -> 0 | EC107: =(IF(G107=0,1,G107)*IF(I107=0,1,I107)*L107 )+M107*IF(G107=0,1,G107)*IF(I107=0,1,I107) -> 0
B108: 02.05.09. | N108: =(IF(G108=0,1,G108)*IF(I108=0,1,I108)*L108 )+M108*IF(G108=0,1,G108)*IF(I108=0,1,I108) -> 0 | O108: =N108/Portada!$F$15 -> 0 | S108: =M108*IF(G108=0,1,G108)*IF(I108=0,1,I108) -> 0 | U108: =IF(L108<>0,(M108/L108)/IF(G108=0,1,G108),0) -> 0 | EC108: =(IF(G108=0,1,G108)*IF(I108=0,1,I108)*L108 )+M108*IF(G108=0,1,G108)*IF(I108=0,1,I108) -> 0
...

Sheet Resum
A1: =Portada!B1 -> Actualització a: 12/02/2026
A3: RESUM PRESSUPOST
C5: PRES. ARRENCADA | D5: PRES. PRODUCCIÓ | E5: TOTALS | F5: COST / CAPÍTOL | G5: OBSERVACIONS
A6: ='Pressupost Producció TV'!C5& "....................................................................." -> CAPÍTOL 01.- Guió, música i arxiu..................................................................... | C6: ='Pressupost Arrencada TV'!N28-AA16 -> 0 | D6: ='Pressupost Producció TV'!N28-AB16 -> 0 | E6: =C6+D6 -> 0 | F6: =E6/Portada!$F$15 -> 0
A7: ='Pressupost Producció TV'!C30& "..........................................................................." -> CAPÍTOL 02.- Personal artístic........................................................................... | C7: ='Pressupost Arrencada TV'!N157 -> 0 | D7: ='Pressupost Producció TV'!N157 -> 0 | E7: =C7+D7 -> 0 | F7: =E7/Portada!$F$15 -> 0 | Z7: Valors de llista L-TF / L-TT / A | AA7: L-TF
A8: ='Pressupost Producció TV'!C159& "............................................................................" -> CAPÍTOL 03.- Equip programa............................................................................ | C8: ='Pressupost Arrencada TV'!N211-AA21 -> 0 | D8: ='Pressupost Producció TV'!N211-AB21 -> 0 | E8: =C8+D8 -> 0 | F8: =E8/Portada!$F$15 -> 0 | AA8: L-TT
A9: ='Pressupost Producció TV'!C213& "........................................" -> CAPÍTOL 04.-Serveis artístics i de postproducció........................................ | C9: ='Pressupost Arrencada TV'!N272 -> 0 | D9: ='Pressupost Producció TV'!N272 -> 0 | E9: =C9+D9 -> 0 | F9: =E9/Portada!$F$15 -> 0 | AA9: A
A10: ='Pressupost Producció TV'!C274& "......................................................." -> CAPÍTOL 05.-Serveis tècnics / Explotació....................................................... | C10: ='Pressupost Arrencada TV'!N323 -> 0 | D10: ='Pressupost Producció TV'!N323 -> 0 | E10: =C10+D10 -> 0 | F10: =E10/Portada!$F$15 -> 0 | AA10: Pressupost Arrencada TV | AB10: Pressupost Producció TV | AC10: Realitats Arrencada TV | AD10: Realitats Producció TV
A11: ='Pressupost Producció TV'!C325& "................................................................................." -> CAPÍTOL 06.- Escenografia................................................................................. | C11: ='Pressupost Arrencada TV'!N361 -> 0 | D11: ='Pressupost Producció TV'!N361 -> 0 | E11: =C11+D11 -> 0 | F11: =E11/Portada!$F$15 -> 0 | Z11: Cost total SS | AA11: ='Pressupost Arrencada TV'!S471 -> 0 | AB11: ='Pressupost Producció TV'!S471 -> 0
A12: ='Pressupost Producció TV'!C363& "...................................................." -> CAPÍTOL 07.- Estudis rodatge/sonorització.................................................... | C12: ='Pressupost Arrencada TV'!N384 -> 0 | D12: ='Pressupost Producció TV'!N384 -> 0 | E12: =C12+D12 -> 0 | F12: =E12/Portada!$F$15 -> 0 | Z12: IMPORTS QUE NO COMPUTEN PER AL BENEFICI INDUSTRIAL.
A13: ='Pressupost Producció TV'!C386& "............................................................." -> CAPÍTOL 08.- Despeses de producció............................................................. | C13: ='Pressupost Arrencada TV'!N435 -> 0 | D13: ='Pressupost Producció TV'!N435 -> 0 | E13: =C13+D13 -> 0 | F13: =E13/Portada!$F$15 -> 0 | Y13: Imports del capítol 1 que son fixos | Z13: ='Pressupost Producció TV'!B13 & " " &'Pressupost Producció TV'!C13 -> 01.01.06. Drets de format | AA13: ='Pressupost Arrencada TV'!N13 -> 0 | AB13: ='Pressupost Producció TV'!N13 -> 0 | AC13: ='Realitats Arrencada TV'!F13 -> 0 | AD13: ='Realitats Producció TV'!F13 -> 0
A14: ='Pressupost Producció TV'!C437& ".............................................................................." -> CAPÍTOL 09.- Assegurances.............................................................................. | C14: ='Pressupost Arrencada TV'!N445 -> 0 | D14: ='Pressupost Producció TV'!N445 -> 0 | E14: =C14+D14 -> 0 | F14: =E14/Portada!$F$15 -> 0 | Z14: ='Pressupost Producció TV'!B14 & " " &'Pressupost Producció TV'!C14 -> 01.01.07. Premis de Programa | AA14: ='Pressupost Arrencada TV'!N14 -> 0 | AB14: ='Pressupost Producció TV'!N14 -> 0 | AC14: ='Realitats Arrencada TV'!F14 -> 0 | AD14: ='Realitats Producció TV'!F14 -> 0
A15: ='Pressupost Producció TV'!C447& "....................................................................." -> CAPÍTOL 10.- Despeses generals..................................................................... | C15: =('Pressupost Arrencada TV'!N468-AA27) -> 0 | D15: =('Pressupost Producció TV'!N468-AB27) -> 0 | E15: =C15+D15 -> 0 | F15: =E15/Portada!$F$15 -> 0
Z16: Total imports a restar al TOTAL resum Capítol 1 | AA16: =SUM(AA13:AA15) -> 0 | AB16: =SUM(AB13:AB15) -> 0 | AC16: =SUM(AC13:AC15) -> 0 | AD16: =SUM(AD13:AD15) -> 0
B17: COST DE LA PRODUCCIÓ ......................... | C17: =SUM(C6:C16) -> 0 | D17: =SUM(D6:D16) -> 0 | E17: =SUM(E6:E16) -> 0 | F17: =SUM(F6:F16) -> 0 | G17: Subtotal
B18: Despeses d'estructura + Imprevistos (màx 3 %) .............. | C18: =AA33 -> 0 | D18: =AB33 -> 0 | E18: =C18+D18 -> 0 | F18: =E18/Portada!$F$15 -> 0 | G18: Límit màxim conjunt: 13% o 11% del subtotal | Y18: Imports del CAPITOL 3 que son d'ESTRUCTURA | Z18: ='Pressupost Producció TV'!B161 & " " &'Pressupost Producció TV'!C161 -> 03.01. Direcció | AA18: =SUMIF('Pressupost Arrencada TV'!E162:'Pressupost Arrencada TV'!E182,"E",'Pressupost Arrencada TV'!N162:'Pressupost Arrencada TV'!N182) -> 0 | AB18: =SUMIF('Pressupost Producció TV'!E162:'Pressupost Producció TV'!E182,"E",'Pressupost Producció TV'!N162:'Pressupost Producció TV'!N182) -> 0 | AC18: ='Realitats Arrencada TV'!F183 -> 0 | AD18: ='Realitats Producció TV'!F183 -> 0
B19: ="Benefici Industrial " & (Portada!I17*100) & " % " & "........................................................" -> Benefici Industrial 10 % ........................................................ | C19: =C17*Portada!I17 -> 0 | D19: =D17*Portada!I17 -> 0 | E19: =C19+D19 -> 0 | F19: =E19/Portada!$F$15 -> 0 | Z19: ='Pressupost Producció TV'!B185 & " " &'Pressupost Producció TV'!C185 -> 03.02. Producció | AA19: =SUMIF('Pressupost Arrencada TV'!E186:'Pressupost Arrencada TV'!E196,"E",'Pressupost Arrencada TV'!N186:'Pressupost Arrencada TV'!N196) -> 0 | AB19: =SUMIF('Pressupost Producció TV'!E186:'Pressupost Producció TV'!E196,"E",'Pressupost Producció TV'!N186:'Pressupost Producció TV'!N196) -> 0 | AC19: ='Realitats Arrencada TV'!F197 -> 0 | AD19: ='Realitats Producció TV'!F197 -> 0
B20: ="Despeses excloses del càlcul del Benefici industrial" & "......." -> Despeses excloses del càlcul del Benefici industrial....... | C20: =AA16+AA21+AA27 -> 0 | D20: =AB16+AB21+AB27 -> 0 | E20: =C20+D20 -> 0 | F20: =E20/Portada!$F$15 -> 0 | Z20: ='Pressupost Producció TV'!B199 & " " &'Pressupost Producció TV'!C199 -> 03.03. Realització / Imatge | AA20: =SUMIF('Pressupost Arrencada TV'!E200:'Pressupost Arrencada TV'!E209,"E",'Pressupost Arrencada TV'!N200:'Pressupost Arrencada TV'!N209) -> 0 | AB20: =SUMIF('Pressupost Producció TV'!E200:'Pressupost Producció TV'!E209,"E",'Pressupost Producció TV'!N200:'Pressupost Producció TV'!N209) -> 0 | AC20: ='Realitats Arrencada TV'!F210 -> 0 | AD20: ='Realitats Producció TV'!F210 -> 0
B21: COST TOTAL PRODUCCIÓ .................... | C21: =C17+C19+C20 -> 0 | D21: =D17+D19+D20 -> 0 | E21: =E17+E19+E20 -> 0 | F21: =F17+F19+F20 -> 0 | Z21: Total imports a restar al TOTAL resum Capítol 3 | AA21: =SUM(AA18:AA20) -> 0 | AB21: =SUM(AB18:AB20) -> 0 | AC21: =SUM(AC18:AC20) -> 0 | AD21: =SUM(AD18:AD20) -> 0
Y23: Imports del CAPÍTOL 10 que son d'ESTRUCTURA i alguns epígrafs fixos, encara que no siguin d'ESTRUCTURA | Z23: ='Pressupost Producció TV'!C447 & " d'ESTRUCTURA menys els epígrafs 11, 13 i 14)" -> CAPÍTOL 10.- Despeses generals d'ESTRUCTURA menys els epígrafs 11, 13 i 14) | AA23: =SUMIF('Pressupost Arrencada TV'!E450:'Pressupost Arrencada TV'!E459,"E",'Pressupost Arrencada TV'!N459:'Pressupost Arrencada TV'!N459)+ SUMIF('Pressupost Arrencada TV'!E461,"E",'Pressupost Arrencada TV'!N461) -> 0 | AB23: =SUMIF('Pressupost Producció TV'!E450:'Pressupost Producció TV'!E459,"E",'Pressupost Producció TV'!N459:'Pressupost Producció TV'!N459)+ SUMIF('Pressupost Producció TV'!E461,"E",'Pressupost Producció TV'!N461) -> 0 | AC23: {=SUM('Realitats Arrencada TV'!F450:F459+'Realitats Arrencada TV'!F461)} -> 0 | AD23: {=SUM('Realitats Producció TV'!F450:F459+'Realitats Producció TV'!F461)} -> 0
Z24: ='Pressupost Producció TV'!B460 & " " &'Pressupost Producció TV'!C460 -> 10.01.11. Despeses financeres | AA24: ='Pressupost Arrencada TV'!N460 -> 0 | AB24: ='Pressupost Producció TV'!N460 -> 0 | AC24: ='Realitats Arrencada TV'!F460 -> 0 | AD24: ='Realitats Producció TV'!F460 -> 0
Z25: ='Pressupost Producció TV'!B462 & " " &'Pressupost Producció TV'!C462 -> 10.01.13. Despeses especials | AA25: ='Pressupost Arrencada TV'!N462 -> 0 | AB25: ='Pressupost Producció TV'!N462 -> 0 | AC25: ='Realitats Arrencada TV'!F462 -> 0 | AD25: ='Realitats Producció TV'!F462 -> 0
Z26: ='Pressupost Producció TV'!B463 & " " &'Pressupost Producció TV'!C463 -> 10.01.14. Despeses especials | AA26: ='Pressupost Arrencada TV'!N463 -> 0 | AB26: ='Pressupost Producció TV'!N463 -> 0 | AC26: ='Realitats Arrencada TV'!F463 -> 0 | AD26: ='Realitats Producció TV'!F463 -> 0
Z27: Total imports a restar al TOTAL Resum Capítol 10 | AA27: =SUM(AA23:AA26) -> 0 | AB27: =SUM(AB23:AB26) -> 0 | AC27: =SUM(AC23:AC26) -> 0 | AD27: =SUM(AD23:AD26) -> 0
Z29: IMPORTS DESPESES D'ESTRUCTURA + IMPREVISTOS (MÀX 3%)
Z30: ='Pressupost Producció TV'!B159 & " " &'Pressupost Producció TV'!C159 -> CAPÍTOL 03.- Equip programa | AA30: =AA21 -> 0 | AB30: =AB21 -> 0 | AC30: =AC21 -> 0 | AD30: =AD21 -> 0
Z31: ='Pressupost Producció TV'!B461 & " " &'Pressupost Producció TV'!C461 -> 10.01.12. Imprevistos | AA31: ='Pressupost Arrencada TV'!N461 -> 0 | AB31: ='Pressupost Producció TV'!N461 -> 0 | AC31: =('Realitats Arrencada TV'!F461) -> 0 | AD31: =('Realitats Producció TV'!F461) -> 0
Z32: De la 10.01.01 fins a 10.01.10 si son d'estructura | AA32: =SUMIF('Pressupost Arrencada TV'!E450:'Pressupost Arrencada TV'!E459,"E",'Pressupost Arrencada TV'!N450:'Pressupost Arrencada TV'!N459) -> 0 | AB32: =SUMIF('Pressupost Producció TV'!E450:'Pressupost Producció TV'!E459,"E",'Pressupost Producció TV'!N450:'Pressupost Producció TV'!N459) -> 0 | AC32: =SUM('Realitats Arrencada TV'!F450 : 'Realitats Arrencada TV'!F459) -> 0 | AD32: =SUM('Realitats Producció TV'!F450 : 'Realitats Producció TV'!F459) -> 0
Z33: Total imports Estructura + Imprevistos | AA33: =SUM(AA30:AA32) -> 0 | AB33: =SUM(AB30:AB32) -> 0 | AC33: =SUM(AC30:AC32) -> 0 | AD33: =SUM(AD30:AD32) -> 0
AA43: Calculs SS | AB43: L-TF | AC43: Import | AD43: 5101.2
AC44: Percentage | AD44: 0.3215
AC45: Tope | AD45: =ROUNDUP(AD43*AD44,2) -> 1640.04
AB47: L-TT | AC47: Import | AD47: 5101.2
AC48: Percentage | AD48: 0.3335
AC49: Tope | AD49: =ROUNDUP(AD47*AD48,2) -> 1701.26
AA52: Quota solidaritat | AB52: Des de | AC52: fins | AD52: % Empresa
AA53: Tram 1 | AB53: 5101.21 | AC53: 5611.32 | AD53: 0.0096
AA54: Tram 2 | AB54: 5611.33 | AC54: 5970.19 | AD54: 0.0104
AA55: Tram 3 | AB55: 7651.81 | AD55: 0.0122

Sheet Portada
B1: Actualització a: 12/02/2026
I2: Logo Programa
F3: RESUM PRESSUPOST
F5: TÍTOL: | M5: SETMANAL
C6: Dades Productora | M6: DIÀRIA
F7: PRODUCCIÓ EXECUTIVA: | M7: MENSUAL
F8: DIRECCIÓ: | M8: ESPECIAL
F9: REALITZACIÓ: | M9: CAP DE SETMANA
F10: PRODUCCIÓ:
H12: PRESSUPOST ARRENCADA | I12: =Resum!C21 -> 0
C13: TIPUS DE PRODUCCIÓ (pel càlcul del benefici industrial) | F13: 2 | H13: PRESSUPOST PRODUCCIÓ | I13: =Resum!D21 -> 0
C14: TEMPORADA (1 per primera temporada) | F14: 1 | H14: TOTAL PRESSUPOST | I14: =I12+I13 -> 0
C15: NUM. CAPÍTOLS | F15: 1 | H15: COST PER CAPÍTOL SENSE ARRENCADA | I15: =I13/F15 -> 0
C16: DURADA (minuts) | H16: COST PER CAPÍTOL | I16: =I14/F15 -> 0 | M16: Catalunya Ràdio
C17: PREVISIÓ EMISSIÓ | H17: % BENEFICI INDUSTRIAL TV | I17: =IF($G$31=1,10%,8%) -> 0.1 | M17: ICatFm
C18: FORMAT: | H18: IMPORT BENEFICI INDUSTRIAL | I18: =Resum!C19+Resum!D19 -> 0 | M18: Catalunya Informació
M19: Catalunya Música
C20: TIMINGS PRODUCCIÓ | F20: Preproducció | H20: COST/MINUT PRODUCCIÓ | I20: =(I12 + I13)/(F15*F16) -> #DIV/0! | M20: TV3
F21: Producció | H21: COST/HORA PRODUCCIÓ | I21: =((I12 +I13)/(F15*F16)) * 60 -> #DIV/0! | M21: 3/24
F22: Edició | H22: INGRESSOS | M22: Súper3 / 33
M23: ES3
F24: Canal:
C25: IMPORT A LIQUIDAR | D25: =(Resum!E17 + Resum!E20) -> 0
H27: Data presentació projecte:
H28: Data aprovació/rebuig:
F31: Producció claus en mà | G31: 1
F32: Producció híbrida o Tira diària

Sheet Realitats Arrencada TV
B1: =Portada!B1 -> Actualització a: 12/02/2026 | D1: Realitats Producció TV (Arrencada)
A2: Capítols de despesa | D2: Nom / Concepte | E2: Pressupostat | F2: Realitat | G2: Diferència
C5: ='Pressupost Arrencada TV'!C5 -> CAPÍTOL 01.- Guió, música i arxiu
B6: ='Pressupost Arrencada TV'!B6 -> Núm. Compte
B7: ='Pressupost Arrencada TV'!B7 -> 01.01. | C7: ='Pressupost Arrencada TV'!C7 -> Guió
B8: ='Pressupost Arrencada TV'!B8 -> 01.01.01. | C8: ='Pressupost Arrencada TV'!C8 -> Argument original o bíblia | D8: ='Pressupost Arrencada TV'!D8 -> 0 | E8: ='Pressupost Arrencada TV'!N8 -> 0 | G8: =F8-E8 -> 0 | DL8: =(IF(#REF!=0,1,#REF!)*IF(#REF!=0,1,#REF!)*#REF! )+#REF!*IF(#REF!=0,1,#REF!)*IF(#REF!=0,1,#REF!) -> #REF!
B9: ='Pressupost Arrencada TV'!B9 -> 01.01.02. | C9: ='Pressupost Arrencada TV'!C9 -> Compra de guió | D9: ='Pressupost Arrencada TV'!D9 -> 0 | E9: ='Pressupost Arrencada TV'!N9 -> 0 | G9: =F9-E9 -> 0 | DL9: =(IF(#REF!=0,1,#REF!)*IF(#REF!=0,1,#REF!)*#REF! )+#REF!*IF(#REF!=0,1,#REF!)*IF(#REF!=0,1,#REF!) -> #REF!
B10: ='Pressupost Arrencada TV'!B10 -> 01.01.03. | C10: ='Pressupost Arrencada TV'!C10 -> Traduccions | D10: ='Pressupost Arrencada TV'!D10 -> 0 | E10: ='Pressupost Arrencada TV'!N10 -> 0 | G10: =F10-E10 -> 0 | DL10: =(IF(#REF!=0,1,#REF!)*IF(#REF!=0,1,#REF!)*#REF! )+#REF!*IF(#REF!=0,1,#REF!)*IF(#REF!=0,1,#REF!) -> #REF!
B11: ='Pressupost Arrencada TV'!B11 -> 01.01.04. | C11: ='Pressupost Arrencada TV'!C11 -> Transcripcions | D11: ='Pressupost Arrencada TV'!D11 -> 0 | E11: ='Pressupost Arrencada TV'!N11 -> 0 | G11: =F11-E11 -> 0 | DL11: =(IF(#REF!=0,1,#REF!)*IF(#REF!=0,1,#REF!)*#REF! )+#REF!*IF(#REF!=0,1,#REF!)*IF(#REF!=0,1,#REF!) -> #REF!
B12: ='Pressupost Arrencada TV'!B12 -> 01.01.05. | C12: ='Pressupost Arrencada TV'!C12 -> Imatges d'arxiu | D12: ='Pressupost Arrencada TV'!D12 -> 0 | E12: ='Pressupost Arrencada TV'!N12 -> 0 | G12: =F12-E12 -> 0 | DL12: =(IF(#REF!=0,1,#REF!)*IF(#REF!=0,1,#REF!)*#REF! )+#REF!*IF(#REF!=0,1,#REF!)*IF(#REF!=0,1,#REF!) -> #REF!
B13: ='Pressupost Arrencada TV'!B13 -> 01.01.06. | C13: ='Pressupost Arrencada TV'!C13 -> Drets de format | D13: ='Pressupost Arrencada TV'!D13 -> 0 | E13: ='Pressupost Arrencada TV'!N13 -> 0 | G13: =F13-E13 -> 0 | DL13: =(IF(#REF!=0,1,#REF!)*IF(#REF!=0,1,#REF!)*#REF! )+#REF!*IF(#REF!=0,1,#REF!)*IF(#REF!=0,1,#REF!) -> #REF!
B14: ='Pressupost Arrencada TV'!B14 -> 01.01.07. | C14: ='Pressupost Arrencada TV'!C14 -> Premis de Programa | D14: ='Pressupost Arrencada TV'!D14 -> 0 | E14: ='Pressupost Arrencada TV'!N14 -> 0 | G14: =F14-E14 -> 0 | DL14: =(IF(#REF!=0,1,#REF!)*IF(#REF!=0,1,#REF!)*#REF! )+#REF!*IF(#REF!=0,1,#REF!)*IF(#REF!=0,1,#REF!) -> #REF!
B15: ='Pressupost Arrencada TV'!B15 -> 01.01.08. | C15: ='Pressupost Arrencada TV'!C15 -> 0 | D15: ='Pressupost Arrencada TV'!D15 -> 0 | E15: ='Pressupost Arrencada TV'!N15 -> 0 | G15: =F15-E15 -> 0 | DL15: =(IF(#REF!=0,1,#REF!)*IF(#REF!=0,1,#REF!)*#REF! )+#REF!*IF(#REF!=0,1,#REF!)*IF(#REF!=0,1,#REF!) -> #REF!
B16: ='Pressupost Arrencada TV'!B16 -> 01.01.09. | C16: ='Pressupost Arrencada TV'!C16 -> 0 | D16: ='Pressupost Arrencada TV'!D16 -> 0 | E16: ='Pressupost Arrencada TV'!N16 -> 0 | G16: =F16-E16 -> 0 | DL16: =(IF(#REF!=0,1,#REF!)*IF(#REF!=0,1,#REF!)*#REF! )+#REF!*IF(#REF!=0,1,#REF!)*IF(#REF!=0,1,#REF!) -> #REF!
B17: ='Pressupost Arrencada TV'!B17 -> 01.01.10. | C17: ='Pressupost Arrencada TV'!C17 -> 0 | D17: ='Pressupost Arrencada TV'!D17 -> 0 | E17: ='Pressupost Arrencada TV'!N17 -> 0 | G17: =F17-E17 -> 0 | DL17: =(IF(#REF!=0,1,#REF!)*IF(#REF!=0,1,#REF!)*#REF! )+#REF!*IF(#REF!=0,1,#REF!)*IF(#REF!=0,1,#REF!) -> #REF!
C18: ='Pressupost Arrencada TV'!C18 -> TOTAL 01.01. Guió | D18: ='Pressupost Arrencada TV'!D18 -> 0 | E18: ='Pressupost Arrencada TV'!N18 -> 0 | F18: =SUM(F8:F17) -> 0 | G18: =SUM(G8:G17) -> 0 | DL18: =SUM(DL8:DL17) -> #REF!
B19: ='Pressupost Arrencada TV'!B19 -> Núm. Compte
B20: ='Pressupost Arrencada TV'!B20 -> 01.02. | C20: ='Pressupost Arrencada TV'!C20 -> Música
B21: ='Pressupost Arrencada TV'!B21 -> 01.02.01. | C21: ='Pressupost Arrencada TV'!C21 -> Música original | D21: ='Pressupost Arrencada TV'!D21 -> 0 | E21: ='Pressupost Arrencada TV'!N21 -> 0 | G21: =F21-E21 -> 0 | DL21: =(IF(#REF!=0,1,#REF!)*IF(#REF!=0,1,#REF!)*#REF! )+#REF!*IF(#REF!=0,1,#REF!)*IF(#REF!=0,1,#REF!) -> #REF!
B22: ='Pressupost Arrencada TV'!B22 -> 01.02.02. | C22: ='Pressupost Arrencada TV'!C22 -> Musica de llibreria | D22: ='Pressupost Arrencada TV'!D22 -> 0 | E22: ='Pressupost Arrencada TV'!N22 -> 0 | G22: =F22-E22 -> 0 | DL22: =(IF(#REF!=0,1,#REF!)*IF(#REF!=0,1,#REF!)*#REF! )+#REF!*IF(#REF!=0,1,#REF!)*IF(#REF!=0,1,#REF!) -> #REF!
B23: ='Pressupost Arrencada TV'!B23 -> 01.02.03. | C23: ='Pressupost Arrencada TV'!C23 -> Arranjaments | D23: ='Pressupost Arrencada TV'!D23 -> 0 | E23: ='Pressupost Arrencada TV'!N23 -> 0 | G23: =F23-E23 -> 0 | DL23: =(IF(#REF!=0,1,#REF!)*IF(#REF!=0,1,#REF!)*#REF! )+#REF!*IF(#REF!=0,1,#REF!)*IF(#REF!=0,1,#REF!) -> #REF!
B24: ='Pressupost Arrencada TV'!B24 -> 01.02.04. | C24: ='Pressupost Arrencada TV'!C24 -> 0 | D24: ='Pressupost Arrencada TV'!D24 -> 0 | E24: ='Pressupost Arrencada TV'!N24 -> 0 | G24: =F24-E24 -> 0 | DL24: =(IF(#REF!=0,1,#REF!)*IF(#REF!=0,1,#REF!)*#REF! )+#REF!*IF(#REF!=0,1,#REF!)*IF(#REF!=0,1,#REF!) -> #REF!
B25: ='Pressupost Arrencada TV'!B25 -> 01.02.05. | C25: ='Pressupost Arrencada TV'!C25 -> 0 | D25: ='Pressupost Arrencada TV'!D25 -> 0 | E25: ='Pressupost Arrencada TV'!N25 -> 0 | G25: =F25-E25 -> 0 | DL25: =(IF(#REF!=0,1,#REF!)*IF(#REF!=0,1,#REF!)*#REF! )+#REF!*IF(#REF!=0,1,#REF!)*IF(#REF!=0,1,#REF!) -> #REF!
B26: ='Pressupost Arrencada TV'!B26 -> 01.02.06. | C26: ='Pressupost Arrencada TV'!C26 -> 0 | D26: ='Pressupost Arrencada TV'!D26 -> 0 | E26: ='Pressupost Arrencada TV'!N26 -> 0 | G26: =F26-E26 -> 0 | DL26: =(IF(#REF!=0,1,#REF!)*IF(#REF!=0,1,#REF!)*#REF! )+#REF!*IF(#REF!=0,1,#REF!)*IF(#REF!=0,1,#REF!) -> #REF!
C27: ='Pressupost Arrencada TV'!C27 -> TOTAL 01.02. Música | D27: ='Pressupost Arrencada TV'!D27 -> 0 | E27: ='Pressupost Arrencada TV'!N27 -> 0 | F27: =SUM(F21:F26) -> 0 | G27: =SUM(G21:G26) -> 0 | DL27: =SUM(DL21:DL26) -> #REF!
C28: ="TOTAL" & " " &C5 -> TOTAL CAPÍTOL 01.- Guió, música i arxiu | E28: ='Pressupost Arrencada TV'!N28 -> 0 | F28: =F18 +F27 -> 0 | G28: =G18 +G27 -> 0 | DL28: =(DL18 + DL27) -> #REF!
C30: ='Pressupost Arrencada TV'!C30 -> CAPÍTOL 02.- Personal artístic
B31: ='Pressupost Arrencada TV'!B31 -> Núm. Compte
B32: ='Pressupost Arrencada TV'!B32 -> 02.01. | C32: ='Pressupost Arrencada TV'!C32 -> Protagonistes
B33: ='Pressupost Arrencada TV'!B33 -> 02.01.01. | C33: ='Pressupost Arrencada TV'!C33 | D33: ='Pressupost Arrencada TV'!D33 -> 0 | E33: ='Pressupost Arrencada TV'!N33 -> 0 | G33: =F33-E33 -> 0 | DL33: =(IF(#REF!=0,1,#REF!)*IF(#REF!=0,1,#REF!)*#REF! )+#REF!*IF(#REF!=0,1,#REF!)*IF(#REF!=0,1,#REF!) -> #REF!
B34: ='Pressupost Arrencada TV'!B34 -> 02.01.02. | C34: ='Pressupost Arrencada TV'!C34 -> 0 | D34: ='Pressupost Arrencada TV'!D34 -> 0 | E34: ='Pressupost Arrencada TV'!N34 -> 0 | G34: =F34-E34 -> 0 | DL34: =(IF(#REF!=0,1,#REF!)*IF(#REF!=0,1,#REF!)*#REF! )+#REF!*IF(#REF!=0,1,#REF!)*IF(#REF!=0,1,#REF!) -> #REF!
B35: ='Pressupost Arrencada TV'!B35 -> 02.01.03. | C35: ='Pressupost Arrencada TV'!C35 -> 0 | D35: ='Pressupost Arrencada TV'!D35 -> 0 | E35: ='Pressupost Arrencada TV'!N35 -> 0 | G35: =F35-E35 -> 0 | DL35: =(IF(#REF!=0,1,#REF!)*IF(#REF!=0,1,#REF!)*#REF! )+#REF!*IF(#REF!=0,1,#REF!)*IF(#REF!=0,1,#REF!) -> #REF!
B36: ='Pressupost Arrencada TV'!B36 -> 02.01.04. | C36: ='Pressupost Arrencada TV'!C36 -> 0 | D36: ='Pressupost Arrencada TV'!D36 -> 0 | E36: ='Pressupost Arrencada TV'!N36 -> 0 | G36: =F36-E36 -> 0 | DL36: =(IF(#REF!=0,1,#REF!)*IF(#REF!=0,1,#REF!)*#REF! )+#REF!*IF(#REF!=0,1,#REF!)*IF(#REF!=0,1,#REF!) -> #REF!
B37: ='Pressupost Arrencada TV'!B37 -> 02.01.05. | C37: ='Pressupost Arrencada TV'!C37 -> 0 | D37: ='Pressupost Arrencada TV'!D37 -> 0 | E37: ='Pressupost Arrencada TV'!N37 -> 0 | G37: =F37-E37 -> 0 | DL37: =(IF(#REF!=0,1,#REF!)*IF(#REF!=0,1,#REF!)*#REF! )+#REF!*IF(#REF!=0,1,#REF!)*IF(#REF!=0,1,#REF!) -> #REF!
B38: ='Pressupost Arrencada TV'!B38 -> 02.01.06. | C38: ='Pressupost Arrencada TV'!C38 -> 0 | D38: ='Pressupost Arrencada TV'!D38 -> 0 | E38: ='Pressupost Arrencada TV'!N38 -> 0 | G38: =F38-E38 -> 0 | DL38: =(IF(#REF!=0,1,#REF!)*IF(#REF!=0,1,#REF!)*#REF! )+#REF!*IF(#REF!=0,1,#REF!)*IF(#REF!=0,1,#REF!) -> #REF!
B39: ='Pressupost Arrencada TV'!B39 -> 02.01.07. | C39: ='Pressupost Arrencada TV'!C39 -> 0 | D39: ='Pressupost Arrencada TV'!D39 -> 0 | E39: ='Pressupost Arrencada TV'!N39 -> 0 | G39: =F39-E39 -> 0 | DL39: =(IF(#REF!=0,1,#REF!)*IF(#REF!=0,1,#REF!)*#REF! )+#REF!*IF(#REF!=0,1,#REF!)*IF(#REF!=0,1,#REF!) -> #REF!
B40: ='Pressupost Arrencada TV'!B40 -> 02.01.08. | C40: ='Pressupost Arrencada TV'!C40 -> 0 | D40: ='Pressupost Arrencada TV'!D40 -> 0 | E40: ='Pressupost Arrencada TV'!N40 -> 0 | G40: =F40-E40 -> 0 | DL40: =(IF(#REF!=0,1,#REF!)*IF(#REF!=0,1,#REF!)*#REF! )+#REF!*IF(#REF!=0,1,#REF!)*IF(#REF!=0,1,#REF!) -> #REF!
B41: ='Pressupost Arrencada TV'!B41 -> 02.01.09. | C41: ='Pressupost Arrencada TV'!C41 -> 0 | D41: ='Pressupost Arrencada TV'!D41 -> 0 | E41: ='Pressupost Arrencada TV'!N41 -> 0 | G41: =F41-E41 -> 0 | DL41: =(IF(#REF!=0,1,#REF!)*IF(#REF!=0,1,#REF!)*#REF! )+#REF!*IF(#REF!=0,1,#REF!)*IF(#REF!=0,1,#REF!) -> #REF!
B42: ='Pressupost Arrencada TV'!B42 -> 02.01.10. | C42: ='Pressupost Arrencada TV'!C42 -> 0 | D42: ='Pressupost Arrencada TV'!D42 -> 0 | E42: ='Pressupost Arrencada TV'!N42 -> 0 | G42: =F42-E42 -> 0 | DL42: =(IF(#REF!=0,1,#REF!)*IF(#REF!=0,1,#REF!)*#REF! )+#REF!*IF(#REF!=0,1,#REF!)*IF(#REF!=0,1,#REF!) -> #REF!
C43: ="TOTAL " &" " & B32 & " " & (C32) -> TOTAL 02.01. Protagonistes | D43: ='Pressupost Arrencada TV'!D43 -> 0 | E43: ='Pressupost Arrencada TV'!N43 -> 0 | F43: =SUM(F33:F42) -> 0 | G43: =SUM(G33:G42) -> 0 | DL43: =SUM(DL33:DL42) -> #REF!
B44: ='Pressupost Arrencada TV'!B44 -> Núm. Compte | E44: ='Pressupost Arrencada TV'!N44 -> 0
B45: ='Pressupost Arrencada TV'!B45 -> 02.02. | C45: ='Pressupost Arrencada TV'!C45 -> Primers papers
B46: ='Pressupost Arrencada TV'!B46 -> 02.02.01. | C46: ='Pressupost Arrencada TV'!C46 | D46: ='Pressupost Arrencada TV'!D46 -> 0 | E46: ='Pressupost Arrencada TV'!N46 -> 0 | G46: =F46-E46 -> 0 | DL46: =(IF(#REF!=0,1,#REF!)*IF(#REF!=0,1,#REF!)*#REF! )+#REF!*IF(#REF!=0,1,#REF!)*IF(#REF!=0,1,#REF!) -> #REF!
B47: ='Pressupost Arrencada TV'!B47 -> 02.02.02. | C47: ='Pressupost Arrencada TV'!C47 -> 0 | D47: ='Pressupost Arrencada TV'!D47 -> 0 | E47: ='Pressupost Arrencada TV'!N47 -> 0 | G47: =F47-E47 -> 0 | DL47: =(IF(#REF!=0,1,#REF!)*IF(#REF!=0,1,#REF!)*#REF! )+#REF!*IF(#REF!=0,1,#REF!)*IF(#REF!=0,1,#REF!) -> #REF!
B48: ='Pressupost Arrencada TV'!B48 -> 02.02.03. | C48: ='Pressupost Arrencada TV'!C48 | D48: ='Pressupost Arrencada TV'!D48 -> 0 | E48: ='Pressupost Arrencada TV'!N48 -> 0 | G48: =F48-E48 -> 0 | DL48: =(IF(#REF!=0,1,#REF!)*IF(#REF!=0,1,#REF!)*#REF! )+#REF!*IF(#REF!=0,1,#REF!)*IF(#REF!=0,1,#REF!) -> #REF!
B49: ='Pressupost Arrencada TV'!B49 -> 02.02.04. | C49: ='Pressupost Arrencada TV'!C49 -> 0 | D49: ='Pressupost Arrencada TV'!D49 -> 0 | E49: ='Pressupost Arrencada TV'!N49 -> 0 | G49: =F49-E49 -> 0 | DL49: =(IF(#REF!=0,1,#REF!)*IF(#REF!=0,1,#REF!)*#REF! )+#REF!*IF(#REF!=0,1,#REF!)*IF(#REF!=0,1,#REF!) -> #REF!
B50: ='Pressupost Arrencada TV'!B50 -> 02.02.05. | C50: ='Pressupost Arrencada TV'!C50 -> 0 | D50: ='Pressupost Arrencada TV'!D50 -> 0 | E50: ='Pressupost Arrencada TV'!N50 -> 0 | G50: =F50-E50 -> 0 | DL50: =(IF(#REF!=0,1,#REF!)*IF(#REF!=0,1,#REF!)*#REF! )+#REF!*IF(#REF!=0,1,#REF!)*IF(#REF!=0,1,#REF!) -> #REF!
B51: ='Pressupost Arrencada TV'!B51 -> 02.02.06. | C51: ='Pressupost Arrencada TV'!C51 -> 0 | D51: ='Pressupost Arrencada TV'!D51 -> 0 | E51: ='Pressupost Arrencada TV'!N51 -> 0 | G51: =F51-E51 -> 0 | DL51: =(IF(#REF!=0,1,#REF!)*IF(#REF!=0,1,#REF!)*#REF! )+#REF!*IF(#REF!=0,1,#REF!)*IF(#REF!=0,1,#REF!) -> #REF!
B52: ='Pressupost Arrencada TV'!B52 -> 02.02.07. | C52: ='Pressupost Arrencada TV'!C52 -> 0 | D52: ='Pressupost Arrencada TV'!D52 -> 0 | E52: ='Pressupost Arrencada TV'!N52 -> 0 | G52: =F52-E52 -> 0 | DL52: =(IF(#REF!=0,1,#REF!)*IF(#REF!=0,1,#REF!)*#REF! )+#REF!*IF(#REF!=0,1,#REF!)*IF(#REF!=0,1,#REF!) -> #REF!
B53: ='Pressupost Arrencada TV'!B53 -> 02.02.08. | C53: ='Pressupost Arrencada TV'!C53 -> 0 | D53: ='Pressupost Arrencada TV'!D53 -> 0 | E53: ='Pressupost Arrencada TV'!N53 -> 0 | G53: =F53-E53 -> 0 | DL53: =(IF(#REF!=0,1,#REF!)*IF(#REF!=0,1,#REF!)*#REF! )+#REF!*IF(#REF!=0,1,#REF!)*IF(#REF!=0,1,#REF!) -> #REF!
B54: ='Pressupost Arrencada TV'!B54 -> 02.02.09. | C54: ='Pressupost Arrencada TV'!C54 -> 0 | D54: ='Pressupost Arrencada TV'!D54 -> 0 | E54: ='Pressupost Arrencada TV'!N54 -> 0 | G54: =F54-E54 -> 0 | DL54: =(IF(#REF!=0,1,#REF!)*IF(#REF!=0,1,#REF!)*#REF! )+#REF!*IF(#REF!=0,1,#REF!)*IF(#REF!=0,1,#REF!) -> #REF!
B55: ='Pressupost Arrencada TV'!B55 -> 02.02.10. | C55: ='Pressupost Arrencada TV'!C55 -> 0 | D55: ='Pressupost Arrencada TV'!D55 -> 0 | E55: ='Pressupost Arrencada TV'!N55 -> 0 | G55: =F55-E55 -> 0 | DL55: =(IF(#REF!=0,1,#REF!)*IF(#REF!=0,1,#REF!)*#REF! )+#REF!*IF(#REF!=0,1,#REF!)*IF(#REF!=0,1,#REF!) -> #REF!
B56: ='Pressupost Arrencada TV'!B56 -> 02.02.11. | C56: ='Pressupost Arrencada TV'!C56 -> 0 | D56: ='Pressupost Arrencada TV'!D56 -> 0 | E56: ='Pressupost Arrencada TV'!N56 -> 0 | G56: =F56-E56 -> 0 | DL56: =(IF(#REF!=0,1,#REF!)*IF(#REF!=0,1,#REF!)*#REF! )+#REF!*IF(#REF!=0,1,#REF!)*IF(#REF!=0,1,#REF!) -> #REF!
B57: ='Pressupost Arrencada TV'!B57 -> 02.02.12. | C57: ='Pressupost Arrencada TV'!C57 -> 0 | D57: ='Pressupost Arrencada TV'!D57 -> 0 | E57: ='Pressupost Arrencada TV'!N57 -> 0 | G57: =F57-E57 -> 0 | DL57: =(IF(#REF!=0,1,#REF!)*IF(#REF!=0,1,#REF!)*#REF! )+#REF!*IF(#REF!=0,1,#REF!)*IF(#REF!=0,1,#REF!) -> #REF!
... B60: ='Pressupost Arrencada TV'!B60 -> 02.02.15. | C60: ='Pressupost Arrencada TV'!C60 -> 0 | D60: ='Pressupost Arrencada TV'!D60 -> 0 | E60: ='Pressupost Arrencada TV'!N60 -> 0 | G60: =F60-E60 -> 0 | DL60: =(IF(#REF!=0,1,#REF!)*IF(#REF!=0,1,#REF!)*#REF! )+#REF!*IF(#REF!=0,1,#REF!)*IF(#REF!=0,1,#REF!) -> #REF!
C61: ="TOTAL " &" " & B45 & " " & (C45) -> TOTAL 02.02. Primers papers | E61: ='Pressupost Arrencada TV'!N61 -> 0 | F61: =SUM(F46:F60) -> 0 | G61: =SUM(G46:G60) -> 0 | DL61: =SUM(DL46:DL60) -> #REF!
B62: ='Pressupost Arrencada TV'!B62 -> Núm. Compte
B63: ='Pressupost Arrencada TV'!B63 -> 02.03. | C63: ='Pressupost Arrencada TV'!C63 -> Segons papers
B64: ='Pressupost Arrencada TV'!B64 -> 02.03.01. | C64: ='Pressupost Arrencada TV'!C64 | D64: ='Pressupost Arrencada TV'!D64 -> 0 | E64: ='Pressupost Arrencada TV'!N64 -> 0 | G64: =F64-E64 -> 0 | DL64: =(IF(#REF!=0,1,#REF!)*IF(#REF!=0,1,#REF!)*#REF! )+#REF!*IF(#REF!=0,1,#REF!)*IF(#REF!=0,1,#REF!) -> #REF!
B65: ='Pressupost Arrencada TV'!B65 -> 02.03.02. | C65: ='Pressupost Arrencada TV'!C65 | D65: ='Pressupost Arrencada TV'!D65 -> 0 | E65: ='Pressupost Arrencada TV'!N65 -> 0 | G65: =F65-E65 -> 0 | DL65: =(IF(#REF!=0,1,#REF!)*IF(#REF!=0,1,#REF!)*#REF! )+#REF!*IF(#REF!=0,1,#REF!)*IF(#REF!=0,1,#REF!) -> #REF!
B66: ='Pressupost Arrencada TV'!B66 -> 02.03.03. | C66: ='Pressupost Arrencada TV'!C66 -> 0 | D66: ='Pressupost Arrencada TV'!D66 -> 0 | E66: ='Pressupost Arrencada TV'!N66 -> 0 | G66: =F66-E66 -> 0 | DL66: =(IF(#REF!=0,1,#REF!)*IF(#REF!=0,1,#REF!)*#REF! )+#REF!*IF(#REF!=0,1,#REF!)*IF(#REF!=0,1,#REF!) -> #REF!
B67: ='Pressupost Arrencada TV'!B67 -> 02.03.04. | C67: ='Pressupost Arrencada TV'!C67 -> 0 | D67: ='Pressupost Arrencada TV'!D67 -> 0 | E67: ='Pressupost Arrencada TV'!N67 -> 0 | G67: =F67-E67 -> 0 | DL67: =(IF(#REF!=0,1,#REF!)*IF(#REF!=0,1,#REF!)*#REF! )+#REF!*IF(#REF!=0,1,#REF!)*IF(#REF!=0,1,#REF!) -> #REF!
B68: ='Pressupost Arrencada TV'!B68 -> 02.03.05. | C68: ='Pressupost Arrencada TV'!C68 -> 0 | D68: ='Pressupost Arrencada TV'!D68 -> 0 | E68: ='Pressupost Arrencada TV'!N68 -> 0 | G68: =F68-E68 -> 0 | DL68: =(IF(#REF!=0,1,#REF!)*IF(#REF!=0,1,#REF!)*#REF! )+#REF!*IF(#REF!=0,1,#REF!)*IF(#REF!=0,1,#REF!) -> #REF!
B69: ='Pressupost Arrencada TV'!B69 -> 02.03.06. | C69: ='Pressupost Arrencada TV'!C69 -> 0 | D69: ='Pressupost Arrencada TV'!D69 -> 0 | E69: ='Pressupost Arrencada TV'!N69 -> 0 | G69: =F69-E69 -> 0 | DL69: =(IF(#REF!=0,1,#REF!)*IF(#REF!=0,1,#REF!)*#REF! )+#REF!*IF(#REF!=0,1,#REF!)*IF(#REF!=0,1,#REF!) -> #REF!
B70: ='Pressupost Arrencada TV'!B70 -> 02.03.07. | C70: ='Pressupost Arrencada TV'!C70 -> 0 | D70: ='Pressupost Arrencada TV'!D70 -> 0 | E70: ='Pressupost Arrencada TV'!N70 -> 0 | G70: =F70-E70 -> 0 | DL70: =(IF(#REF!=0,1,#REF!)*IF(#REF!=0,1,#REF!)*#REF! )+#REF!*IF(#REF!=0,1,#REF!)*IF(#REF!=0,1,#REF!) -> #REF!
B71: ='Pressupost Arrencada TV'!B71 -> 02.03.08. | C71: ='Pressupost Arrencada TV'!C71 -> 0 | D71: ='Pressupost Arrencada TV'!D71 -> 0 | E71: ='Pressupost Arrencada TV'!N71 -> 0 | G71: =F71-E71 -> 0 | DL71: =(IF(#REF!=0,1,#REF!)*IF(#REF!=0,1,#REF!)*#REF! )+#REF!*IF(#REF!=0,1,#REF!)*IF(#REF!=0,1,#REF!) -> #REF!
B72: ='Pressupost Arrencada TV'!B72 -> 02.03.09. | C72: ='Pressupost Arrencada TV'!C72 -> 0 | D72: ='Pressupost Arrencada TV'!D72 -> 0 | E72: ='Pressupost Arrencada TV'!N72 -> 0 | G72: =F72-E72 -> 0 | DL72: =(IF(#REF!=0,1,#REF!)*IF(#REF!=0,1,#REF!)*#REF! )+#REF!*IF(#REF!=0,1,#REF!)*IF(#REF!=0,1,#REF!) -> #REF!
B73: ='Pressupost Arrencada TV'!B73 -> 02.03.10. | C73: ='Pressupost Arrencada TV'!C73 -> 0 | D73: ='Pressupost Arrencada TV'!D73 -> 0 | E73: ='Pressupost Arrencada TV'!N73 -> 0 | G73: =F73-E73 -> 0 | DL73: =(IF(#REF!=0,1,#REF!)*IF(#REF!=0,1,#REF!)*#REF! )+#REF!*IF(#REF!=0,1,#REF!)*IF(#REF!=0,1,#REF!) -> #REF!
B74: ='Pressupost Arrencada TV'!B74 -> 02.03.11. | C74: ='Pressupost Arrencada TV'!C74 -> 0 | D74: ='Pressupost Arrencada TV'!D74 -> 0 | E74: ='Pressupost Arrencada TV'!N74 -> 0 | G74: =F74-E74 -> 0 | DL74: =(IF(#REF!=0,1,#REF!)*IF(#REF!=0,1,#REF!)*#REF! )+#REF!*IF(#REF!=0,1,#REF!)*IF(#REF!=0,1,#REF!) -> #REF!
B75: ='Pressupost Arrencada TV'!B75 -> 02.03.12. | C75: ='Pressupost Arrencada TV'!C75 -> 0 | D75: ='Pressupost Arrencada TV'!D75 -> 0 | E75: ='Pressupost Arrencada TV'!N75 -> 0 | G75: =F75-E75 -> 0 | DL75: =(IF(#REF!=0,1,#REF!)*IF(#REF!=0,1,#REF!)*#REF! )+#REF!*IF(#REF!=0,1,#REF!)*IF(#REF!=0,1,#REF!) -> #REF!
... B78: ='Pressupost Arrencada TV'!B78 -> 02.03.15. | C78: ='Pressupost Arrencada TV'!C78 -> 0 | D78: ='Pressupost Arrencada TV'!D78 -> 0 | E78: ='Pressupost Arrencada TV'!N78 -> 0 | G78: =F78-E78 -> 0 | DL78: =(IF(#REF!=0,1,#REF!)*IF(#REF!=0,1,#REF!)*#REF! )+#REF!*IF(#REF!=0,1,#REF!)*IF(#REF!=0,1,#REF!) -> #REF!
C79: ="TOTAL " &" " & B63 & " " & (C63) -> TOTAL 02.03. Segons papers | E79: ='Pressupost Arrencada TV'!N79 -> 0 | F79: =SUM(F64:F78) -> 0 | G79: =SUM(G64:G78) -> 0 | DL79: =SUM(DL64:DL78) -> #REF!
B80: ='Pressupost Arrencada TV'!B80 -> Núm. Compte
B81: ='Pressupost Arrencada TV'!B81 -> 02.04. | C81: ='Pressupost Arrencada TV'!C81 -> Repartiment
B82: ='Pressupost Arrencada TV'!B82 -> 02.04.01. | C82: ='Pressupost Arrencada TV'!C82 -> 0 | D82: ='Pressupost Arrencada TV'!D82 -> 0 | E82: ='Pressupost Arrencada TV'!N82 -> 0 | G82: =F82-E82 -> 0 | DL82: =(IF(#REF!=0,1,#REF!)*IF(#REF!=0,1,#REF!)*#REF! )+#REF!*IF(#REF!=0,1,#REF!)*IF(#REF!=0,1,#REF!) -> #REF!
B83: ='Pressupost Arrencada TV'!B83 -> 02.04.02. | C83: ='Pressupost Arrencada TV'!C83 -> 0 | D83: ='Pressupost Arrencada TV'!D83 -> 0 | E83: ='Pressupost Arrencada TV'!N83 -> 0 | G83: =F83-E83 -> 0 | DL83: =(IF(#REF!=0,1,#REF!)*IF(#REF!=0,1,#REF!)*#REF! )+#REF!*IF(#REF!=0,1,#REF!)*IF(#REF!=0,1,#REF!) -> #REF!
B84: ='Pressupost Arrencada TV'!B84 -> 02.04.03. | C84: ='Pressupost Arrencada TV'!C84 -> 0 | D84: ='Pressupost Arrencada TV'!D84 -> 0 | E84: ='Pressupost Arrencada TV'!N84 -> 0 | G84: =F84-E84 -> 0 | DL84: =(IF(#REF!=0,1,#REF!)*IF(#REF!=0,1,#REF!)*#REF! )+#REF!*IF(#REF!=0,1,#REF!)*IF(#REF!=0,1,#REF!) -> #REF!
B85: ='Pressupost Arrencada TV'!B85 -> 02.04.04. | C85: ='Pressupost Arrencada TV'!C85 -> 0 | D85: ='Pressupost Arrencada TV'!D85 -> 0 | E85: ='Pressupost Arrencada TV'!N85 -> 0 | G85: =F85-E85 -> 0 | DL85: =(IF(#REF!=0,1,#REF!)*IF(#REF!=0,1,#REF!)*#REF! )+#REF!*IF(#REF!=0,1,#REF!)*IF(#REF!=0,1,#REF!) -> #REF!
B86: ='Pressupost Arrencada TV'!B86 -> 02.04.05. | C86: ='Pressupost Arrencada TV'!C86 -> 0 | D86: ='Pressupost Arrencada TV'!D86 -> 0 | E86: ='Pressupost Arrencada TV'!N86 -> 0 | G86: =F86-E86 -> 0 | DL86: =(IF(#REF!=0,1,#REF!)*IF(#REF!=0,1,#REF!)*#REF! )+#REF!*IF(#REF!=0,1,#REF!)*IF(#REF!=0,1,#REF!) -> #REF!
B87: ='Pressupost Arrencada TV'!B87 -> 02.04.06. | C87: ='Pressupost Arrencada TV'!C87 -> 0 | D87: ='Pressupost Arrencada TV'!D87 -> 0 | E87: ='Pressupost Arrencada TV'!N87 -> 0 | G87: =F87-E87 -> 0 | DL87: =(IF(#REF!=0,1,#REF!)*IF(#REF!=0,1,#REF!)*#REF! )+#REF!*IF(#REF!=0,1,#REF!)*IF(#REF!=0,1,#REF!) -> #REF!
B88: ='Pressupost Arrencada TV'!B88 -> 02.04.07. | C88: ='Pressupost Arrencada TV'!C88 -> 0 | D88: ='Pressupost Arrencada TV'!D88 -> 0 | E88: ='Pressupost Arrencada TV'!N88 -> 0 | G88: =F88-E88 -> 0 | DL88: =(IF(#REF!=0,1,#REF!)*IF(#REF!=0,1,#REF!)*#REF! )+#REF!*IF(#REF!=0,1,#REF!)*IF(#REF!=0,1,#REF!) -> #REF!
B89: ='Pressupost Arrencada TV'!B89 -> 02.04.08. | C89: ='Pressupost Arrencada TV'!C89 -> 0 | D89: ='Pressupost Arrencada TV'!D89 -> 0 | E89: ='Pressupost Arrencada TV'!N89 -> 0 | G89: =F89-E89 -> 0 | DL89: =(IF(#REF!=0,1,#REF!)*IF(#REF!=0,1,#REF!)*#REF! )+#REF!*IF(#REF!=0,1,#REF!)*IF(#REF!=0,1,#REF!) -> #REF!
B90: ='Pressupost Arrencada TV'!B90 -> 02.04.09. | C90: ='Pressupost Arrencada TV'!C90 -> 0 | D90: ='Pressupost Arrencada TV'!D90 -> 0 | E90: ='Pressupost Arrencada TV'!N90 -> 0 | G90: =F90-E90 -> 0 | DL90: =(IF(#REF!=0,1,#REF!)*IF(#REF!=0,1,#REF!)*#REF! )+#REF!*IF(#REF!=0,1,#REF!)*IF(#REF!=0,1,#REF!) -> #REF!
B91: ='Pressupost Arrencada TV'!B91 -> 02.04.10. | C91: ='Pressupost Arrencada TV'!C91 -> 0 | D91: ='Pressupost Arrencada TV'!D91 -> 0 | E91: ='Pressupost Arrencada TV'!N91 -> 0 | G91: =F91-E91 -> 0 | DL91: =(IF(#REF!=0,1,#REF!)*IF(#REF!=0,1,#REF!)*#REF! )+#REF!*IF(#REF!=0,1,#REF!)*IF(#REF!=0,1,#REF!) -> #REF!
B92: ='Pressupost Arrencada TV'!B92 -> 02.04.11. | C92: ='Pressupost Arrencada TV'!C92 -> 0 | D92: ='Pressupost Arrencada TV'!D92 -> 0 | E92: ='Pressupost Arrencada TV'!N92 -> 0 | G92: =F92-E92 -> 0 | DL92: =(IF(#REF!=0,1,#REF!)*IF(#REF!=0,1,#REF!)*#REF! )+#REF!*IF(#REF!=0,1,#REF!)*IF(#REF!=0,1,#REF!) -> #REF!
B93: ='Pressupost Arrencada TV'!B93 -> 02.04.12. | C93: ='Pressupost Arrencada TV'!C93 -> 0 | D93: ='Pressupost Arrencada TV'!D93 -> 0 | E93: ='Pressupost Arrencada TV'!N93 -> 0 | G93: =F93-E93 -> 0 | DL93: =(IF(#REF!=0,1,#REF!)*IF(#REF!=0,1,#REF!)*#REF! )+#REF!*IF(#REF!=0,1,#REF!)*IF(#REF!=0,1,#REF!) -> #REF!
... B96: ='Pressupost Arrencada TV'!B96 -> 02.04.15. | C96: ='Pressupost Arrencada TV'!C96 -> 0 | D96: ='Pressupost Arrencada TV'!D96 -> 0 | E96: ='Pressupost Arrencada TV'!N96 -> 0 | G96: =F96-E96 -> 0 | DL96: =(IF(#REF!=0,1,#REF!)*IF(#REF!=0,1,#REF!)*#REF! )+#REF!*IF(#REF!=0,1,#REF!)*IF(#REF!=0,1,#REF!) -> #REF!
C97: ="TOTAL " &" " & B81 & " " & (C81) -> TOTAL 02.04. Repartiment | E97: ='Pressupost Arrencada TV'!N97 -> 0 | F97: =SUM(F82:F96) -> 0 | G97: =SUM(G82:G96) -> 0 | DL97: =SUM(DL82:DL96) -> #REF!
B98: ='Pressupost Arrencada TV'!B98 -> Núm. Compte
B99: ='Pressupost Arrencada TV'!B99 -> 02.05. | C99: ='Pressupost Arrencada TV'!C99 -> Intervenció breu
B100: ='Pressupost Arrencada TV'!B100 -> 02.05.01. | C100: ='Pressupost Arrencada TV'!C100 -> 0 | D100: ='Pressupost Arrencada TV'!D100 -> 0 | E100: ='Pressupost Arrencada TV'!N100 -> 0 | G100: =F100-E100 -> 0 | DL100: =(IF(#REF!=0,1,#REF!)*IF(#REF!=0,1,#REF!)*#REF! )+#REF!*IF(#REF!=0,1,#REF!)*IF(#REF!=0,1,#REF!) -> #REF!
B101: ='Pressupost Arrencada TV'!B101 -> 02.05.02. | C101: ='Pressupost Arrencada TV'!C101 -> 0 | D101: ='Pressupost Arrencada TV'!D101 -> 0 | E101: ='Pressupost Arrencada TV'!N101 -> 0 | G101: =F101-E101 -> 0 | DL101: =(IF(#REF!=0,1,#REF!)*IF(#REF!=0,1,#REF!)*#REF! )+#REF!*IF(#REF!=0,1,#REF!)*IF(#REF!=0,1,#REF!) -> #REF!
B102: ='Pressupost Arrencada TV'!B102 -> 02.05.03. | C102: ='Pressupost Arrencada TV'!C102 -> 0 | D102: ='Pressupost Arrencada TV'!D102 -> 0 | E102: ='Pressupost Arrencada TV'!N102 -> 0 | G102: =F102-E102 -> 0 | DL102: =(IF(#REF!=0,1,#REF!)*IF(#REF!=0,1,#REF!)*#REF! )+#REF!*IF(#REF!=0,1,#REF!)*IF(#REF!=0,1,#REF!) -> #REF!
B103: ='Pressupost Arrencada TV'!B103 -> 02.05.04. | C103: ='Pressupost Arrencada TV'!C103 -> 0 | D103: ='Pressupost Arrencada TV'!D103 -> 0 | E103: ='Pressupost Arrencada TV'!N103 -> 0 | G103: =F103-E103 -> 0 | DL103: =(IF(#REF!=0,1,#REF!)*IF(#REF!=0,1,#REF!)*#REF! )+#REF!*IF(#REF!=0,1,#REF!)*IF(#REF!=0,1,#REF!) -> #REF!
B104: ='Pressupost Arrencada TV'!B104 -> 02.05.05. | C104: ='Pressupost Arrencada TV'!C104 -> 0 | D104: ='Pressupost Arrencada TV'!D104 -> 0 | E104: ='Pressupost Arrencada TV'!N104 -> 0 | G104: =F104-E104 -> 0 | DL104: =(IF(#REF!=0,1,#REF!)*IF(#REF!=0,1,#REF!)*#REF! )+#REF!*IF(#REF!=0,1,#REF!)*IF(#REF!=0,1,#REF!) -> #REF!
B105: ='Pressupost Arrencada TV'!B105 -> 02.05.06. | C105: ='Pressupost Arrencada TV'!C105 -> 0 | D105: ='Pressupost Arrencada TV'!D105 -> 0 | E105: ='Pressupost Arrencada TV'!N105 -> 0 | G105: =F105-E105 -> 0 | DL105: =(IF(#REF!=0,1,#REF!)*IF(#REF!=0,1,#REF!)*#REF! )+#REF!*IF(#REF!=0,1,#REF!)*IF(#REF!=0,1,#REF!) -> #REF!
B106: ='Pressupost Arrencada TV'!B106 -> 02.05.07. | C106: ='Pressupost Arrencada TV'!C106 -> 0 | D106: ='Pressupost Arrencada TV'!D106 -> 0 | E106: ='Pressupost Arrencada TV'!N106 -> 0 | G106: =F106-E106 -> 0 | DL106: =(IF(#REF!=0,1,#REF!)*IF(#REF!=0,1,#REF!)*#REF! )+#REF!*IF(#REF!=0,1,#REF!)*IF(#REF!=0,1,#REF!) -> #REF!
B107: ='Pressupost Arrencada TV'!B107 -> 02.05.08. | C107: ='Pressupost Arrencada TV'!C107 -> 0 | D107: ='Pressupost Arrencada TV'!D107 -> 0 | E107: ='Pressupost Arrencada TV'!N107 -> 0 | G107: =F107-E107 -> 0 | DL107: =(IF(#REF!=0,1,#REF!)*IF(#REF!=0,1,#REF!)*#REF! )+#REF!*IF(#REF!=0,1,#REF!)*IF(#REF!=0,1,#REF!) -> #REF!
B108: ='Pressupost Arrencada TV'!B108 -> 02.05.09. | C108: ='Pressupost Arrencada TV'!C108 -> 0 | D108: ='Pressupost Arrencada TV'!D108 -> 0 | E108: ='Pressupost Arrencada TV'!N108 -> 0 | G108: =F108-E108 -> 0 | DL108: =(IF(#REF!=0,1,#REF!)*IF(#REF!=0,1,#REF!)*#REF! )+#REF!*IF(#REF!=0,1,#REF!)*IF(#REF!=0,1,#REF!) -> #REF!
B109: ='Pressupost Arrencada TV'!B109 -> 02.05.10. | C109: ='Pressupost Arrencada TV'!C109 -> 0 | D109: ='Pressupost Arrencada TV'!D109 -> 0 | E109: ='Pressupost Arrencada TV'!N109 -> 0 | G109: =F109-E109 -> 0 | DL109: =(IF(#REF!=0,1,#REF!)*IF(#REF!=0,1,#REF!)*#REF! )+#REF!*IF(#REF!=0,1,#REF!)*IF(#REF!=0,1,#REF!) -> #REF!
...

Sheet Realitats Producció TV
B1: =Portada!B1 -> Actualització a: 12/02/2026 | D1: Realitats Producció TV (Producció)
A2: Capítols de despesa | D2: Nom / Concepte | E2: Pressupostat | F2: Realitat | G2: Diferència
C5: ='Pressupost Producció TV'!C5 -> CAPÍTOL 01.- Guió, música i arxiu
B6: ='Pressupost Producció TV'!B6 -> Núm. Compte
B7: ='Pressupost Producció TV'!B7 -> 01.01. | C7: ='Pressupost Producció TV'!C7 -> Guió
B8: ='Pressupost Producció TV'!B8 -> 01.01.01. | C8: ='Pressupost Producció TV'!C8 -> Argument original o bíblia | D8: ='Pressupost Producció TV'!D8 -> 0 | E8: ='Pressupost Producció TV'!N8 -> 0 | G8: =F8-E8 -> 0 | DL8: =(IF(#REF!=0,1,#REF!)*IF(#REF!=0,1,#REF!)*#REF! )+#REF!*IF(#REF!=0,1,#REF!)*IF(#REF!=0,1,#REF!) -> #REF!
B9: ='Pressupost Producció TV'!B9 -> 01.01.02. | C9: ='Pressupost Producció TV'!C9 -> Compra de guió | D9: ='Pressupost Producció TV'!D9 -> 0 | E9: ='Pressupost Producció TV'!N9 -> 0 | G9: =F9-E9 -> 0 | DL9: =(IF(#REF!=0,1,#REF!)*IF(#REF!=0,1,#REF!)*#REF! )+#REF!*IF(#REF!=0,1,#REF!)*IF(#REF!=0,1,#REF!) -> #REF!
B10: ='Pressupost Producció TV'!B10 -> 01.01.03. | C10: ='Pressupost Producció TV'!C10 -> Traduccions | D10: ='Pressupost Producció TV'!D10 -> 0 | E10: ='Pressupost Producció TV'!N10 -> 0 | G10: =F10-E10 -> 0 | DL10: =(IF(#REF!=0,1,#REF!)*IF(#REF!=0,1,#REF!)*#REF! )+#REF!*IF(#REF!=0,1,#REF!)*IF(#REF!=0,1,#REF!) -> #REF!
B11: ='Pressupost Producció TV'!B11 -> 01.01.04. | C11: ='Pressupost Producció TV'!C11 -> Transcripcions | D11: ='Pressupost Producció TV'!D11 -> 0 | E11: ='Pressupost Producció TV'!N11 -> 0 | G11: =F11-E11 -> 0 | DL11: =(IF(#REF!=0,1,#REF!)*IF(#REF!=0,1,#REF!)*#REF! )+#REF!*IF(#REF!=0,1,#REF!)*IF(#REF!=0,1,#REF!) -> #REF!
B12: ='Pressupost Producció TV'!B12 -> 01.01.05. | C12: ='Pressupost Producció TV'!C12 -> Imatges d'arxiu | D12: ='Pressupost Producció TV'!D12 -> 0 | E12: ='Pressupost Producció TV'!N12 -> 0 | G12: =F12-E12 -> 0 | DL12: =(IF(#REF!=0,1,#REF!)*IF(#REF!=0,1,#REF!)*#REF! )+#REF!*IF(#REF!=0,1,#REF!)*IF(#REF!=0,1,#REF!) -> #REF!
B13: ='Pressupost Producció TV'!B13 -> 01.01.06. | C13: ='Pressupost Producció TV'!C13 -> Drets de format | D13: ='Pressupost Producció TV'!D13 -> 0 | E13: ='Pressupost Producció TV'!N13 -> 0 | G13: =F13-E13 -> 0 | DL13: =(IF(#REF!=0,1,#REF!)*IF(#REF!=0,1,#REF!)*#REF! )+#REF!*IF(#REF!=0,1,#REF!)*IF(#REF!=0,1,#REF!) -> #REF!
B14: ='Pressupost Producció TV'!B14 -> 01.01.07. | C14: ='Pressupost Producció TV'!C14 -> Premis de Programa | D14: ='Pressupost Producció TV'!D14 -> 0 | E14: ='Pressupost Producció TV'!N14 -> 0 | G14: =F14-E14 -> 0 | DL14: =(IF(#REF!=0,1,#REF!)*IF(#REF!=0,1,#REF!)*#REF! )+#REF!*IF(#REF!=0,1,#REF!)*IF(#REF!=0,1,#REF!) -> #REF!
B15: ='Pressupost Producció TV'!B15 -> 01.01.08. | C15: ='Pressupost Producció TV'!C15 -> 0 | D15: ='Pressupost Producció TV'!D15 -> 0 | E15: ='Pressupost Producció TV'!N15 -> 0 | G15: =F15-E15 -> 0 | DL15: =(IF(#REF!=0,1,#REF!)*IF(#REF!=0,1,#REF!)*#REF! )+#REF!*IF(#REF!=0,1,#REF!)*IF(#REF!=0,1,#REF!) -> #REF!
B16: ='Pressupost Producció TV'!B16 -> 01.01.09. | C16: ='Pressupost Producció TV'!C16 -> 0 | D16: ='Pressupost Producció TV'!D16 -> 0 | E16: ='Pressupost Producció TV'!N16 -> 0 | G16: =F16-E16 -> 0 | DL16: =(IF(#REF!=0,1,#REF!)*IF(#REF!=0,1,#REF!)*#REF! )+#REF!*IF(#REF!=0,1,#REF!)*IF(#REF!=0,1,#REF!) -> #REF!
B17: ='Pressupost Producció TV'!B17 -> 01.01.10. | C17: ='Pressupost Producció TV'!C17 -> 0 | D17: ='Pressupost Producció TV'!D17 -> 0 | E17: ='Pressupost Producció TV'!N17 -> 0 | G17: =F17-E17 -> 0 | DL17: =(IF(#REF!=0,1,#REF!)*IF(#REF!=0,1,#REF!)*#REF! )+#REF!*IF(#REF!=0,1,#REF!)*IF(#REF!=0,1,#REF!) -> #REF!
C18: ='Pressupost Producció TV'!C18 -> TOTAL 01.01. Guió | D18: ='Pressupost Producció TV'!D18 -> 0 | E18: ='Pressupost Producció TV'!N18 -> 0 | F18: =SUM(F8:F17) -> 0 | G18: =SUM(G8:G17) -> 0 | DL18: =SUM(DL8:DL17) -> #REF!
B19: ='Pressupost Producció TV'!B19 -> Núm. Compte
B20: ='Pressupost Producció TV'!B20 -> 01.02. | C20: ='Pressupost Producció TV'!C20 -> Música
B21: ='Pressupost Producció TV'!B21 -> 01.02.01. | C21: ='Pressupost Producció TV'!C21 -> Música original | D21: ='Pressupost Producció TV'!D21 -> 0 | E21: ='Pressupost Producció TV'!N21 -> 0 | G21: =F21-E21 -> 0 | DL21: =(IF(#REF!=0,1,#REF!)*IF(#REF!=0,1,#REF!)*#REF! )+#REF!*IF(#REF!=0,1,#REF!)*IF(#REF!=0,1,#REF!) -> #REF!
B22: ='Pressupost Producció TV'!B22 -> 01.02.02. | C22: ='Pressupost Producció TV'!C22 -> Musica de llibreria | D22: ='Pressupost Producció TV'!D22 -> 0 | E22: ='Pressupost Producció TV'!N22 -> 0 | G22: =F22-E22 -> 0 | DL22: =(IF(#REF!=0,1,#REF!)*IF(#REF!=0,1,#REF!)*#REF! )+#REF!*IF(#REF!=0,1,#REF!)*IF(#REF!=0,1,#REF!) -> #REF!
B23: ='Pressupost Producció TV'!B23 -> 01.02.03. | C23: ='Pressupost Producció TV'!C23 -> Arranjaments | D23: ='Pressupost Producció TV'!D23 -> 0 | E23: ='Pressupost Producció TV'!N23 -> 0 | G23: =F23-E23 -> 0 | DL23: =(IF(#REF!=0,1,#REF!)*IF(#REF!=0,1,#REF!)*#REF! )+#REF!*IF(#REF!=0,1,#REF!)*IF(#REF!=0,1,#REF!) -> #REF!
B24: ='Pressupost Producció TV'!B24 -> 01.02.04. | C24: ='Pressupost Producció TV'!C24 -> 0 | D24: ='Pressupost Producció TV'!D24 -> 0 | E24: ='Pressupost Producció TV'!N24 -> 0 | G24: =F24-E24 -> 0 | DL24: =(IF(#REF!=0,1,#REF!)*IF(#REF!=0,1,#REF!)*#REF! )+#REF!*IF(#REF!=0,1,#REF!)*IF(#REF!=0,1,#REF!) -> #REF!
B25: ='Pressupost Producció TV'!B25 -> 01.02.05. | C25: ='Pressupost Producció TV'!C25 -> 0 | D25: ='Pressupost Producció TV'!D25 -> 0 | E25: ='Pressupost Producció TV'!N25 -> 0 | G25: =F25-E25 -> 0 | DL25: =(IF(#REF!=0,1,#REF!)*IF(#REF!=0,1,#REF!)*#REF! )+#REF!*IF(#REF!=0,1,#REF!)*IF(#REF!=0,1,#REF!) -> #REF!
B26: ='Pressupost Producció TV'!B26 -> 01.02.06. | C26: ='Pressupost Producció TV'!C26 -> 0 | D26: ='Pressupost Producció TV'!D26 -> 0 | E26: ='Pressupost Producció TV'!N26 -> 0 | G26: =F26-E26 -> 0 | DL26: =(IF(#REF!=0,1,#REF!)*IF(#REF!=0,1,#REF!)*#REF! )+#REF!*IF(#REF!=0,1,#REF!)*IF(#REF!=0,1,#REF!) -> #REF!
C27: ='Pressupost Producció TV'!C27 -> TOTAL 01.02. Música | D27: ='Pressupost Producció TV'!D27 -> 0 | E27: ='Pressupost Producció TV'!N27 -> 0 | F27: =SUM(F21:F26) -> 0 | G27: =SUM(G21:G26) -> 0 | DL27: =SUM(DL21:DL26) -> #REF!
C28: ="TOTAL" & " " &C5 -> TOTAL CAPÍTOL 01.- Guió, música i arxiu | E28: ='Pressupost Producció TV'!N28 -> 0 | F28: =F18 +F27 -> 0 | G28: =G18 +G27 -> 0 | DL28: =(DL18 + DL27) -> #REF!
C30: ='Pressupost Producció TV'!C30 -> CAPÍTOL 02.- Personal artístic
B31: ='Pressupost Producció TV'!B31 -> Núm. Compte
B32: ='Pressupost Producció TV'!B32 -> 02.01. | C32: ='Pressupost Producció TV'!C32 -> Protagonistes
B33: ='Pressupost Producció TV'!B33 -> 02.01.01. | C33: ='Pressupost Producció TV'!C33 | D33: ='Pressupost Producció TV'!D33 -> 0 | E33: ='Pressupost Producció TV'!N33 -> 0 | G33: =F33-E33 -> 0 | DL33: =(IF(#REF!=0,1,#REF!)*IF(#REF!=0,1,#REF!)*#REF! )+#REF!*IF(#REF!=0,1,#REF!)*IF(#REF!=0,1,#REF!) -> #REF!
B34: ='Pressupost Producció TV'!B34 -> 02.01.02. | C34: ='Pressupost Producció TV'!C34 -> 0 | D34: ='Pressupost Producció TV'!D34 -> 0 | E34: ='Pressupost Producció TV'!N34 -> 0 | G34: =F34-E34 -> 0 | DL34: =(IF(#REF!=0,1,#REF!)*IF(#REF!=0,1,#REF!)*#REF! )+#REF!*IF(#REF!=0,1,#REF!)*IF(#REF!=0,1,#REF!) -> #REF!
B35: ='Pressupost Producció TV'!B35 -> 02.01.03. | C35: ='Pressupost Producció TV'!C35 -> 0 | D35: ='Pressupost Producció TV'!D35 -> 0 | E35: ='Pressupost Producció TV'!N35 -> 0 | G35: =F35-E35 -> 0 | DL35: =(IF(#REF!=0,1,#REF!)*IF(#REF!=0,1,#REF!)*#REF! )+#REF!*IF(#REF!=0,1,#REF!)*IF(#REF!=0,1,#REF!) -> #REF!
B36: ='Pressupost Producció TV'!B36 -> 02.01.04. | C36: ='Pressupost Producció TV'!C36 -> 0 | D36: ='Pressupost Producció TV'!D36 -> 0 | E36: ='Pressupost Producció TV'!N36 -> 0 | G36: =F36-E36 -> 0 | DL36: =(IF(#REF!=0,1,#REF!)*IF(#REF!=0,1,#REF!)*#REF! )+#REF!*IF(#REF!=0,1,#REF!)*IF(#REF!=0,1,#REF!) -> #REF!
B37: ='Pressupost Producció TV'!B37 -> 02.01.05. | C37: ='Pressupost Producció TV'!C37 -> 0 | D37: ='Pressupost Producció TV'!D37 -> 0 | E37: ='Pressupost Producció TV'!N37 -> 0 | G37: =F37-E37 -> 0 | DL37: =(IF(#REF!=0,1,#REF!)*IF(#REF!=0,1,#REF!)*#REF! )+#REF!*IF(#REF!=0,1,#REF!)*IF(#REF!=0,1,#REF!) -> #REF!
B38: ='Pressupost Producció TV'!B38 -> 02.01.06. | C38: ='Pressupost Producció TV'!C38 -> 0 | D38: ='Pressupost Producció TV'!D38 -> 0 | E38: ='Pressupost Producció TV'!N38 -> 0 | G38: =F38-E38 -> 0 | DL38: =(IF(#REF!=0,1,#REF!)*IF(#REF!=0,1,#REF!)*#REF! )+#REF!*IF(#REF!=0,1,#REF!)*IF(#REF!=0,1,#REF!) -> #REF!
B39: ='Pressupost Producció TV'!B39 -> 02.01.07. | C39: ='Pressupost Producció TV'!C39 -> 0 | D39: ='Pressupost Producció TV'!D39 -> 0 | E39: ='Pressupost Producció TV'!N39 -> 0 | G39: =F39-E39 -> 0 | DL39: =(IF(#REF!=0,1,#REF!)*IF(#REF!=0,1,#REF!)*#REF! )+#REF!*IF(#REF!=0,1,#REF!)*IF(#REF!=0,1,#REF!) -> #REF!
B40: ='Pressupost Producció TV'!B40 -> 02.01.08. | C40: ='Pressupost Producció TV'!C40 -> 0 | D40: ='Pressupost Producció TV'!D40 -> 0 | E40: ='Pressupost Producció TV'!N40 -> 0 | G40: =F40-E40 -> 0 | DL40: =(IF(#REF!=0,1,#REF!)*IF(#REF!=0,1,#REF!)*#REF! )+#REF!*IF(#REF!=0,1,#REF!)*IF(#REF!=0,1,#REF!) -> #REF!
B41: ='Pressupost Producció TV'!B41 -> 02.01.09. | C41: ='Pressupost Producció TV'!C41 -> 0 | D41: ='Pressupost Producció TV'!D41 -> 0 | E41: ='Pressupost Producció TV'!N41 -> 0 | G41: =F41-E41 -> 0 | DL41: =(IF(#REF!=0,1,#REF!)*IF(#REF!=0,1,#REF!)*#REF! )+#REF!*IF(#REF!=0,1,#REF!)*IF(#REF!=0,1,#REF!) -> #REF!
B42: ='Pressupost Producció TV'!B42 -> 02.01.10. | C42: ='Pressupost Producció TV'!C42 -> 0 | D42: ='Pressupost Producció TV'!D42 -> 0 | E42: ='Pressupost Producció TV'!N42 -> 0 | G42: =F42-E42 -> 0 | DL42: =(IF(#REF!=0,1,#REF!)*IF(#REF!=0,1,#REF!)*#REF! )+#REF!*IF(#REF!=0,1,#REF!)*IF(#REF!=0,1,#REF!) -> #REF!
C43: ="TOTAL " &" " & B32 & " " & (C32) -> TOTAL 02.01. Protagonistes | D43: ='Pressupost Producció TV'!D43 -> 0 | E43: ='Pressupost Producció TV'!N43 -> 0 | F43: =SUM(F33:F42) -> 0 | G43: =SUM(G33:G42) -> 0 | DL43: =SUM(DL33:DL42) -> #REF!
B44: ='Pressupost Producció TV'!B44 -> Núm. Compte | E44: ='Pressupost Producció TV'!N44 -> 0
B45: ='Pressupost Producció TV'!B45 -> 02.02. | C45: ='Pressupost Producció TV'!C45 -> Primers papers
B46: ='Pressupost Producció TV'!B46 -> 02.02.01. | C46: ='Pressupost Producció TV'!C46 | D46: ='Pressupost Producció TV'!D46 -> 0 | E46: ='Pressupost Producció TV'!N46 -> 0 | G46: =F46-E46 -> 0 | DL46: =(IF(#REF!=0,1,#REF!)*IF(#REF!=0,1,#REF!)*#REF! )+#REF!*IF(#REF!=0,1,#REF!)*IF(#REF!=0,1,#REF!) -> #REF!
B47: ='Pressupost Producció TV'!B47 -> 02.02.02. | C47: ='Pressupost Producció TV'!C47 -> 0 | D47: ='Pressupost Producció TV'!D47 -> 0 | E47: ='Pressupost Producció TV'!N47 -> 0 | G47: =F47-E47 -> 0 | DL47: =(IF(#REF!=0,1,#REF!)*IF(#REF!=0,1,#REF!)*#REF! )+#REF!*IF(#REF!=0,1,#REF!)*IF(#REF!=0,1,#REF!) -> #REF!
B48: ='Pressupost Producció TV'!B48 -> 02.02.03. | C48: ='Pressupost Producció TV'!C48 | D48: ='Pressupost Producció TV'!D48 -> 0 | E48: ='Pressupost Producció TV'!N48 -> 0 | G48: =F48-E48 -> 0 | DL48: =(IF(#REF!=0,1,#REF!)*IF(#REF!=0,1,#REF!)*#REF! )+#REF!*IF(#REF!=0,1,#REF!)*IF(#REF!=0,1,#REF!) -> #REF!
B49: ='Pressupost Producció TV'!B49 -> 02.02.04. | C49: ='Pressupost Producció TV'!C49 -> 0 | D49: ='Pressupost Producció TV'!D49 -> 0 | E49: ='Pressupost Producció TV'!N49 -> 0 | G49: =F49-E49 -> 0 | DL49: =(IF(#REF!=0,1,#REF!)*IF(#REF!=0,1,#REF!)*#REF! )+#REF!*IF(#REF!=0,1,#REF!)*IF(#REF!=0,1,#REF!) -> #REF!
B50: ='Pressupost Producció TV'!B50 -> 02.02.05. | C50: ='Pressupost Producció TV'!C50 -> 0 | D50: ='Pressupost Producció TV'!D50 -> 0 | E50: ='Pressupost Producció TV'!N50 -> 0 | G50: =F50-E50 -> 0 | DL50: =(IF(#REF!=0,1,#REF!)*IF(#REF!=0,1,#REF!)*#REF! )+#REF!*IF(#REF!=0,1,#REF!)*IF(#REF!=0,1,#REF!) -> #REF!
B51: ='Pressupost Producció TV'!B51 -> 02.02.06. | C51: ='Pressupost Producció TV'!C51 -> 0 | D51: ='Pressupost Producció TV'!D51 -> 0 | E51: ='Pressupost Producció TV'!N51 -> 0 | G51: =F51-E51 -> 0 | DL51: =(IF(#REF!=0,1,#REF!)*IF(#REF!=0,1,#REF!)*#REF! )+#REF!*IF(#REF!=0,1,#REF!)*IF(#REF!=0,1,#REF!) -> #REF!
B52: ='Pressupost Producció TV'!B52 -> 02.02.07. | C52: ='Pressupost Producció TV'!C52 -> 0 | D52: ='Pressupost Producció TV'!D52 -> 0 | E52: ='Pressupost Producció TV'!N52 -> 0 | G52: =F52-E52 -> 0 | DL52: =(IF(#REF!=0,1,#REF!)*IF(#REF!=0,1,#REF!)*#REF! )+#REF!*IF(#REF!=0,1,#REF!)*IF(#REF!=0,1,#REF!) -> #REF!
B53: ='Pressupost Producció TV'!B53 -> 02.02.08. | C53: ='Pressupost Producció TV'!C53 -> 0 | D53: ='Pressupost Producció TV'!D53 -> 0 | E53: ='Pressupost Producció TV'!N53 -> 0 | G53: =F53-E53 -> 0 | DL53: =(IF(#REF!=0,1,#REF!)*IF(#REF!=0,1,#REF!)*#REF! )+#REF!*IF(#REF!=0,1,#REF!)*IF(#REF!=0,1,#REF!) -> #REF!
B54: ='Pressupost Producció TV'!B54 -> 02.02.09. | C54: ='Pressupost Producció TV'!C54 -> 0 | D54: ='Pressupost Producció TV'!D54 -> 0 | E54: ='Pressupost Producció TV'!N54 -> 0 | G54: =F54-E54 -> 0 | DL54: =(IF(#REF!=0,1,#REF!)*IF(#REF!=0,1,#REF!)*#REF! )+#REF!*IF(#REF!=0,1,#REF!)*IF(#REF!=0,1,#REF!) -> #REF!
B55: ='Pressupost Producció TV'!B55 -> 02.02.10. | C55: ='Pressupost Producció TV'!C55 -> 0 | D55: ='Pressupost Producció TV'!D55 -> 0 | E55: ='Pressupost Producció TV'!N55 -> 0 | G55: =F55-E55 -> 0 | DL55: =(IF(#REF!=0,1,#REF!)*IF(#REF!=0,1,#REF!)*#REF! )+#REF!*IF(#REF!=0,1,#REF!)*IF(#REF!=0,1,#REF!) -> #REF!
B56: ='Pressupost Producció TV'!B56 -> 02.02.11. | C56: ='Pressupost Producció TV'!C56 -> 0 | D56: ='Pressupost Producció TV'!D56 -> 0 | E56: ='Pressupost Producció TV'!N56 -> 0 | G56: =F56-E56 -> 0 | DL56: =(IF(#REF!=0,1,#REF!)*IF(#REF!=0,1,#REF!)*#REF! )+#REF!*IF(#REF!=0,1,#REF!)*IF(#REF!=0,1,#REF!) -> #REF!
B57: ='Pressupost Producció TV'!B57 -> 02.02.12. | C57: ='Pressupost Producció TV'!C57 -> 0 | D57: ='Pressupost Producció TV'!D57 -> 0 | E57: ='Pressupost Producció TV'!N57 -> 0 | G57: =F57-E57 -> 0 | DL57: =(IF(#REF!=0,1,#REF!)*IF(#REF!=0,1,#REF!)*#REF! )+#REF!*IF(#REF!=0,1,#REF!)*IF(#REF!=0,1,#REF!) -> #REF!
... B60: ='Pressupost Producció TV'!B60 -> 02.02.15. | C60: ='Pressupost Producció TV'!C60 -> 0 | D60: ='Pressupost Producció TV'!D60 -> 0 | E60: ='Pressupost Producció TV'!N60 -> 0 | G60: =F60-E60 -> 0 | DL60: =(IF(#REF!=0,1,#REF!)*IF(#REF!=0,1,#REF!)*#REF! )+#REF!*IF(#REF!=0,1,#REF!)*IF(#REF!=0,1,#REF!) -> #REF!
C61: ="TOTAL " &" " & B45 & " " & (C45) -> TOTAL 02.02. Primers papers | E61: ='Pressupost Producció TV'!N61 -> 0 | F61: =SUM(F46:F60) -> 0 | G61: =SUM(G46:G60) -> 0 | DL61: =SUM(DL46:DL60) -> #REF!
B62: ='Pressupost Producció TV'!B62 -> Núm. Compte
B63: ='Pressupost Producció TV'!B63 -> 02.03. | C63: ='Pressupost Producció TV'!C63 -> Segons papers
B64: ='Pressupost Producció TV'!B64 -> 02.03.01. | C64: ='Pressupost Producció TV'!C64 | D64: ='Pressupost Producció TV'!D64 -> 0 | E64: ='Pressupost Producció TV'!N64 -> 0 | G64: =F64-E64 -> 0 | DL64: =(IF(#REF!=0,1,#REF!)*IF(#REF!=0,1,#REF!)*#REF! )+#REF!*IF(#REF!=0,1,#REF!)*IF(#REF!=0,1,#REF!) -> #REF!
B65: ='Pressupost Producció TV'!B65 -> 02.03.02. | C65: ='Pressupost Producció TV'!C65 | D65: ='Pressupost Producció TV'!D65 -> 0 | E65: ='Pressupost Producció TV'!N65 -> 0 | G65: =F65-E65 -> 0 | DL65: =(IF(#REF!=0,1,#REF!)*IF(#REF!=0,1,#REF!)*#REF! )+#REF!*IF(#REF!=0,1,#REF!)*IF(#REF!=0,1,#REF!) -> #REF!
B66: ='Pressupost Producció TV'!B66 -> 02.03.03. | C66: ='Pressupost Producció TV'!C66 -> 0 | D66: ='Pressupost Producció TV'!D66 -> 0 | E66: ='Pressupost Producció TV'!N66 -> 0 | G66: =F66-E66 -> 0 | DL66: =(IF(#REF!=0,1,#REF!)*IF(#REF!=0,1,#REF!)*#REF! )+#REF!*IF(#REF!=0,1,#REF!)*IF(#REF!=0,1,#REF!) -> #REF!
B67: ='Pressupost Producció TV'!B67 -> 02.03.04. | C67: ='Pressupost Producció TV'!C67 -> 0 | D67: ='Pressupost Producció TV'!D67 -> 0 | E67: ='Pressupost Producció TV'!N67 -> 0 | G67: =F67-E67 -> 0 | DL67: =(IF(#REF!=0,1,#REF!)*IF(#REF!=0,1,#REF!)*#REF! )+#REF!*IF(#REF!=0,1,#REF!)*IF(#REF!=0,1,#REF!) -> #REF!
B68: ='Pressupost Producció TV'!B68 -> 02.03.05. | C68: ='Pressupost Producció TV'!C68 -> 0 | D68: ='Pressupost Producció TV'!D68 -> 0 | E68: ='Pressupost Producció TV'!N68 -> 0 | G68: =F68-E68 -> 0 | DL68: =(IF(#REF!=0,1,#REF!)*IF(#REF!=0,1,#REF!)*#REF! )+#REF!*IF(#REF!=0,1,#REF!)*IF(#REF!=0,1,#REF!) -> #REF!
B69: ='Pressupost Producció TV'!B69 -> 02.03.06. | C69: ='Pressupost Producció TV'!C69 -> 0 | D69: ='Pressupost Producció TV'!D69 -> 0 | E69: ='Pressupost Producció TV'!N69 -> 0 | G69: =F69-E69 -> 0 | DL69: =(IF(#REF!=0,1,#REF!)*IF(#REF!=0,1,#REF!)*#REF! )+#REF!*IF(#REF!=0,1,#REF!)*IF(#REF!=0,1,#REF!) -> #REF!
B70: ='Pressupost Producció TV'!B70 -> 02.03.07. | C70: ='Pressupost Producció TV'!C70 -> 0 | D70: ='Pressupost Producció TV'!D70 -> 0 | E70: ='Pressupost Producció TV'!N70 -> 0 | G70: =F70-E70 -> 0 | DL70: =(IF(#REF!=0,1,#REF!)*IF(#REF!=0,1,#REF!)*#REF! )+#REF!*IF(#REF!=0,1,#REF!)*IF(#REF!=0,1,#REF!) -> #REF!
B71: ='Pressupost Producció TV'!B71 -> 02.03.08. | C71: ='Pressupost Producció TV'!C71 -> 0 | D71: ='Pressupost Producció TV'!D71 -> 0 | E71: ='Pressupost Producció TV'!N71 -> 0 | G71: =F71-E71 -> 0 | DL71: =(IF(#REF!=0,1,#REF!)*IF(#REF!=0,1,#REF!)*#REF! )+#REF!*IF(#REF!=0,1,#REF!)*IF(#REF!=0,1,#REF!) -> #REF!
B72: ='Pressupost Producció TV'!B72 -> 02.03.09. | C72: ='Pressupost Producció TV'!C72 -> 0 | D72: ='Pressupost Producció TV'!D72 -> 0 | E72: ='Pressupost Producció TV'!N72 -> 0 | G72: =F72-E72 -> 0 | DL72: =(IF(#REF!=0,1,#REF!)*IF(#REF!=0,1,#REF!)*#REF! )+#REF!*IF(#REF!=0,1,#REF!)*IF(#REF!=0,1,#REF!) -> #REF!
B73: ='Pressupost Producció TV'!B73 -> 02.03.10. | C73: ='Pressupost Producció TV'!C73 -> 0 | D73: ='Pressupost Producció TV'!D73 -> 0 | E73: ='Pressupost Producció TV'!N73 -> 0 | G73: =F73-E73 -> 0 | DL73: =(IF(#REF!=0,1,#REF!)*IF(#REF!=0,1,#REF!)*#REF! )+#REF!*IF(#REF!=0,1,#REF!)*IF(#REF!=0,1,#REF!) -> #REF!
B74: ='Pressupost Producció TV'!B74 -> 02.03.11. | C74: ='Pressupost Producció TV'!C74 -> 0 | D74: ='Pressupost Producció TV'!D74 -> 0 | E74: ='Pressupost Producció TV'!N74 -> 0 | G74: =F74-E74 -> 0 | DL74: =(IF(#REF!=0,1,#REF!)*IF(#REF!=0,1,#REF!)*#REF! )+#REF!*IF(#REF!=0,1,#REF!)*IF(#REF!=0,1,#REF!) -> #REF!
B75: ='Pressupost Producció TV'!B75 -> 02.03.12. | C75: ='Pressupost Producció TV'!C75 -> 0 | D75: ='Pressupost Producció TV'!D75 -> 0 | E75: ='Pressupost Producció TV'!N75 -> 0 | G75: =F75-E75 -> 0 | DL75: =(IF(#REF!=0,1,#REF!)*IF(#REF!=0,1,#REF!)*#REF! )+#REF!*IF(#REF!=0,1,#REF!)*IF(#REF!=0,1,#REF!) -> #REF!
... B78: ='Pressupost Producció TV'!B78 -> 02.03.15. | C78: ='Pressupost Producció TV'!C78 -> 0 | D78: ='Pressupost Producció TV'!D78 -> 0 | E78: ='Pressupost Producció TV'!N78 -> 0 | G78: =F78-E78 -> 0 | DL78: =(IF(#REF!=0,1,#REF!)*IF(#REF!=0,1,#REF!)*#REF! )+#REF!*IF(#REF!=0,1,#REF!)*IF(#REF!=0,1,#REF!) -> #REF!
C79: ="TOTAL " &" " & B63 & " " & (C63) -> TOTAL 02.03. Segons papers | E79: ='Pressupost Producció TV'!N79 -> 0 | F79: =SUM(F64:F78) -> 0 | G79: =SUM(G64:G78) -> 0 | DL79: =SUM(DL64:DL78) -> #REF!
B80: ='Pressupost Producció TV'!B80 -> Núm. Compte
B81: ='Pressupost Producció TV'!B81 -> 02.04. | C81: ='Pressupost Producció TV'!C81 -> Repartiment
B82: ='Pressupost Producció TV'!B82 -> 02.04.01. | C82: ='Pressupost Producció TV'!C82 -> 0 | D82: ='Pressupost Producció TV'!D82 -> 0 | E82: ='Pressupost Producció TV'!N82 -> 0 | G82: =F82-E82 -> 0 | DL82: =(IF(#REF!=0,1,#REF!)*IF(#REF!=0,1,#REF!)*#REF! )+#REF!*IF(#REF!=0,1,#REF!)*IF(#REF!=0,1,#REF!) -> #REF!
B83: ='Pressupost Producció TV'!B83 -> 02.04.02. | C83: ='Pressupost Producció TV'!C83 -> 0 | D83: ='Pressupost Producció TV'!D83 -> 0 | E83: ='Pressupost Producció TV'!N83 -> 0 | G83: =F83-E83 -> 0 | DL83: =(IF(#REF!=0,1,#REF!)*IF(#REF!=0,1,#REF!)*#REF! )+#REF!*IF(#REF!=0,1,#REF!)*IF(#REF!=0,1,#REF!) -> #REF!
B84: ='Pressupost Producció TV'!B84 -> 02.04.03. | C84: ='Pressupost Producció TV'!C84 -> 0 | D84: ='Pressupost Producció TV'!D84 -> 0 | E84: ='Pressupost Producció TV'!N84 -> 0 | G84: =F84-E84 -> 0 | DL84: =(IF(#REF!=0,1,#REF!)*IF(#REF!=0,1,#REF!)*#REF! )+#REF!*IF(#REF!=0,1,#REF!)*IF(#REF!=0,1,#REF!) -> #REF!
B85: ='Pressupost Producció TV'!B85 -> 02.04.04. | C85: ='Pressupost Producció TV'!C85 -> 0 | D85: ='Pressupost Producció TV'!D85 -> 0 | E85: ='Pressupost Producció TV'!N85 -> 0 | G85: =F85-E85 -> 0 | DL85: =(IF(#REF!=0,1,#REF!)*IF(#REF!=0,1,#REF!)*#REF! )+#REF!*IF(#REF!=0,1,#REF!)*IF(#REF!=0,1,#REF!) -> #REF!
B86: ='Pressupost Producció TV'!B86 -> 02.04.05. | C86: ='Pressupost Producció TV'!C86 -> 0 | D86: ='Pressupost Producció TV'!D86 -> 0 | E86: ='Pressupost Producció TV'!N86 -> 0 | G86: =F86-E86 -> 0 | DL86: =(IF(#REF!=0,1,#REF!)*IF(#REF!=0,1,#REF!)*#REF! )+#REF!*IF(#REF!=0,1,#REF!)*IF(#REF!=0,1,#REF!) -> #REF!
B87: ='Pressupost Producció TV'!B87 -> 02.04.06. | C87: ='Pressupost Producció TV'!C87 -> 0 | D87: ='Pressupost Producció TV'!D87 -> 0 | E87: ='Pressupost Producció TV'!N87 -> 0 | G87: =F87-E87 -> 0 | DL87: =(IF(#REF!=0,1,#REF!)*IF(#REF!=0,1,#REF!)*#REF! )+#REF!*IF(#REF!=0,1,#REF!)*IF(#REF!=0,1,#REF!) -> #REF!
B88: ='Pressupost Producció TV'!B88 -> 02.04.07. | C88: ='Pressupost Producció TV'!C88 -> 0 | D88: ='Pressupost Producció TV'!D88 -> 0 | E88: ='Pressupost Producció TV'!N88 -> 0 | G88: =F88-E88 -> 0 | DL88: =(IF(#REF!=0,1,#REF!)*IF(#REF!=0,1,#REF!)*#REF! )+#REF!*IF(#REF!=0,1,#REF!)*IF(#REF!=0,1,#REF!) -> #REF!
B89: ='Pressupost Producció TV'!B89 -> 02.04.08. | C89: ='Pressupost Producció TV'!C89 -> 0 | D89: ='Pressupost Producció TV'!D89 -> 0 | E89: ='Pressupost Producció TV'!N89 -> 0 | G89: =F89-E89 -> 0 | DL89: =(IF(#REF!=0,1,#REF!)*IF(#REF!=0,1,#REF!)*#REF! )+#REF!*IF(#REF!=0,1,#REF!)*IF(#REF!=0,1,#REF!) -> #REF!
B90: ='Pressupost Producció TV'!B90 -> 02.04.09. | C90: ='Pressupost Producció TV'!C90 -> 0 | D90: ='Pressupost Producció TV'!D90 -> 0 | E90: ='Pressupost Producció TV'!N90 -> 0 | G90: =F90-E90 -> 0 | DL90: =(IF(#REF!=0,1,#REF!)*IF(#REF!=0,1,#REF!)*#REF! )+#REF!*IF(#REF!=0,1,#REF!)*IF(#REF!=0,1,#REF!) -> #REF!
B91: ='Pressupost Producció TV'!B91 -> 02.04.10. | C91: ='Pressupost Producció TV'!C91 -> 0 | D91: ='Pressupost Producció TV'!D91 -> 0 | E91: ='Pressupost Producció TV'!N91 -> 0 | G91: =F91-E91 -> 0 | DL91: =(IF(#REF!=0,1,#REF!)*IF(#REF!=0,1,#REF!)*#REF! )+#REF!*IF(#REF!=0,1,#REF!)*IF(#REF!=0,1,#REF!) -> #REF!
B92: ='Pressupost Producció TV'!B92 -> 02.04.11. | C92: ='Pressupost Producció TV'!C92 -> 0 | D92: ='Pressupost Producció TV'!D92 -> 0 | E92: ='Pressupost Producció TV'!N92 -> 0 | G92: =F92-E92 -> 0 | DL92: =(IF(#REF!=0,1,#REF!)*IF(#REF!=0,1,#REF!)*#REF! )+#REF!*IF(#REF!=0,1,#REF!)*IF(#REF!=0,1,#REF!) -> #REF!
B93: ='Pressupost Producció TV'!B93 -> 02.04.12. | C93: ='Pressupost Producció TV'!C93 -> 0 | D93: ='Pressupost Producció TV'!D93 -> 0 | E93: ='Pressupost Producció TV'!N93 -> 0 | G93: =F93-E93 -> 0 | DL93: =(IF(#REF!=0,1,#REF!)*IF(#REF!=0,1,#REF!)*#REF! )+#REF!*IF(#REF!=0,1,#REF!)*IF(#REF!=0,1,#REF!) -> #REF!
... B96: ='Pressupost Producció TV'!B96 -> 02.04.15. | C96: ='Pressupost Producció TV'!C96 -> 0 | D96: ='Pressupost Producció TV'!D96 -> 0 | E96: ='Pressupost Producció TV'!N96 -> 0 | G96: =F96-E96 -> 0 | DL96: =(IF(#REF!=0,1,#REF!)*IF(#REF!=0,1,#REF!)*#REF! )+#REF!*IF(#REF!=0,1,#REF!)*IF(#REF!=0,1,#REF!) -> #REF!
C97: ="TOTAL " &" " & B81 & " " & (C81) -> TOTAL 02.04. Repartiment | E97: ='Pressupost Producció TV'!N97 -> 0 | F97: =SUM(F82:F96) -> 0 | G97: =SUM(G82:G96) -> 0 | DL97: =SUM(DL82:DL96) -> #REF!
B98: ='Pressupost Producció TV'!B98 -> Núm. Compte
B99: ='Pressupost Producció TV'!B99 -> 02.05. | C99: ='Pressupost Producció TV'!C99 -> Intervenció breu
B100: ='Pressupost Producció TV'!B100 -> 02.05.01. | C100: ='Pressupost Producció TV'!C100 -> 0 | D100: ='Pressupost Producció TV'!D100 -> 0 | E100: ='Pressupost Producció TV'!N100 -> 0 | G100: =F100-E100 -> 0 | DL100: =(IF(#REF!=0,1,#REF!)*IF(#REF!=0,1,#REF!)*#REF! )+#REF!*IF(#REF!=0,1,#REF!)*IF(#REF!=0,1,#REF!) -> #REF!
B101: ='Pressupost Producció TV'!B101 -> 02.05.02. | C101: ='Pressupost Producció TV'!C101 -> 0 | D101: ='Pressupost Producció TV'!D101 -> 0 | E101: ='Pressupost Producció TV'!N101 -> 0 | G101: =F101-E101 -> 0 | DL101: =(IF(#REF!=0,1,#REF!)*IF(#REF!=0,1,#REF!)*#REF! )+#REF!*IF(#REF!=0,1,#REF!)*IF(#REF!=0,1,#REF!) -> #REF!
B102: ='Pressupost Producció TV'!B102 -> 02.05.03. | C102: ='Pressupost Producció TV'!C102 -> 0 | D102: ='Pressupost Producció TV'!D102 -> 0 | E102: ='Pressupost Producció TV'!N102 -> 0 | G102: =F102-E102 -> 0 | DL102: =(IF(#REF!=0,1,#REF!)*IF(#REF!=0,1,#REF!)*#REF! )+#REF!*IF(#REF!=0,1,#REF!)*IF(#REF!=0,1,#REF!) -> #REF!
B103: ='Pressupost Producció TV'!B103 -> 02.05.04. | C103: ='Pressupost Producció TV'!C103 -> 0 | D103: ='Pressupost Producció TV'!D103 -> 0 | E103: ='Pressupost Producció TV'!N103 -> 0 | G103: =F103-E103 -> 0 | DL103: =(IF(#REF!=0,1,#REF!)*IF(#REF!=0,1,#REF!)*#REF! )+#REF!*IF(#REF!=0,1,#REF!)*IF(#REF!=0,1,#REF!) -> #REF!
B104: ='Pressupost Producció TV'!B104 -> 02.05.05. | C104: ='Pressupost Producció TV'!C104 -> 0 | D104: ='Pressupost Producció TV'!D104 -> 0 | E104: ='Pressupost Producció TV'!N104 -> 0 | G104: =F104-E104 -> 0 | DL104: =(IF(#REF!=0,1,#REF!)*IF(#REF!=0,1,#REF!)*#REF! )+#REF!*IF(#REF!=0,1,#REF!)*IF(#REF!=0,1,#REF!) -> #REF!
B105: ='Pressupost Producció TV'!B105 -> 02.05.06. | C105: ='Pressupost Producció TV'!C105 -> 0 | D105: ='Pressupost Producció TV'!D105 -> 0 | E105: ='Pressupost Producció TV'!N105 -> 0 | G105: =F105-E105 -> 0 | DL105: =(IF(#REF!=0,1,#REF!)*IF(#REF!=0,1,#REF!)*#REF! )+#REF!*IF(#REF!=0,1,#REF!)*IF(#REF!=0,1,#REF!) -> #REF!
B106: ='Pressupost Producció TV'!B106 -> 02.05.07. | C106: ='Pressupost Producció TV'!C106 -> 0 | D106: ='Pressupost Producció TV'!D106 -> 0 | E106: ='Pressupost Producció TV'!N106 -> 0 | G106: =F106-E106 -> 0 | DL106: =(IF(#REF!=0,1,#REF!)*IF(#REF!=0,1,#REF!)*#REF! )+#REF!*IF(#REF!=0,1,#REF!)*IF(#REF!=0,1,#REF!) -> #REF!
B107: ='Pressupost Producció TV'!B107 -> 02.05.08. | C107: ='Pressupost Producció TV'!C107 -> 0 | D107: ='Pressupost Producció TV'!D107 -> 0 | E107: ='Pressupost Producció TV'!N107 -> 0 | G107: =F107-E107 -> 0 | DL107: =(IF(#REF!=0,1,#REF!)*IF(#REF!=0,1,#REF!)*#REF! )+#REF!*IF(#REF!=0,1,#REF!)*IF(#REF!=0,1,#REF!) -> #REF!
B108: ='Pressupost Producció TV'!B108 -> 02.05.09. | C108: ='Pressupost Producció TV'!C108 -> 0 | D108: ='Pressupost Producció TV'!D108 -> 0 | E108: ='Pressupost Producció TV'!N108 -> 0 | G108: =F108-E108 -> 0 | DL108: =(IF(#REF!=0,1,#REF!)*IF(#REF!=0,1,#REF!)*#REF! )+#REF!*IF(#REF!=0,1,#REF!)*IF(#REF!=0,1,#REF!) -> #REF!
B109: ='Pressupost Producció TV'!B109 -> 02.05.10. | C109: ='Pressupost Producció TV'!C109 -> 0 | D109: ='Pressupost Producció TV'!D109 -> 0 | E109: ='Pressupost Producció TV'!N109 -> 0 | G109: =F109-E109 -> 0 | DL109: =(IF(#REF!=0,1,#REF!)*IF(#REF!=0,1,#REF!)*#REF! )+#REF!*IF(#REF!=0,1,#REF!)*IF(#REF!=0,1,#REF!) -> #REF!
...

Sheet Indicacions
A1: =Portada!B1 -> Actualització a: 12/02/2026
B4: Notes i instruccions per emplenar aquest document
B7: Tipologia: Complimentant aquestes columnes s'informa de si la despesa és directa o imputació de costos d'estructura (E) i si prové d'una
B8: empresa vinculada (V).
B10: Quantitat: Nombre de professionals d'una categoria (si no es detallen un a un) o nombre d'elements, mitjans o serveis pressupostats.
B12: Notes explicatives: Resenya aclaridora relativa al capítol en qüestió.
B14: Nº: Nombre d'unitats de mesura dins el perìode contractual de la producció.
B16: Tipus: Unitat de mesura que s'utilitza per a la valoració del cost (mes, setmana, capítol, convocatòria,...) - columna amb un desplegable dels
B17: diferents tipus d'unitats de mesura, pel personal laboral es recomana utilitzar la unitat temporal del mes i mai superior a aquest.
B19: L-TF / L-TT / A: en cas de personal L indica laboral fix (TF) o temporal (TT) i, per tant, nòmina i A autònom.
B20: La L activa la fòrmula de cost de la columna SS. El personal laboral, tant si és artístic com de programa o tècnic,
B21: s'ha de relacionar individualment a no ser que coincideixi la remuneració de persones d'una
B22: mateixa categoria o col·lectiu.
... B37: recomana agrupar conceptes homogènis en una mateixa fila donant la màxima informació a la casella de Notes Explicatives.
B41: Impressió Fulls de Pressupostos | I41: Impressió Fulls de Realitats
D43: Fulls | K43: Fulls
B44: Capítol 1 | D44: 1 | I44: Capítol 1 | K44: 1
B45: Capítol 2 | D45: 2,3 i 4 | I45: Capítol 2 | K45: 2 i 3
B46: Capítol 3 | D46: 5 i 6 | I46: Capítol 3 | K46: 4
B47: Capítol 4 | D47: 7 i 8 | I47: Capítol 4 | K47: 5
B48: Capítol 5 | D48: 9 | I48: Capítol 5 | K48: 6
B49: Capítol 6 | D49: 10 | I49: Capítol 6 | K49: 7
B50: Capítol 7 | D50: 11 | I50: Capítol 7 | K50: 8
B51: Capítol 8 | D51: 12 | I51: Capítol 8 | K51: 9
B52: Capítol 9 | D52: 13 | I52: Capítol 9 | K52: 10
B53: Capítol 10 | D53: 14 | I53: Capítol 10 | K53: 11

Sheet Validació
A1: =Portada!B1 -> Actualització a: 12/02/2026
A3: VALIDACIONS
C4: TELEVISIÓ
C5: ARRENCADA | F5: PRODUCCIÓ
C6: Intr. | D6: Valid. | E6: Difer. | F6: Intr. | G6: Valid. | H6: Difer.
A7: ='Pressupost Producció TV'!C5& "....................................................................." -> CAPÍTOL 01.- Guió, música i arxiu..................................................................... | C7: ='Pressupost Arrencada TV'!N28 -> 0 | D7: ='Pressupost Arrencada TV'!EC28 -> 0 | E7: ='Pressupost Arrencada TV'!N28 - 'Pressupost Arrencada TV'!EC28 -> 0 | F7: ='Pressupost Producció TV'!N28 -> 0 | G7: ='Pressupost Producció TV'!EC28 -> 0 | H7: ='Pressupost Producció TV'!N28 -'Pressupost Producció TV'!EC28 -> 0
A8: ='Pressupost Producció TV'!C30& "..........................................................................." -> CAPÍTOL 02.- Personal artístic........................................................................... | C8: ='Pressupost Arrencada TV'!N157 -> 0 | D8: ='Pressupost Arrencada TV'!EC157 -> 0 | E8: ='Pressupost Arrencada TV'!N157 - 'Pressupost Arrencada TV'!EC157 -> 0 | F8: ='Pressupost Producció TV'!N157 -> 0 | G8: ='Pressupost Producció TV'!EC157 -> 0 | H8: ='Pressupost Producció TV'!N157 -'Pressupost Producció TV'!EC157 -> 0
A9: ='Pressupost Producció TV'!C159& "............................................................................" -> CAPÍTOL 03.- Equip programa............................................................................ | C9: ='Pressupost Arrencada TV'!N211 -> 0 | D9: ='Pressupost Arrencada TV'!EC211 -> 0 | E9: ='Pressupost Arrencada TV'!N211-'Pressupost Arrencada TV'!EC211 -> 0 | F9: ='Pressupost Producció TV'!N211 -> 0 | G9: ='Pressupost Producció TV'!EC211 -> 0 | H9: ='Pressupost Producció TV'!N211-'Pressupost Producció TV'!EC211 -> 0
A10: ='Pressupost Producció TV'!C213& "........................................" -> CAPÍTOL 04.-Serveis artístics i de postproducció........................................ | C10: ='Pressupost Arrencada TV'!N272 -> 0 | D10: ='Pressupost Arrencada TV'!EC272 -> 0 | E10: ='Pressupost Arrencada TV'!N272 - 'Pressupost Arrencada TV'!EC272 -> 0 | F10: ='Pressupost Producció TV'!N272 -> 0 | G10: ='Pressupost Producció TV'!EC272 -> 0 | H10: ='Pressupost Producció TV'!N272-'Pressupost Producció TV'!EC272 -> 0
A11: ='Pressupost Producció TV'!C274& "......................................................." -> CAPÍTOL 05.-Serveis tècnics / Explotació....................................................... | C11: ='Pressupost Arrencada TV'!N323 -> 0 | D11: ='Pressupost Arrencada TV'!EC323 -> 0 | E11: ='Pressupost Arrencada TV'!N323 - 'Pressupost Arrencada TV'!EC323 -> 0 | F11: ='Pressupost Producció TV'!N323 -> 0 | G11: ='Pressupost Producció TV'!EC323 -> 0 | H11: ='Pressupost Producció TV'!N323-'Pressupost Producció TV'!EC323 -> 0
A12: ='Pressupost Producció TV'!C325& "................................................................................." -> CAPÍTOL 06.- Escenografia................................................................................. | C12: ='Pressupost Arrencada TV'!N361 -> 0 | D12: ='Pressupost Arrencada TV'!EC361 -> 0 | E12: ='Pressupost Arrencada TV'!N361 - 'Pressupost Arrencada TV'!EC361 -> 0 | F12: ='Pressupost Producció TV'!N361 -> 0 | G12: ='Pressupost Producció TV'!EC361 -> 0 | H12: ='Pressupost Producció TV'!N361-'Pressupost Producció TV'!EC361 -> 0
A13: ='Pressupost Producció TV'!C363& "...................................................." -> CAPÍTOL 07.- Estudis rodatge/sonorització.................................................... | C13: ='Pressupost Arrencada TV'!N384 -> 0 | D13: ='Pressupost Arrencada TV'!EC384 -> 0 | E13: ='Pressupost Arrencada TV'!N384 - 'Pressupost Arrencada TV'!EC384 -> 0 | F13: ='Pressupost Producció TV'!N384 -> 0 | G13: ='Pressupost Producció TV'!EC384 -> 0 | H13: ='Pressupost Producció TV'!N384 - 'Pressupost Producció TV'!EC384 -> 0
A14: ='Pressupost Producció TV'!C386& "............................................................." -> CAPÍTOL 08.- Despeses de producció............................................................. | C14: ='Pressupost Arrencada TV'!N435 -> 0 | D14: ='Pressupost Arrencada TV'!EC435 -> 0 | E14: ='Pressupost Arrencada TV'!N435 -'Pressupost Arrencada TV'!EC435 -> 0 | F14: ='Pressupost Producció TV'!N435 -> 0 | G14: ='Pressupost Producció TV'!EC435 -> 0 | H14: ='Pressupost Producció TV'!N435 -'Pressupost Producció TV'!EC435 -> 0
A15: ='Pressupost Producció TV'!C437& "............................................................................." -> CAPÍTOL 09.- Assegurances............................................................................. | C15: ='Pressupost Arrencada TV'!N445 -> 0 | D15: ='Pressupost Arrencada TV'!EC445 -> 0 | E15: ='Pressupost Arrencada TV'!N445-'Pressupost Arrencada TV'!EC445 -> 0 | F15: ='Pressupost Producció TV'!N445 -> 0 | G15: ='Pressupost Producció TV'!EC445 -> 0 | H15: ='Pressupost Producció TV'!N445 - 'Pressupost Producció TV'!EC445 -> 0
A16: ='Pressupost Producció TV'!C447& "....................................................................." -> CAPÍTOL 10.- Despeses generals..................................................................... | C16: ='Pressupost Arrencada TV'!N468 -> 0 | D16: =('Pressupost Arrencada TV'!EC468) -> 0 | E16: =('Pressupost Arrencada TV'!N468-'Pressupost Arrencada TV'!EC468) -> 0 | F16: ='Pressupost Producció TV'!N468 -> 0 | G16: ='Pressupost Producció TV'!EC468 -> 0 | H16: ='Pressupost Producció TV'!N468-'Pressupost Producció TV'!EC468 -> 0
B18: Total | C18: ='Pressupost Arrencada TV'!N471 -> 0 | D18: ='Pressupost Arrencada TV'!EC471 -> 0 | E18: =('Pressupost Arrencada TV'!N471-'Pressupost Arrencada TV'!EC471) -> 0 | F18: ='Pressupost Producció TV'!N471 -> 0 | G18: ='Pressupost Producció TV'!EC471 -> 0 | H18: =('Pressupost Producció TV'!N471-'Pressupost Producció TV'!EC471) -> 0
