Workbook
Name _GoBack: Indicacions!#REF!

Sheet Pressupost Arrencada VIDEOJOC
B1: =Portada!B1 -> Actualització a: 03/03/2026 | D1: VIDEOJOCS (PRESSUPOST)
A2: Capítols de despesa | D2: Nom / Concepte | E2: Tipologia | G2: Quantitat | H2: NOTES EXPLICATIVES | I2: Unitats | K2: L-TF L-TT A | L2: Cost unitari | N2: Cost total | P2: Temp. Ant. | S2: S.S. | U2: S.S.
E3: E | F3: V | G3: valor numèric | I3: Nº | J3: Tipus | L3: Cost | M3: S.S. | N3: Total | O3: x Cap. | P3: PRESSUPOST | Q3: LIQUIDACIÓ | U3: %
C5: CAPÍTOL 01.- Pre-project i Game Design (GDD)
B6: Núm. Compte
B7: 01.01 | C7: Benchmarking | N7: =(IF(G7=0,1,G7)*IF(I7=0,1,I7)*L7)+M7*IF(G7=0,1,G7)*IF(I7=0,1,I7) -> 0 | O7: =N7/Portada!$F$15 -> 0 | S7: =M7*IF(G7=0,1,G7)*IF(I7=0,1,I7) -> 0 | EC7: =(IF(G7=0,1,G7)*IF(I7=0,1,I7)*L7 )+M7*IF(G7=0,1,G7)*IF(I7=0,1,I7) -> 0
B8: 01.02 | C8: Concepts/Storyboard | N8: =(IF(G8=0,1,G8)*IF(I8=0,1,I8)*L8)+M8*IF(G8=0,1,G8)*IF(I8=0,1,I8) -> 0 | O8: =N8/Portada!$F$15 -> 0 | S8: =M8*IF(G8=0,1,G8)*IF(I8=0,1,I8) -> 0 | EC8: =(IF(G8=0,1,G8)*IF(I8=0,1,I8)*L8 )+M8*IF(G8=0,1,G8)*IF(I8=0,1,I8) -> 0
B9: 01.03 | C9: Game Design Document | N9: =(IF(G9=0,1,G9)*IF(I9=0,1,I9)*L9 )+M9*IF(G9=0,1,G9)*IF(I9=0,1,I9) -> 0 | O9: =N9/Portada!$F$15 -> 0 | S9: =M9*IF(G9=0,1,G9)*IF(I9=0,1,I9) -> 0 | EC9: =(IF(G9=0,1,G9)*IF(I9=0,1,I9)*L9 )+M9*IF(G9=0,1,G9)*IF(I9=0,1,I9) -> 0
B10: 01.04 | C10: Guió Literari | N10: =(IF(G10=0,1,G10)*IF(I10=0,1,I10)*L10 )+M10*IF(G10=0,1,G10)*IF(I10=0,1,I10) -> 0 | O10: =N10/Portada!$F$15 -> 0 | S10: =M10*IF(G10=0,1,G10)*IF(I10=0,1,I10) -> 0 | EC10: =(IF(G10=0,1,G10)*IF(I10=0,1,I10)*L10 )+M10*IF(G10=0,1,G10)*IF(I10=0,1,I10) -> 0
B11: 01.05 | C11: Diàlegs | N11: =(IF(G11=0,1,G11)*IF(I11=0,1,I11)*L11 )+M11*IF(G11=0,1,G11)*IF(I11=0,1,I11) -> 0 | O11: =N11/Portada!$F$15 -> 0 | S11: =M11*IF(G11=0,1,G11)*IF(I11=0,1,I11) -> 0 | EC11: =(IF(G11=0,1,G11)*IF(I11=0,1,I11)*L11 )+M11*IF(G11=0,1,G11)*IF(I11=0,1,I11) -> 0
B12: 01.06 | C12: Traduccions | N12: =(IF(G12=0,1,G12)*IF(I12=0,1,I12)*L12 )+M12*IF(G12=0,1,G12)*IF(I12=0,1,I12) -> 0 | O12: =N12/Portada!$F$15 -> 0 | S12: =M12*IF(G12=0,1,G12)*IF(I12=0,1,I12) -> 0 | EC12: =(IF(G12=0,1,G12)*IF(I12=0,1,I12)*L12 )+M12*IF(G12=0,1,G12)*IF(I12=0,1,I12) -> 0
B13: 01.07 | C13: Level Design | N13: =(IF(G13=0,1,G13)*IF(I13=0,1,I13)*L13 )+M13*IF(G13=0,1,G13)*IF(I13=0,1,I13) -> 0 | O13: =N13/Portada!$F$15 -> 0 | S13: =M13*IF(G13=0,1,G13)*IF(I13=0,1,I13) -> 0 | EC13: =(IF(G13=0,1,G13)*IF(I13=0,1,I13)*L13 )+M13*IF(G13=0,1,G13)*IF(I13=0,1,I13) -> 0
B14: 01.08 | N14: =(IF(G14=0,1,G14)*IF(I14=0,1,I14)*L14 )+M14*IF(G14=0,1,G14)*IF(I14=0,1,I14) -> 0 | O14: =N14/Portada!$F$15 -> 0 | S14: =M14*IF(G14=0,1,G14)*IF(I14=0,1,I14) -> 0 | EC14: =(IF(G14=0,1,G14)*IF(I14=0,1,I14)*L14 )+M14*IF(G14=0,1,G14)*IF(I14=0,1,I14) -> 0
B15: 01.09 | N15: =(IF(G15=0,1,G15)*IF(I15=0,1,I15)*L15 )+M15*IF(G15=0,1,G15)*IF(I15=0,1,I15) -> 0 | O15: =N15/Portada!$F$15 -> 0 | S15: =M15*IF(G15=0,1,G15)*IF(I15=0,1,I15) -> 0 | EC15: =(IF(G15=0,1,G15)*IF(I15=0,1,I15)*L15 )+M15*IF(G15=0,1,G15)*IF(I15=0,1,I15) -> 0
B16: 01.10 | N16: =(IF(G16=0,1,G16)*IF(I16=0,1,I16)*L16 )+M16*IF(G16=0,1,G16)*IF(I16=0,1,I16) -> 0 | O16: =N16/Portada!$F$15 -> 0 | S16: =M16*IF(G16=0,1,G16)*IF(I16=0,1,I16) -> 0 | EC16: =(IF(G16=0,1,G16)*IF(I16=0,1,I16)*L16 )+M16*IF(G16=0,1,G16)*IF(I16=0,1,I16) -> 0
N17: =SUM(N7:N16) -> 0 | O17: =SUM(O7:O16) -> 0 | P17: =SUM(P7:P16) -> 0 | Q17: =SUM(Q7:Q16) -> 0 | S17: =SUM(S7:S16) -> 0 | EC17: =SUM(EC7:EC16) -> 0
C18: TOTAL | D18: =C5 -> CAPÍTOL 01.- Pre-project i Game Design (GDD) | N18: =(N17) -> 0 | O18: =(O17) -> 0 | P18: =(P17 +#REF!) -> #REF! | Q18: =(Q17 +#REF!) -> #REF! | S18: =S17 -> 0 | EC18: =(EC17) -> 0
C20: CAPÍTOL 02.- Art
B21: Núm. Compte
B22: 02.01 | C22: Brandbook (Biblia artística i logotip) | N22: =(IF(G22=0,1,G22)*IF(I22=0,1,I22)*L22 )+M22*IF(G22=0,1,G22)*IF(I22=0,1,I22) -> 0 | O22: =N22/Portada!$F$15 -> 0 | S22: =M22*IF(G22=0,1,G22)*IF(I22=0,1,I22) -> 0 | U22: =IF(L22<>0,(M22/L22)/IF(G22=0,1,G22),0) -> 0 | EC22: =(IF(G22=0,1,G22)*IF(I22=0,1,I22)*L22 )+M22*IF(G22=0,1,G22)*IF(I22=0,1,I22) -> 0
B23: 02.02 | C23: Entorn General (Overview) | N23: =(IF(G23=0,1,G23)*IF(I23=0,1,I23)*L23 )+M23*IF(G23=0,1,G23)*IF(I23=0,1,I23) -> 0 | O23: =N23/Portada!$F$15 -> 0 | S23: =M23*IF(G23=0,1,G23)*IF(I23=0,1,I23) -> 0 | U23: =IF(L23<>0,(M23/L23)/IF(G23=0,1,G23),0) -> 0 | EC23: =(IF(G23=0,1,G23)*IF(I23=0,1,I23)*L23 )+M23*IF(G23=0,1,G23)*IF(I23=0,1,I23) -> 0
B24: 02.03 | C24: Escenaris | N24: =(IF(G24=0,1,G24)*IF(I24=0,1,I24)*L24 )+M24*IF(G24=0,1,G24)*IF(I24=0,1,I24) -> 0 | O24: =N24/Portada!$F$15 -> 0 | S24: =M24*IF(G24=0,1,G24)*IF(I24=0,1,I24) -> 0 | U24: =IF(L24<>0,(M24/L24)/IF(G24=0,1,G24),0) -> 0 | EC24: =(IF(G24=0,1,G24)*IF(I24=0,1,I24)*L24 )+M24*IF(G24=0,1,G24)*IF(I24=0,1,I24) -> 0
B25: 02.04 | C25: Objectes, vehicles, ítems | N25: =(IF(G25=0,1,G25)*IF(I25=0,1,I25)*L25 )+M25*IF(G25=0,1,G25)*IF(I25=0,1,I25) -> 0 | O25: =N25/Portada!$F$15 -> 0 | S25: =M25*IF(G25=0,1,G25)*IF(I25=0,1,I25) -> 0 | U25: =IF(L25<>0,(M25/L25)/IF(G25=0,1,G25),0) -> 0 | EC25: =(IF(G25=0,1,G25)*IF(I25=0,1,I25)*L25 )+M25*IF(G25=0,1,G25)*IF(I25=0,1,I25) -> 0
B26: 02.05 | C26: Personatges | N26: =(IF(G26=0,1,G26)*IF(I26=0,1,I26)*L26 )+M26*IF(G26=0,1,G26)*IF(I26=0,1,I26) -> 0 | O26: =N26/Portada!$F$15 -> 0 | S26: =M26*IF(G26=0,1,G26)*IF(I26=0,1,I26) -> 0 | U26: =IF(L26<>0,(M26/L26)/IF(G26=0,1,G26),0) -> 0 | EC26: =(IF(G26=0,1,G26)*IF(I26=0,1,I26)*L26 )+M26*IF(G26=0,1,G26)*IF(I26=0,1,I26) -> 0
B27: 02.06 | C27: Elements d'interfície | N27: =(IF(G27=0,1,G27)*IF(I27=0,1,I27)*L27 )+M27*IF(G27=0,1,G27)*IF(I27=0,1,I27) -> 0 | O27: =N27/Portada!$F$15 -> 0 | S27: =M27*IF(G27=0,1,G27)*IF(I27=0,1,I27) -> 0 | U27: =IF(L27<>0,(M27/L27)/IF(G27=0,1,G27),0) -> 0 | EC27: =(IF(G27=0,1,G27)*IF(I27=0,1,I27)*L27 )+M27*IF(G27=0,1,G27)*IF(I27=0,1,I27) -> 0
B28: 02.07 | C28: Pantalles de transició | N28: =(IF(G28=0,1,G28)*IF(I28=0,1,I28)*L28 )+M28*IF(G28=0,1,G28)*IF(I28=0,1,I28) -> 0 | O28: =N28/Portada!$F$15 -> 0 | S28: =M28*IF(G28=0,1,G28)*IF(I28=0,1,I28) -> 0 | U28: =IF(L28<>0,(M28/L28)/IF(G28=0,1,G28),0) -> 0 | EC28: =(IF(G28=0,1,G28)*IF(I28=0,1,I28)*L28 )+M28*IF(G28=0,1,G28)*IF(I28=0,1,I28) -> 0
B29: 02.08 | C29: Animacions | N29: =(IF(G29=0,1,G29)*IF(I29=0,1,I29)*L29 )+M29*IF(G29=0,1,G29)*IF(I29=0,1,I29) -> 0 | O29: =N29/Portada!$F$15 -> 0 | S29: =M29*IF(G29=0,1,G29)*IF(I29=0,1,I29) -> 0 | U29: =IF(L29<>0,(M29/L29)/IF(G29=0,1,G29),0) -> 0 | EC29: =(IF(G29=0,1,G29)*IF(I29=0,1,I29)*L29 )+M29*IF(G29=0,1,G29)*IF(I29=0,1,I29) -> 0
B30: 02.09 | C30: Adaptació a videoconsoles i formats (De 1 a X) | N30: =(IF(G30=0,1,G30)*IF(I30=0,1,I30)*L30 )+M30*IF(G30=0,1,G30)*IF(I30=0,1,I30) -> 0 | O30: =N30/Portada!$F$15 -> 0 | S30: =M30*IF(G30=0,1,G30)*IF(I30=0,1,I30) -> 0 | U30: =IF(L30<>0,(M30/L30)/IF(G30=0,1,G30),0) -> 0 | EC30: =(IF(G30=0,1,G30)*IF(I30=0,1,I30)*L30 )+M30*IF(G30=0,1,G30)*IF(I30=0,1,I30) -> 0
B31: 02.10 | N31: =(IF(G31=0,1,G31)*IF(I31=0,1,I31)*L31 )+M31*IF(G31=0,1,G31)*IF(I31=0,1,I31) -> 0 | O31: =N31/Portada!$F$15 -> 0 | EC31: =(IF(G31=0,1,G31)*IF(I31=0,1,I31)*L31 )+M31*IF(G31=0,1,G31)*IF(I31=0,1,I31) -> 0
B32: 02.11 | N32: =(IF(G32=0,1,G32)*IF(I32=0,1,I32)*L32 )+M32*IF(G32=0,1,G32)*IF(I32=0,1,I32) -> 0 | O32: =N32/Portada!$F$15 -> 0 | EC32: =(IF(G32=0,1,G32)*IF(I32=0,1,I32)*L32 )+M32*IF(G32=0,1,G32)*IF(I32=0,1,I32) -> 0
B33: 02.12 | N33: =(IF(G33=0,1,G33)*IF(I33=0,1,I33)*L33 )+M33*IF(G33=0,1,G33)*IF(I33=0,1,I33) -> 0 | O33: =N33/Portada!$F$15 -> 0 | S33: =M33*IF(G33=0,1,G33)*IF(I33=0,1,I33) -> 0 | U33: =IF(L33<>0,(M33/L33)/IF(G33=0,1,G33),0) -> 0 | EC33: =(IF(G33=0,1,G33)*IF(I33=0,1,I33)*L33 )+M33*IF(G33=0,1,G33)*IF(I33=0,1,I33) -> 0
N34: =SUM(N22:N33) -> 0 | O34: =SUM(O22:O33) -> 0 | P34: =SUM(P22:P33) -> 0 | Q34: =SUM(Q22:Q33) -> 0 | S34: =SUM(S22:S33) -> 0 | EC34: =SUM(EC22:EC33) -> 0
C35: TOTAL | D35: =C20 -> CAPÍTOL 02.- Art | N35: =(N34) -> 0 | O35: =(O34) -> 0 | P35: =(P34+#REF!+#REF!+#REF!+#REF!+#REF!+#REF!+#REF! +#REF!) -> #REF! | Q35: =(Q34+#REF!+#REF!+#REF!+#REF!+#REF!+#REF!+#REF! +#REF!) -> #REF! | S35: =S34 -> 0 | EC35: =(EC34) -> 0
C37: CAPÍTOL 03.- Desenvolupament
B38: Núm. Compte
B39: 03.01 | C39: Gameplay bàsic | N39: =(IF(G39=0,1,G39)*IF(I39=0,1,I39)*L39 )+M39*IF(G39=0,1,G39)*IF(I39=0,1,I39) -> 0 | O39: =N39/Portada!$F$15 -> 0 | S39: =M39*IF(G39=0,1,G39)*IF(I39=0,1,I39) -> 0 | EC39: =(IF(G39=0,1,G39)*IF(I39=0,1,I39)*L39 )+M39*IF(G39=0,1,G39)*IF(I39=0,1,I39) -> 0
B40: 03.02 | C40: Integració de llibreries | N40: =(IF(G40=0,1,G40)*IF(I40=0,1,I40)*L40 )+M40*IF(G40=0,1,G40)*IF(I40=0,1,I40) -> 0 | O40: =N40/Portada!$F$15 -> 0 | S40: =M40*IF(G40=0,1,G40)*IF(I40=0,1,I40) -> 0 | EC40: =(IF(G40=0,1,G40)*IF(I40=0,1,I40)*L40 )+M40*IF(G40=0,1,G40)*IF(I40=0,1,I40) -> 0
B41: 03.03 | C41: Prototip/Vertical Slice | N41: =(IF(G41=0,1,G41)*IF(I41=0,1,I41)*L41 )+M41*IF(G41=0,1,G41)*IF(I41=0,1,I41) -> 0 | O41: =N41/Portada!$F$15 -> 0 | S41: =M41*IF(G41=0,1,G41)*IF(I41=0,1,I41) -> 0 | EC41: =(IF(G41=0,1,G41)*IF(I41=0,1,I41)*L41 )+M41*IF(G41=0,1,G41)*IF(I41=0,1,I41) -> 0
B42: 03.04 | C42: Implementació de nivells (De 1 a X) | N42: =(IF(G42=0,1,G42)*IF(I42=0,1,I42)*L42 )+M42*IF(G42=0,1,G42)*IF(I42=0,1,I42) -> 0 | O42: =N42/Portada!$F$15 -> 0 | S42: =M42*IF(G42=0,1,G42)*IF(I42=0,1,I42) -> 0 | EC42: =(IF(G42=0,1,G42)*IF(I42=0,1,I42)*L42 )+M42*IF(G42=0,1,G42)*IF(I42=0,1,I42) -> 0
B43: 03.05 | C43: Gameplay Avançat | N43: =(IF(G43=0,1,G43)*IF(I43=0,1,I43)*L43 )+M43*IF(G43=0,1,G43)*IF(I43=0,1,I43) -> 0 | O43: =N43/Portada!$F$15 -> 0 | S43: =M43*IF(G43=0,1,G43)*IF(I43=0,1,I43) -> 0 | EC43: =(IF(G43=0,1,G43)*IF(I43=0,1,I43)*L43 )+M43*IF(G43=0,1,G43)*IF(I43=0,1,I43) -> 0
B44: 03.06 | C44: Correcció de bugs | N44: =(IF(G44=0,1,G44)*IF(I44=0,1,I44)*L44 )+M44*IF(G44=0,1,G44)*IF(I44=0,1,I44) -> 0 | O44: =N44/Portada!$F$15 -> 0 | S44: =M44*IF(G44=0,1,G44)*IF(I44=0,1,I44) -> 0 | EC44: =(IF(G44=0,1,G44)*IF(I44=0,1,I44)*L44 )+M44*IF(G44=0,1,G44)*IF(I44=0,1,I44) -> 0
B45: 03.07 | C45: Adaptació a videocònsoles (De 1 a X) | N45: =(IF(G45=0,1,G45)*IF(I45=0,1,I45)*L45 )+M45*IF(G45=0,1,G45)*IF(I45=0,1,I45) -> 0 | O45: =N45/Portada!$F$15 -> 0 | S45: =M45*IF(G45=0,1,G45)*IF(I45=0,1,I45) -> 0 | EC45: =(IF(G45=0,1,G45)*IF(I45=0,1,I45)*L45 )+M45*IF(G45=0,1,G45)*IF(I45=0,1,I45) -> 0
B46: 03.08 | N46: =(IF(G46=0,1,G46)*IF(I46=0,1,I46)*L46 )+M46*IF(G46=0,1,G46)*IF(I46=0,1,I46) -> 0 | O46: =N46/Portada!$F$15 -> 0 | S46: =M46*IF(G46=0,1,G46)*IF(I46=0,1,I46) -> 0 | EC46: =(IF(G46=0,1,G46)*IF(I46=0,1,I46)*L46 )+M46*IF(G46=0,1,G46)*IF(I46=0,1,I46) -> 0
B47: 03.09 | N47: =(IF(G47=0,1,G47)*IF(I47=0,1,I47)*L47 )+M47*IF(G47=0,1,G47)*IF(I47=0,1,I47) -> 0 | O47: =N47/Portada!$F$15 -> 0 | S47: =M47*IF(G47=0,1,G47)*IF(I47=0,1,I47) -> 0 | EC47: =(IF(G47=0,1,G47)*IF(I47=0,1,I47)*L47 )+M47*IF(G47=0,1,G47)*IF(I47=0,1,I47) -> 0
B48: 03.10 | N48: =(IF(G48=0,1,G48)*IF(I48=0,1,I48)*L48 )+M48*IF(G48=0,1,G48)*IF(I48=0,1,I48) -> 0 | O48: =N48/Portada!$F$15 -> 0 | S48: =M48*IF(G48=0,1,G48)*IF(I48=0,1,I48) -> 0 | EC48: =(IF(G48=0,1,G48)*IF(I48=0,1,I48)*L48 )+M48*IF(G48=0,1,G48)*IF(I48=0,1,I48) -> 0
N49: =SUM(N39:N48) -> 0 | O49: =SUM(O39:O48) -> 0 | P49: =SUM(P39:P48) -> 0 | Q49: =SUM(Q39:Q48) -> 0 | S49: =SUM(S39:S48) -> 0 | EC49: =SUM(EC39:EC48) -> 0
C50: TOTAL | D50: =C37 -> CAPÍTOL 03.- Desenvolupament | N50: =(N49) -> 0 | O50: =(O49) -> 0 | S50: =S49 -> 0 | EC50: =(EC49) -> 0
C52: CAPÍTOL 04.-Video, Àudio i Doblatge
B53: Núm. Compte
B54: 04.01. | C54: Video
B55: 04.01.01. | C55: Animacions | N55: =(IF(G55=0,1,G55)*IF(I55=0,1,I55)*L55 )+M55*IF(G55=0,1,G55)*IF(I55=0,1,I55) -> 0 | O55: =N55/Portada!$F$15 -> 0 | S55: =M55*IF(G55=0,1,G55)*IF(I55=0,1,I55) -> 0 | EC55: =(IF(G55=0,1,G55)*IF(I55=0,1,I55)*L55 )+M55*IF(G55=0,1,G55)*IF(I55=0,1,I55) -> 0
B56: 04.01.02. | C56: Escenes cinemàtiques | N56: =(IF(G56=0,1,G56)*IF(I56=0,1,I56)*L56 )+M56*IF(G56=0,1,G56)*IF(I56=0,1,I56) -> 0 | O56: =N56/Portada!$F$15 -> 0 | S56: =M56*IF(G56=0,1,G56)*IF(I56=0,1,I56) -> 0 | EC56: =(IF(G56=0,1,G56)*IF(I56=0,1,I56)*L56 )+M56*IF(G56=0,1,G56)*IF(I56=0,1,I56) -> 0
B57: 04.01.03. | N57: =(IF(G57=0,1,G57)*IF(I57=0,1,I57)*L57 )+M57*IF(G57=0,1,G57)*IF(I57=0,1,I57) -> 0 | O57: =N57/Portada!$F$15 -> 0 | S57: =M57*IF(G57=0,1,G57)*IF(I57=0,1,I57) -> 0 | EC57: =(IF(G57=0,1,G57)*IF(I57=0,1,I57)*L57 )+M57*IF(G57=0,1,G57)*IF(I57=0,1,I57) -> 0
B58: 04.01.04. | N58: =(IF(G58=0,1,G58)*IF(I58=0,1,I58)*L58 )+M58*IF(G58=0,1,G58)*IF(I58=0,1,I58) -> 0 | O58: =N58/Portada!$F$15 -> 0 | S58: =M58*IF(G58=0,1,G58)*IF(I58=0,1,I58) -> 0 | EC58: =(IF(G58=0,1,G58)*IF(I58=0,1,I58)*L58 )+M58*IF(G58=0,1,G58)*IF(I58=0,1,I58) -> 0
B59: 04.01.05. | N59: =(IF(G59=0,1,G59)*IF(I59=0,1,I59)*L59 )+M59*IF(G59=0,1,G59)*IF(I59=0,1,I59) -> 0 | O59: =N59/Portada!$F$15 -> 0 | S59: =M59*IF(G59=0,1,G59)*IF(I59=0,1,I59) -> 0 | EC59: =(IF(G59=0,1,G59)*IF(I59=0,1,I59)*L59 )+M59*IF(G59=0,1,G59)*IF(I59=0,1,I59) -> 0
C60: ="TOTAL " &" " & B54 & " " & (C54) -> TOTAL 04.01. Video | N60: =SUM(N55:N59) -> 0 | O60: =SUM(O55:O59) -> 0 | P60: =SUM(P55:P59) -> 0 | Q60: =SUM(Q55:Q59) -> 0 | S60: =SUM(S55:S59) -> 0 | EC60: =SUM(EC55:EC59) -> 0
B61: Núm. Compte
B62: 04.02. | C62: Àudio
B63: 04.02.01. | C63: Banda sonora | N63: =(IF(G63=0,1,G63)*IF(I63=0,1,I63)*L63 )+M63*IF(G63=0,1,G63)*IF(I63=0,1,I63) -> 0 | O63: =N63/Portada!$F$15 -> 0 | S63: =M63*IF(G63=0,1,G63)*IF(I63=0,1,I63) -> 0 | EC63: =(IF(G63=0,1,G63)*IF(I63=0,1,I63)*L63 )+M63*IF(G63=0,1,G63)*IF(I63=0,1,I63) -> 0
B64: 04.02.02. | C64: Efectes d'àudio | N64: =(IF(G64=0,1,G64)*IF(I64=0,1,I64)*L64 )+M64*IF(G64=0,1,G64)*IF(I64=0,1,I64) -> 0 | O64: =N64/Portada!$F$15 -> 0 | S64: =M64*IF(G64=0,1,G64)*IF(I64=0,1,I64) -> 0 | EC64: =(IF(G64=0,1,G64)*IF(I64=0,1,I64)*L64 )+M64*IF(G64=0,1,G64)*IF(I64=0,1,I64) -> 0
B65: 04.02.03 | C65: Música Original | N65: =(IF(G65=0,1,G65)*IF(I65=0,1,I65)*L65 )+M65*IF(G65=0,1,G65)*IF(I65=0,1,I65) -> 0 | O65: =N65/Portada!$F$15 -> 0
B66: 04.02.04 | C66: Música de llibreria | N66: =(IF(G66=0,1,G66)*IF(I66=0,1,I66)*L66 )+M66*IF(G66=0,1,G66)*IF(I66=0,1,I66) -> 0 | O66: =N66/Portada!$F$15 -> 0
B67: 04.02.05 | C67: Arranjaments | N67: =(IF(G67=0,1,G67)*IF(I67=0,1,I67)*L67 )+M67*IF(G67=0,1,G67)*IF(I67=0,1,I67) -> 0 | O67: =N67/Portada!$F$15 -> 0
B68: 04.02.06 | N68: =(IF(G68=0,1,G68)*IF(I68=0,1,I68)*L68 )+M68*IF(G68=0,1,G68)*IF(I68=0,1,I68) -> 0 | O68: =N68/Portada!$F$15 -> 0 | S68: =M68*IF(G68=0,1,G68)*IF(I68=0,1,I68) -> 0 | EC68: =(IF(G68=0,1,G68)*IF(I68=0,1,I68)*L68 )+M68*IF(G68=0,1,G68)*IF(I68=0,1,I68) -> 0
B69: 04.02.07 | N69: =(IF(G69=0,1,G69)*IF(I69=0,1,I69)*L69 )+M69*IF(G69=0,1,G69)*IF(I69=0,1,I69) -> 0 | O69: =N69/Portada!$F$15 -> 0 | S69: =M69*IF(G69=0,1,G69)*IF(I69=0,1,I69) -> 0 | EC69: =(IF(G69=0,1,G69)*IF(I69=0,1,I69)*L69 )+M69*IF(G69=0,1,G69)*IF(I69=0,1,I69) -> 0
B70: 04.02.08 | N70: =(IF(G70=0,1,G70)*IF(I70=0,1,I70)*L70 )+M70*IF(G70=0,1,G70)*IF(I70=0,1,I70) -> 0 | O70: =N70/Portada!$F$15 -> 0 | S70: =M70*IF(G70=0,1,G70)*IF(I70=0,1,I70) -> 0 | EC70: =(IF(G70=0,1,G70)*IF(I70=0,1,I70)*L70 )+M70*IF(G70=0,1,G70)*IF(I70=0,1,I70) -> 0
C71: ="TOTAL " &" " & B62 & " " & (C62) -> TOTAL 04.02. Àudio | N71: =SUM(N63:N70) -> 0 | O71: =SUM(O63:O70) -> 0 | P71: =SUM(P63:P70) -> 0 | Q71: =SUM(Q63:Q70) -> 0 | S71: =SUM(S63:S70) -> 0 | EC71: =SUM(EC63:EC70) -> 0
B72: Núm. Compte
B73: 04.03. | C73: Doblatge
B74: 04.03.01. | C74: Director/a doblatge | N74: =(IF(G74=0,1,G74)*IF(I74=0,1,I74)*L74 )+M74*IF(G74=0,1,G74)*IF(I74=0,1,I74) -> 0 | O74: =N74/Portada!$F$15 -> 0 | S74: =M74*IF(G74=0,1,G74)*IF(I74=0,1,I74) -> 0 | EC74: =(IF(G74=0,1,G74)*IF(I74=0,1,I74)*L74 )+M74*IF(G74=0,1,G74)*IF(I74=0,1,I74) -> 0
B75: 04.03.02. | C75: Doblador/a per | N75: =(IF(G75=0,1,G75)*IF(I75=0,1,I75)*L75 )+M75*IF(G75=0,1,G75)*IF(I75=0,1,I75) -> 0 | O75: =N75/Portada!$F$15 -> 0 | S75: =M75*IF(G75=0,1,G75)*IF(I75=0,1,I75) -> 0 | EC75: =(IF(G75=0,1,G75)*IF(I75=0,1,I75)*L75 )+M75*IF(G75=0,1,G75)*IF(I75=0,1,I75) -> 0
B76: 04.03.03. | C76: Doblador/a per | N76: =(IF(G76=0,1,G76)*IF(I76=0,1,I76)*L76 )+M76*IF(G76=0,1,G76)*IF(I76=0,1,I76) -> 0 | O76: =N76/Portada!$F$15 -> 0 | EC76: =(IF(G76=0,1,G76)*IF(I76=0,1,I76)*L76 )+M76*IF(G76=0,1,G76)*IF(I76=0,1,I76) -> 0
B77: 04.03.04. | C77: Doblador/a per | N77: =(IF(G77=0,1,G77)*IF(I77=0,1,I77)*L77 )+M77*IF(G77=0,1,G77)*IF(I77=0,1,I77) -> 0 | O77: =N77/Portada!$F$15 -> 0 | EC77: =(IF(G77=0,1,G77)*IF(I77=0,1,I77)*L77 )+M77*IF(G77=0,1,G77)*IF(I77=0,1,I77) -> 0
B78: 04.03.05. | C78: Altres locucions en X idiomes | N78: =(IF(G78=0,1,G78)*IF(I78=0,1,I78)*L78 )+M78*IF(G78=0,1,G78)*IF(I78=0,1,I78) -> 0 | O78: =N78/Portada!$F$15 -> 0 | EC78: =(IF(G78=0,1,G78)*IF(I78=0,1,I78)*L78 )+M78*IF(G78=0,1,G78)*IF(I78=0,1,I78) -> 0
B79: 04.03.06. | N79: =(IF(G79=0,1,G79)*IF(I79=0,1,I79)*L79 )+M79*IF(G79=0,1,G79)*IF(I79=0,1,I79) -> 0 | O79: =N79/Portada!$F$15 -> 0 | S79: =M79*IF(G79=0,1,G79)*IF(I79=0,1,I79) -> 0 | EC79: =(IF(G79=0,1,G79)*IF(I79=0,1,I79)*L79 )+M79*IF(G79=0,1,G79)*IF(I79=0,1,I79) -> 0
B80: 04.03.07. | N80: =(IF(G80=0,1,G80)*IF(I80=0,1,I80)*L80 )+M80*IF(G80=0,1,G80)*IF(I80=0,1,I80) -> 0 | O80: =N80/Portada!$F$15 -> 0 | S80: =M80*IF(G80=0,1,G80)*IF(I80=0,1,I80) -> 0 | EC80: =(IF(G80=0,1,G80)*IF(I80=0,1,I80)*L80 )+M80*IF(G80=0,1,G80)*IF(I80=0,1,I80) -> 0
C81: ="TOTAL " &" " & B73 & " " & (C73) -> TOTAL 04.03. Doblatge | N81: =SUM(N74:N80) -> 0 | O81: =SUM(O74:O80) -> 0 | S81: =SUM(S74:S80) -> 0
C82: TOTAL | D82: =C52 -> CAPÍTOL 04.-Video, Àudio i Doblatge | N82: =(N60+N71+N81) -> 0 | O82: =(O60+O71+O81) -> 0 | P82: =(P60+P71+#REF!+#REF!+#REF!+#REF!) -> #REF! | Q82: =(Q60+Q71+#REF!+#REF!+#REF!+#REF!) -> #REF! | S82: =S81 -> 0 | EC82: =(EC60+EC71+E81) -> 0
C84: CAPÍTOL 05.-Porting
B85: Núm. Compte
B86: 05.01 | C86: Adaptació a videoconsoles (1 a X) | N86: =(IF(G86=0,1,G86)*IF(I86=0,1,I86)*L86 )+M86*IF(G86=0,1,G86)*IF(I86=0,1,I86) -> 0 | O86: =N86/Portada!$F$15 -> 0 | S86: =M86*IF(G86=0,1,G86)*IF(I86=0,1,I86) -> 0 | EC86: =(IF(G86=0,1,G86)*IF(I86=0,1,I86)*L86 )+M86*IF(G86=0,1,G86)*IF(I86=0,1,I86) -> 0
B87: 05.02 | C87: Publicació en els diversos markets (1 a X) | N87: =(IF(G87=0,1,G87)*IF(I87=0,1,I87)*L87 )+M87*IF(G87=0,1,G87)*IF(I87=0,1,I87) -> 0 | O87: =N87/Portada!$F$15 -> 0 | S87: =M87*IF(G87=0,1,G87)*IF(I87=0,1,I87) -> 0 | EC87: =(IF(G87=0,1,G87)*IF(I87=0,1,I87)*L87 )+M87*IF(G87=0,1,G87)*IF(I87=0,1,I87) -> 0
B88: 05.03 | N88: =(IF(G88=0,1,G88)*IF(I88=0,1,I88)*L88 )+M88*IF(G88=0,1,G88)*IF(I88=0,1,I88) -> 0 | O88: =N88/Portada!$F$15 -> 0 | S88: =M88*IF(G88=0,1,G88)*IF(I88=0,1,I88) -> 0 | EC88: =(IF(G88=0,1,G88)*IF(I88=0,1,I88)*L88 )+M88*IF(G88=0,1,G88)*IF(I88=0,1,I88) -> 0
B89: 05.04 | N89: =(IF(G89=0,1,G89)*IF(I89=0,1,I89)*L89 )+M89*IF(G89=0,1,G89)*IF(I89=0,1,I89) -> 0 | O89: =N89/Portada!$F$15 -> 0 | S89: =M89*IF(G89=0,1,G89)*IF(I89=0,1,I89) -> 0 | EC89: =(IF(G89=0,1,G89)*IF(I89=0,1,I89)*L89 )+M89*IF(G89=0,1,G89)*IF(I89=0,1,I89) -> 0
B90: 05.05 | N90: =(IF(G90=0,1,G90)*IF(I90=0,1,I90)*L90 )+M90*IF(G90=0,1,G90)*IF(I90=0,1,I90) -> 0 | O90: =N90/Portada!$F$15 -> 0 | S90: =M90*IF(G90=0,1,G90)*IF(I90=0,1,I90) -> 0 | EC90: =(IF(G90=0,1,G90)*IF(I90=0,1,I90)*L90 )+M90*IF(G90=0,1,G90)*IF(I90=0,1,I90) -> 0
N91: =SUM(N86:N90) -> 0 | O91: =SUM(O86:O90) -> 0 | P91: =SUM(P86:P90) -> 0 | Q91: =SUM(Q86:Q90) -> 0 | S91: =SUM(S86:S90) -> 0 | EC91: =SUM(EC86:EC90) -> 0
C92: TOTAL | D92: =C84 -> CAPÍTOL 05.-Porting | N92: =(N91) -> 0 | O92: =(O91) -> 0 | P92: =(P91+#REF!+#REF!+#REF!) -> #REF! | Q92: =(Q91+#REF!+#REF!+#REF!) -> #REF! | S92: =S91 -> 0 | EC92: =(EC91) -> 0
C94: CAPÍTOL 06.- Q&A/testing
B95: Núm. Compte
B96: 06.01 | C96: Testing Videojocs | N96: =(IF(G96=0,1,G96)*IF(I96=0,1,I96)*L96 )+M96*IF(G96=0,1,G96)*IF(I96=0,1,I96) -> 0 | O96: =N96/Portada!$F$15 -> 0 | S96: =M96*IF(G96=0,1,G96)*IF(I96=0,1,I96) -> 0 | EC96: =(IF(G96=0,1,G96)*IF(I96=0,1,I96)*L96 )+M96*IF(G96=0,1,G96)*IF(I96=0,1,I96) -> 0
B97: 06.02 | C97: Q/A Assessorament Qualitat | N97: =(IF(G97=0,1,G97)*IF(I97=0,1,I97)*L97 )+M97*IF(G97=0,1,G97)*IF(I97=0,1,I97) -> 0 | O97: =N97/Portada!$F$15 -> 0 | S97: =M97*IF(G97=0,1,G97)*IF(I97=0,1,I97) -> 0 | EC97: =(IF(G97=0,1,G97)*IF(I97=0,1,I97)*L97 )+M97*IF(G97=0,1,G97)*IF(I97=0,1,I97) -> 0
B98: 06.03 | N98: =(IF(G98=0,1,G98)*IF(I98=0,1,I98)*L98 )+M98*IF(G98=0,1,G98)*IF(I98=0,1,I98) -> 0 | O98: =N98/Portada!$F$15 -> 0 | S98: =M98*IF(G98=0,1,G98)*IF(I98=0,1,I98) -> 0 | EC98: =(IF(G98=0,1,G98)*IF(I98=0,1,I98)*L98 )+M98*IF(G98=0,1,G98)*IF(I98=0,1,I98) -> 0
B99: 06.04 | N99: =(IF(G99=0,1,G99)*IF(I99=0,1,I99)*L99 )+M99*IF(G99=0,1,G99)*IF(I99=0,1,I99) -> 0 | O99: =N99/Portada!$F$15 -> 0 | S99: =M99*IF(G99=0,1,G99)*IF(I99=0,1,I99) -> 0 | EC99: =(IF(G99=0,1,G99)*IF(I99=0,1,I99)*L99 )+M99*IF(G99=0,1,G99)*IF(I99=0,1,I99) -> 0
N100: =SUM(N96:N99) -> 0 | O100: =SUM(O96:O99) -> 0 | P100: =SUM(P96:P99) -> 0 | Q100: =SUM(Q96:Q99) -> 0 | S100: =SUM(S96:S99) -> 0 | EC100: =SUM(EC96:EC99) -> 0
C101: TOTAL | D101: =C94 -> CAPÍTOL 06.- Q&A/testing | N101: =(N100) -> 0 | O101: =(O100) -> 0 | P101: =(P100+#REF!+#REF!+#REF!) -> #REF! | Q101: =(Q100+#REF!+#REF!+#REF!) -> #REF! | S101: =S100 -> 0 | EC101: =(EC100) -> 0
C103: CAPÍTOL 07.- Backoffice
B104: Núm. Compte
B105: 07.01 | C105: Servidor | N105: =(IF(G105=0,1,G105)*IF(I105=0,1,I105)*L105 )+M105*IF(G105=0,1,G105)*IF(I105=0,1,I105) -> 0 | O105: =N105/Portada!$F$15 -> 0 | S105: =M105*IF(G105=0,1,G105)*IF(I105=0,1,I105) -> 0 | EC105: =(IF(G105=0,1,G105)*IF(I105=0,1,I105)*L105 )+M105*IF(G105=0,1,G105)*IF(I105=0,1,I105) -> 0
B106: 07.02 | C106: Base de dades | N106: =(IF(G106=0,1,G106)*IF(I106=0,1,I106)*L106 )+M106*IF(G106=0,1,G106)*IF(I106=0,1,I106) -> 0 | O106: =N106/Portada!$F$15 -> 0 | S106: =M106*IF(G106=0,1,G106)*IF(I106=0,1,I106) -> 0 | EC106: =(IF(G106=0,1,G106)*IF(I106=0,1,I106)*L106 )+M106*IF(G106=0,1,G106)*IF(I106=0,1,I106) -> 0
B107: 07.03 | C107: Desenvolupament backoffice | N107: =(IF(G107=0,1,G107)*IF(I107=0,1,I107)*L107 )+M107*IF(G107=0,1,G107)*IF(I107=0,1,I107) -> 0 | O107: =N107/Portada!$F$15 -> 0 | S107: =M107*IF(G107=0,1,G107)*IF(I107=0,1,I107) -> 0 | EC107: =(IF(G107=0,1,G107)*IF(I107=0,1,I107)*L107 )+M107*IF(G107=0,1,G107)*IF(I107=0,1,I107) -> 0
...

Sheet Pressupost Producció VIDEOJOC
B1: =Portada!B1 -> Actualització a: 03/03/2026 | D1: VIDEOJOCS (PRESSUPOST)
A2: Capítols de despesa | D2: Nom / Concepte | E2: Tipologia | G2: Quantitat | H2: NOTES EXPLICATIVES | I2: Unitats | K2: L-TF L-TT A | L2: Cost unitari | N2: Cost total | P2: Temp. Ant. | S2: S.S. | U2: S.S.
E3: E | F3: V | G3: valor numèric | I3: Nº | J3: Tipus | L3: Cost | M3: S.S. | N3: Total | O3: x Cap. | P3: PRESSUPOST | Q3: LIQUIDACIÓ | U3: %
C5: CAPÍTOL 01.- Pre-project i Game Design (GDD)
B6: Núm. Compte
B7: 01.01 | C7: Benchmarking | N7: =(IF(G7=0,1,G7)*IF(I7=0,1,I7)*L7)+M7*IF(G7=0,1,G7)*IF(I7=0,1,I7) -> 0 | O7: =N7/Portada!$F$15 -> 0 | S7: =M7*IF(G7=0,1,G7)*IF(I7=0,1,I7) -> 0 | EC7: =(IF(G7=0,1,G7)*IF(I7=0,1,I7)*L7 )+M7*IF(G7=0,1,G7)*IF(I7=0,1,I7) -> 0
B8: 01.02 | C8: Concepts/Storyboard | N8: =(IF(G8=0,1,G8)*IF(I8=0,1,I8)*L8)+M8*IF(G8=0,1,G8)*IF(I8=0,1,I8) -> 0 | O8: =N8/Portada!$F$15 -> 0 | S8: =M8*IF(G8=0,1,G8)*IF(I8=0,1,I8) -> 0 | EC8: =(IF(G8=0,1,G8)*IF(I8=0,1,I8)*L8 )+M8*IF(G8=0,1,G8)*IF(I8=0,1,I8) -> 0
B9: 01.03 | C9: Game Design Document | N9: =(IF(G9=0,1,G9)*IF(I9=0,1,I9)*L9 )+M9*IF(G9=0,1,G9)*IF(I9=0,1,I9) -> 0 | O9: =N9/Portada!$F$15 -> 0 | S9: =M9*IF(G9=0,1,G9)*IF(I9=0,1,I9) -> 0 | EC9: =(IF(G9=0,1,G9)*IF(I9=0,1,I9)*L9 )+M9*IF(G9=0,1,G9)*IF(I9=0,1,I9) -> 0
B10: 01.04 | C10: Guió Literari | N10: =(IF(G10=0,1,G10)*IF(I10=0,1,I10)*L10 )+M10*IF(G10=0,1,G10)*IF(I10=0,1,I10) -> 0 | O10: =N10/Portada!$F$15 -> 0 | S10: =M10*IF(G10=0,1,G10)*IF(I10=0,1,I10) -> 0 | EC10: =(IF(G10=0,1,G10)*IF(I10=0,1,I10)*L10 )+M10*IF(G10=0,1,G10)*IF(I10=0,1,I10) -> 0
B11: 01.05 | C11: Diàlegs | N11: =(IF(G11=0,1,G11)*IF(I11=0,1,I11)*L11 )+M11*IF(G11=0,1,G11)*IF(I11=0,1,I11) -> 0 | O11: =N11/Portada!$F$15 -> 0 | S11: =M11*IF(G11=0,1,G11)*IF(I11=0,1,I11) -> 0 | EC11: =(IF(G11=0,1,G11)*IF(I11=0,1,I11)*L11 )+M11*IF(G11=0,1,G11)*IF(I11=0,1,I11) -> 0
B12: 01.06 | C12: Traduccions | N12: =(IF(G12=0,1,G12)*IF(I12=0,1,I12)*L12 )+M12*IF(G12=0,1,G12)*IF(I12=0,1,I12) -> 0 | O12: =N12/Portada!$F$15 -> 0 | S12: =M12*IF(G12=0,1,G12)*IF(I12=0,1,I12) -> 0 | EC12: =(IF(G12=0,1,G12)*IF(I12=0,1,I12)*L12 )+M12*IF(G12=0,1,G12)*IF(I12=0,1,I12) -> 0
B13: 01.07 | C13: Level Design | N13: =(IF(G13=0,1,G13)*IF(I13=0,1,I13)*L13 )+M13*IF(G13=0,1,G13)*IF(I13=0,1,I13) -> 0 | O13: =N13/Portada!$F$15 -> 0 | S13: =M13*IF(G13=0,1,G13)*IF(I13=0,1,I13) -> 0 | EC13: =(IF(G13=0,1,G13)*IF(I13=0,1,I13)*L13 )+M13*IF(G13=0,1,G13)*IF(I13=0,1,I13) -> 0
B14: 01.08 | L14: 0 | N14: =(IF(G14=0,1,G14)*IF(I14=0,1,I14)*L14 )+M14*IF(G14=0,1,G14)*IF(I14=0,1,I14) -> 0 | O14: =N14/Portada!$F$15 -> 0 | S14: =M14*IF(G14=0,1,G14)*IF(I14=0,1,I14) -> 0 | EC14: =(IF(G14=0,1,G14)*IF(I14=0,1,I14)*L14 )+M14*IF(G14=0,1,G14)*IF(I14=0,1,I14) -> 0
B15: 01.09 | L15: 0 | N15: =(IF(G15=0,1,G15)*IF(I15=0,1,I15)*L15 )+M15*IF(G15=0,1,G15)*IF(I15=0,1,I15) -> 0 | O15: =N15/Portada!$F$15 -> 0 | S15: =M15*IF(G15=0,1,G15)*IF(I15=0,1,I15) -> 0 | EC15: =(IF(G15=0,1,G15)*IF(I15=0,1,I15)*L15 )+M15*IF(G15=0,1,G15)*IF(I15=0,1,I15) -> 0
B16: 01.10 | L16: 0 | N16: =(IF(G16=0,1,G16)*IF(I16=0,1,I16)*L16 )+M16*IF(G16=0,1,G16)*IF(I16=0,1,I16) -> 0 | O16: =N16/Portada!$F$15 -> 0 | S16: =M16*IF(G16=0,1,G16)*IF(I16=0,1,I16) -> 0 | EC16: =(IF(G16=0,1,G16)*IF(I16=0,1,I16)*L16 )+M16*IF(G16=0,1,G16)*IF(I16=0,1,I16) -> 0
N17: =SUM(N7:N16) -> 0 | O17: =SUM(O7:O16) -> 0 | P17: =SUM(P7:P16) -> 0 | Q17: =SUM(Q7:Q16) -> 0 | S17: =SUM(S7:S16) -> 0 | EC17: =SUM(EC7:EC16) -> 0
C18: TOTAL | D18: =C5 -> CAPÍTOL 01.- Pre-project i Game Design (GDD) | N18: =(N17 ) -> 0 | O18: =(O17) -> 0 | P18: =(P17 +#REF!) -> #REF! | Q18: =(Q17 +#REF!) -> #REF! | S18: =S17 -> 0 | EC18: =(EC17) -> 0
C20: CAPÍTOL 02.- Art
B21: Núm. Compte
B22: 02.01 | C22: Brandbook (Biblia artística i logotip) | N22: =(IF(G22=0,1,G22)*IF(I22=0,1,I22)*L22 )+M22*IF(G22=0,1,G22)*IF(I22=0,1,I22) -> 0 | O22: =N22/Portada!$F$15 -> 0 | S22: =M22*IF(G22=0,1,G22)*IF(I22=0,1,I22) -> 0 | U22: =IF(L22<>0,(M22/L22)/IF(G22=0,1,G22),0) -> 0 | EC22: =(IF(G22=0,1,G22)*IF(I22=0,1,I22)*L22 )+M22*IF(G22=0,1,G22)*IF(I22=0,1,I22) -> 0
B23: 02.02 | C23: Entorn General (Overview) | N23: =(IF(G23=0,1,G23)*IF(I23=0,1,I23)*L23 )+M23*IF(G23=0,1,G23)*IF(I23=0,1,I23) -> 0 | O23: =N23/Portada!$F$15 -> 0 | S23: =M23*IF(G23=0,1,G23)*IF(I23=0,1,I23) -> 0 | U23: =IF(L23<>0,(M23/L23)/IF(G23=0,1,G23),0) -> 0 | EC23: =(IF(G23=0,1,G23)*IF(I23=0,1,I23)*L23 )+M23*IF(G23=0,1,G23)*IF(I23=0,1,I23) -> 0
B24: 02.03 | C24: Escenaris | N24: =(IF(G24=0,1,G24)*IF(I24=0,1,I24)*L24 )+M24*IF(G24=0,1,G24)*IF(I24=0,1,I24) -> 0 | O24: =N24/Portada!$F$15 -> 0 | S24: =M24*IF(G24=0,1,G24)*IF(I24=0,1,I24) -> 0 | U24: =IF(L24<>0,(M24/L24)/IF(G24=0,1,G24),0) -> 0 | EC24: =(IF(G24=0,1,G24)*IF(I24=0,1,I24)*L24 )+M24*IF(G24=0,1,G24)*IF(I24=0,1,I24) -> 0
B25: 02.04 | C25: Objectes, vehicles, ítems | N25: =(IF(G25=0,1,G25)*IF(I25=0,1,I25)*L25 )+M25*IF(G25=0,1,G25)*IF(I25=0,1,I25) -> 0 | O25: =N25/Portada!$F$15 -> 0 | S25: =M25*IF(G25=0,1,G25)*IF(I25=0,1,I25) -> 0 | U25: =IF(L25<>0,(M25/L25)/IF(G25=0,1,G25),0) -> 0 | EC25: =(IF(G25=0,1,G25)*IF(I25=0,1,I25)*L25 )+M25*IF(G25=0,1,G25)*IF(I25=0,1,I25) -> 0
B26: 02.05 | C26: Personatges | N26: =(IF(G26=0,1,G26)*IF(I26=0,1,I26)*L26 )+M26*IF(G26=0,1,G26)*IF(I26=0,1,I26) -> 0 | O26: =N26/Portada!$F$15 -> 0 | S26: =M26*IF(G26=0,1,G26)*IF(I26=0,1,I26) -> 0 | U26: =IF(L26<>0,(M26/L26)/IF(G26=0,1,G26),0) -> 0 | EC26: =(IF(G26=0,1,G26)*IF(I26=0,1,I26)*L26 )+M26*IF(G26=0,1,G26)*IF(I26=0,1,I26) -> 0
B27: 02.06 | C27: Elements d'interfície | N27: =(IF(G27=0,1,G27)*IF(I27=0,1,I27)*L27 )+M27*IF(G27=0,1,G27)*IF(I27=0,1,I27) -> 0 | O27: =N27/Portada!$F$15 -> 0 | S27: =M27*IF(G27=0,1,G27)*IF(I27=0,1,I27) -> 0 | U27: =IF(L27<>0,(M27/L27)/IF(G27=0,1,G27),0) -> 0 | EC27: =(IF(G27=0,1,G27)*IF(I27=0,1,I27)*L27 )+M27*IF(G27=0,1,G27)*IF(I27=0,1,I27) -> 0
B28: 02.07 | C28: Pantalles de transició | N28: =(IF(G28=0,1,G28)*IF(I28=0,1,I28)*L28 )+M28*IF(G28=0,1,G28)*IF(I28=0,1,I28) -> 0 | O28: =N28/Portada!$F$15 -> 0 | S28: =M28*IF(G28=0,1,G28)*IF(I28=0,1,I28) -> 0 | U28: =IF(L28<>0,(M28/L28)/IF(G28=0,1,G28),0) -> 0 | EC28: =(IF(G28=0,1,G28)*IF(I28=0,1,I28)*L28 )+M28*IF(G28=0,1,G28)*IF(I28=0,1,I28) -> 0
B29: 02.08 | C29: Animacions | N29: =(IF(G29=0,1,G29)*IF(I29=0,1,I29)*L29 )+M29*IF(G29=0,1,G29)*IF(I29=0,1,I29) -> 0 | O29: =N29/Portada!$F$15 -> 0 | S29: =M29*IF(G29=0,1,G29)*IF(I29=0,1,I29) -> 0 | U29: =IF(L29<>0,(M29/L29)/IF(G29=0,1,G29),0) -> 0 | EC29: =(IF(G29=0,1,G29)*IF(I29=0,1,I29)*L29 )+M29*IF(G29=0,1,G29)*IF(I29=0,1,I29) -> 0
B30: 02.09 | C30: Adaptació a videoconsoles i formats (De 1 a X) | N30: =(IF(G30=0,1,G30)*IF(I30=0,1,I30)*L30 )+M30*IF(G30=0,1,G30)*IF(I30=0,1,I30) -> 0 | O30: =N30/Portada!$F$15 -> 0 | S30: =M30*IF(G30=0,1,G30)*IF(I30=0,1,I30) -> 0 | U30: =IF(L30<>0,(M30/L30)/IF(G30=0,1,G30),0) -> 0 | EC30: =(IF(G30=0,1,G30)*IF(I30=0,1,I30)*L30 )+M30*IF(G30=0,1,G30)*IF(I30=0,1,I30) -> 0
B31: 02.10 | N31: =(IF(G31=0,1,G31)*IF(I31=0,1,I31)*L31 )+M31*IF(G31=0,1,G31)*IF(I31=0,1,I31) -> 0 | O31: =N31/Portada!$F$15 -> 0 | EC31: =(IF(G31=0,1,G31)*IF(I31=0,1,I31)*L31 )+M31*IF(G31=0,1,G31)*IF(I31=0,1,I31) -> 0
B32: 02.11 | N32: =(IF(G32=0,1,G32)*IF(I32=0,1,I32)*L32 )+M32*IF(G32=0,1,G32)*IF(I32=0,1,I32) -> 0 | O32: =N32/Portada!$F$15 -> 0 | EC32: =(IF(G32=0,1,G32)*IF(I32=0,1,I32)*L32 )+M32*IF(G32=0,1,G32)*IF(I32=0,1,I32) -> 0
B33: 02.12 | N33: =(IF(G33=0,1,G33)*IF(I33=0,1,I33)*L33 )+M33*IF(G33=0,1,G33)*IF(I33=0,1,I33) -> 0 | O33: =N33/Portada!$F$15 -> 0 | S33: =M33*IF(G33=0,1,G33)*IF(I33=0,1,I33) -> 0 | U33: =IF(L33<>0,(M33/L33)/IF(G33=0,1,G33),0) -> 0 | EC33: =(IF(G33=0,1,G33)*IF(I33=0,1,I33)*L33 )+M33*IF(G33=0,1,G33)*IF(I33=0,1,I33) -> 0
N34: =SUM(N22:N33) -> 0 | O34: =SUM(O22:O33) -> 0 | P34: =SUM(P22:P33) -> 0 | Q34: =SUM(Q22:Q33) -> 0 | S34: =SUM(S22:S33) -> 0 | EC34: =SUM(EC22:EC33) -> 0
C35: TOTAL | D35: =C20 -> CAPÍTOL 02.- Art | N35: =(N34) -> 0 | O35: =(O34) -> 0 | P35: =(P34+#REF!+#REF!+#REF!+#REF!+#REF!+#REF!+#REF! +#REF!) -> #REF! | Q35: =(Q34+#REF!+#REF!+#REF!+#REF!+#REF!+#REF!+#REF! +#REF!) -> #REF! | S35: =S34 -> 0 | EC35: =(EC34) -> 0
C37: CAPÍTOL 03.- Desenvolupament
B38: Núm. Compte
B39: 03.01 | C39: Gameplay bàsic | N39: =(IF(G39=0,1,G39)*IF(I39=0,1,I39)*L39 )+M39*IF(G39=0,1,G39)*IF(I39=0,1,I39) -> 0 | O39: =N39/Portada!$F$15 -> 0 | S39: =M39*IF(G39=0,1,G39)*IF(I39=0,1,I39) -> 0 | EC39: =(IF(G39=0,1,G39)*IF(I39=0,1,I39)*L39 )+M39*IF(G39=0,1,G39)*IF(I39=0,1,I39) -> 0
B40: 03.02 | C40: Integració de llibreries | N40: =(IF(G40=0,1,G40)*IF(I40=0,1,I40)*L40 )+M40*IF(G40=0,1,G40)*IF(I40=0,1,I40) -> 0 | O40: =N40/Portada!$F$15 -> 0 | S40: =M40*IF(G40=0,1,G40)*IF(I40=0,1,I40) -> 0 | EC40: =(IF(G40=0,1,G40)*IF(I40=0,1,I40)*L40 )+M40*IF(G40=0,1,G40)*IF(I40=0,1,I40) -> 0
B41: 03.03 | C41: Prototip/Vertical Slice | N41: =(IF(G41=0,1,G41)*IF(I41=0,1,I41)*L41 )+M41*IF(G41=0,1,G41)*IF(I41=0,1,I41) -> 0 | O41: =N41/Portada!$F$15 -> 0 | S41: =M41*IF(G41=0,1,G41)*IF(I41=0,1,I41) -> 0 | EC41: =(IF(G41=0,1,G41)*IF(I41=0,1,I41)*L41 )+M41*IF(G41=0,1,G41)*IF(I41=0,1,I41) -> 0
B42: 03.04 | C42: Implementació de nivells (De 1 a X) | N42: =(IF(G42=0,1,G42)*IF(I42=0,1,I42)*L42 )+M42*IF(G42=0,1,G42)*IF(I42=0,1,I42) -> 0 | O42: =N42/Portada!$F$15 -> 0 | S42: =M42*IF(G42=0,1,G42)*IF(I42=0,1,I42) -> 0 | EC42: =(IF(G42=0,1,G42)*IF(I42=0,1,I42)*L42 )+M42*IF(G42=0,1,G42)*IF(I42=0,1,I42) -> 0
B43: 03.05 | C43: Gameplay Avançat | N43: =(IF(G43=0,1,G43)*IF(I43=0,1,I43)*L43 )+M43*IF(G43=0,1,G43)*IF(I43=0,1,I43) -> 0 | O43: =N43/Portada!$F$15 -> 0 | S43: =M43*IF(G43=0,1,G43)*IF(I43=0,1,I43) -> 0 | EC43: =(IF(G43=0,1,G43)*IF(I43=0,1,I43)*L43 )+M43*IF(G43=0,1,G43)*IF(I43=0,1,I43) -> 0
B44: 03.06 | C44: Correcció de bugs | N44: =(IF(G44=0,1,G44)*IF(I44=0,1,I44)*L44 )+M44*IF(G44=0,1,G44)*IF(I44=0,1,I44) -> 0 | O44: =N44/Portada!$F$15 -> 0 | S44: =M44*IF(G44=0,1,G44)*IF(I44=0,1,I44) -> 0 | EC44: =(IF(G44=0,1,G44)*IF(I44=0,1,I44)*L44 )+M44*IF(G44=0,1,G44)*IF(I44=0,1,I44) -> 0
B45: 03.07 | C45: Adaptació a videocònsoles (De 1 a X) | N45: =(IF(G45=0,1,G45)*IF(I45=0,1,I45)*L45 )+M45*IF(G45=0,1,G45)*IF(I45=0,1,I45) -> 0 | O45: =N45/Portada!$F$15 -> 0 | S45: =M45*IF(G45=0,1,G45)*IF(I45=0,1,I45) -> 0 | EC45: =(IF(G45=0,1,G45)*IF(I45=0,1,I45)*L45 )+M45*IF(G45=0,1,G45)*IF(I45=0,1,I45) -> 0
B46: 03.08 | N46: =(IF(G46=0,1,G46)*IF(I46=0,1,I46)*L46 )+M46*IF(G46=0,1,G46)*IF(I46=0,1,I46) -> 0 | O46: =N46/Portada!$F$15 -> 0 | S46: =M46*IF(G46=0,1,G46)*IF(I46=0,1,I46) -> 0 | EC46: =(IF(G46=0,1,G46)*IF(I46=0,1,I46)*L46 )+M46*IF(G46=0,1,G46)*IF(I46=0,1,I46) -> 0
B47: 03.09 | N47: =(IF(G47=0,1,G47)*IF(I47=0,1,I47)*L47 )+M47*IF(G47=0,1,G47)*IF(I47=0,1,I47) -> 0 | O47: =N47/Portada!$F$15 -> 0 | S47: =M47*IF(G47=0,1,G47)*IF(I47=0,1,I47) -> 0 | EC47: =(IF(G47=0,1,G47)*IF(I47=0,1,I47)*L47 )+M47*IF(G47=0,1,G47)*IF(I47=0,1,I47) -> 0
B48: 03.10 | N48: =(IF(G48=0,1,G48)*IF(I48=0,1,I48)*L48 )+M48*IF(G48=0,1,G48)*IF(I48=0,1,I48) -> 0 | O48: =N48/Portada!$F$15 -> 0 | S48: =M48*IF(G48=0,1,G48)*IF(I48=0,1,I48) -> 0 | EC48: =(IF(G48=0,1,G48)*IF(I48=0,1,I48)*L48 )+M48*IF(G48=0,1,G48)*IF(I48=0,1,I48) -> 0
N49: =SUM(N39:N48) -> 0 | O49: =SUM(O39:O48) -> 0 | P49: =SUM(P39:P48) -> 0 | Q49: =SUM(Q39:Q48) -> 0 | S49: =SUM(S39:S48) -> 0 | EC49: =SUM(EC39:EC48) -> 0
C50: TOTAL | D50: =C37 -> CAPÍTOL 03.- Desenvolupament | N50: =(N49) -> 0 | O50: =(O49) -> 0 | S50: =S49 -> 0 | EC50: =(EC49) -> 0
C52: CAPÍTOL 04.-Video, Àudio i Doblatge
B53: Núm. Compte
B54: 04.01. | C54: Video
B55: 04.01.01. | C55: Animacions | N55: =(IF(G55=0,1,G55)*IF(I55=0,1,I55)*L55 )+M55*IF(G55=0,1,G55)*IF(I55=0,1,I55) -> 0 | O55: =N55/Portada!$F$15 -> 0 | S55: =M55*IF(G55=0,1,G55)*IF(I55=0,1,I55) -> 0 | EC55: =(IF(G55=0,1,G55)*IF(I55=0,1,I55)*L55 )+M55*IF(G55=0,1,G55)*IF(I55=0,1,I55) -> 0
B56: 04.01.02. | C56: Escenes cinemàtiques | N56: =(IF(G56=0,1,G56)*IF(I56=0,1,I56)*L56 )+M56*IF(G56=0,1,G56)*IF(I56=0,1,I56) -> 0 | O56: =N56/Portada!$F$15 -> 0 | S56: =M56*IF(G56=0,1,G56)*IF(I56=0,1,I56) -> 0 | EC56: =(IF(G56=0,1,G56)*IF(I56=0,1,I56)*L56 )+M56*IF(G56=0,1,G56)*IF(I56=0,1,I56) -> 0
B57: 04.01.03. | N57: =(IF(G57=0,1,G57)*IF(I57=0,1,I57)*L57 )+M57*IF(G57=0,1,G57)*IF(I57=0,1,I57) -> 0 | O57: =N57/Portada!$F$15 -> 0 | S57: =M57*IF(G57=0,1,G57)*IF(I57=0,1,I57) -> 0 | EC57: =(IF(G57=0,1,G57)*IF(I57=0,1,I57)*L57 )+M57*IF(G57=0,1,G57)*IF(I57=0,1,I57) -> 0
B58: 04.01.04. | N58: =(IF(G58=0,1,G58)*IF(I58=0,1,I58)*L58 )+M58*IF(G58=0,1,G58)*IF(I58=0,1,I58) -> 0 | O58: =N58/Portada!$F$15 -> 0 | S58: =M58*IF(G58=0,1,G58)*IF(I58=0,1,I58) -> 0 | EC58: =(IF(G58=0,1,G58)*IF(I58=0,1,I58)*L58 )+M58*IF(G58=0,1,G58)*IF(I58=0,1,I58) -> 0
B59: 04.01.05. | N59: =(IF(G59=0,1,G59)*IF(I59=0,1,I59)*L59 )+M59*IF(G59=0,1,G59)*IF(I59=0,1,I59) -> 0 | O59: =N59/Portada!$F$15 -> 0 | S59: =M59*IF(G59=0,1,G59)*IF(I59=0,1,I59) -> 0 | EC59: =(IF(G59=0,1,G59)*IF(I59=0,1,I59)*L59 )+M59*IF(G59=0,1,G59)*IF(I59=0,1,I59) -> 0
C60: ="TOTAL " &" " & B54 & " " & (C54) -> TOTAL 04.01. Video | N60: =SUM(N55:N59) -> 0 | O60: =SUM(O55:O59) -> 0 | P60: =SUM(P55:P59) -> 0 | Q60: =SUM(Q55:Q59) -> 0 | S60: =SUM(S55:S59) -> 0 | EC60: =SUM(EC55:EC59) -> 0
B61: Núm. Compte
B62: 04.02. | C62: Àudio
B63: 04.02.01. | C63: Banda sonora | N63: =(IF(G63=0,1,G63)*IF(I63=0,1,I63)*L63 )+M63*IF(G63=0,1,G63)*IF(I63=0,1,I63) -> 0 | O63: =N63/Portada!$F$15 -> 0 | S63: =M63*IF(G63=0,1,G63)*IF(I63=0,1,I63) -> 0 | EC63: =(IF(G63=0,1,G63)*IF(I63=0,1,I63)*L63 )+M63*IF(G63=0,1,G63)*IF(I63=0,1,I63) -> 0
B64: 04.02.02. | C64: Efectes d'àudio | N64: =(IF(G64=0,1,G64)*IF(I64=0,1,I64)*L64 )+M64*IF(G64=0,1,G64)*IF(I64=0,1,I64) -> 0 | O64: =N64/Portada!$F$15 -> 0 | S64: =M64*IF(G64=0,1,G64)*IF(I64=0,1,I64) -> 0 | EC64: =(IF(G64=0,1,G64)*IF(I64=0,1,I64)*L64 )+M64*IF(G64=0,1,G64)*IF(I64=0,1,I64) -> 0
B65: 04.02.03 | C65: Música Original
B66: 04.02.04 | C66: Música de llibreria
B67: 04.02.05 | C67: Arranjaments
B68: 04.02.06 | N68: =(IF(G68=0,1,G68)*IF(I68=0,1,I68)*L68 )+M68*IF(G68=0,1,G68)*IF(I68=0,1,I68) -> 0 | O68: =N68/Portada!$F$15 -> 0 | S68: =M68*IF(G68=0,1,G68)*IF(I68=0,1,I68) -> 0 | EC68: =(IF(G68=0,1,G68)*IF(I68=0,1,I68)*L68 )+M68*IF(G68=0,1,G68)*IF(I68=0,1,I68) -> 0
B69: 04.02.07 | N69: =(IF(G69=0,1,G69)*IF(I69=0,1,I69)*L69 )+M69*IF(G69=0,1,G69)*IF(I69=0,1,I69) -> 0 | O69: =N69/Portada!$F$15 -> 0 | S69: =M69*IF(G69=0,1,G69)*IF(I69=0,1,I69) -> 0 | EC69: =(IF(G69=0,1,G69)*IF(I69=0,1,I69)*L69 )+M69*IF(G69=0,1,G69)*IF(I69=0,1,I69) -> 0
B70: 04.02.08 | N70: =(IF(G70=0,1,G70)*IF(I70=0,1,I70)*L70 )+M70*IF(G70=0,1,G70)*IF(I70=0,1,I70) -> 0 | O70: =N70/Portada!$F$15 -> 0 | S70: =M70*IF(G70=0,1,G70)*IF(I70=0,1,I70) -> 0 | EC70: =(IF(G70=0,1,G70)*IF(I70=0,1,I70)*L70 )+M70*IF(G70=0,1,G70)*IF(I70=0,1,I70) -> 0
C71: ="TOTAL " &" " & B62 & " " & (C62) -> TOTAL 04.02. Àudio | N71: =SUM(N63:N70) -> 0 | O71: =SUM(O63:O70) -> 0 | P71: =SUM(P63:P70) -> 0 | Q71: =SUM(Q63:Q70) -> 0 | S71: =SUM(S63:S70) -> 0 | EC71: =SUM(EC63:EC70) -> 0
B72: Núm. Compte
B73: 04.03. | C73: Doblatge
B74: 04.03.01. | C74: Director/a doblatge | N74: =(IF(G74=0,1,G74)*IF(I74=0,1,I74)*L74 )+M74*IF(G74=0,1,G74)*IF(I74=0,1,I74) -> 0 | O74: =N74/Portada!$F$15 -> 0 | S74: =M74*IF(G74=0,1,G74)*IF(I74=0,1,I74) -> 0 | EC74: =(IF(G74=0,1,G74)*IF(I74=0,1,I74)*L74 )+M74*IF(G74=0,1,G74)*IF(I74=0,1,I74) -> 0
B75: 04.03.02. | C75: Doblador/a per | N75: =(IF(G75=0,1,G75)*IF(I75=0,1,I75)*L75 )+M75*IF(G75=0,1,G75)*IF(I75=0,1,I75) -> 0 | O75: =N75/Portada!$F$15 -> 0 | S75: =M75*IF(G75=0,1,G75)*IF(I75=0,1,I75) -> 0 | EC75: =(IF(G75=0,1,G75)*IF(I75=0,1,I75)*L75 )+M75*IF(G75=0,1,G75)*IF(I75=0,1,I75) -> 0
B76: 04.03.03. | C76: Doblador/a per | N76: =(IF(G76=0,1,G76)*IF(I76=0,1,I76)*L76 )+M76*IF(G76=0,1,G76)*IF(I76=0,1,I76) -> 0 | O76: =N76/Portada!$F$15 -> 0 | EC76: =(IF(G76=0,1,G76)*IF(I76=0,1,I76)*L76 )+M76*IF(G76=0,1,G76)*IF(I76=0,1,I76) -> 0
B77: 04.03.04. | C77: Doblador/a per | N77: =(IF(G77=0,1,G77)*IF(I77=0,1,I77)*L77 )+M77*IF(G77=0,1,G77)*IF(I77=0,1,I77) -> 0 | O77: =N77/Portada!$F$15 -> 0 | EC77: =(IF(G77=0,1,G77)*IF(I77=0,1,I77)*L77 )+M77*IF(G77=0,1,G77)*IF(I77=0,1,I77) -> 0
B78: 04.03.05. | C78: Altres locucions en X idiomes | N78: =(IF(G78=0,1,G78)*IF(I78=0,1,I78)*L78 )+M78*IF(G78=0,1,G78)*IF(I78=0,1,I78) -> 0 | O78: =N78/Portada!$F$15 -> 0 | EC78: =(IF(G78=0,1,G78)*IF(I78=0,1,I78)*L78 )+M78*IF(G78=0,1,G78)*IF(I78=0,1,I78) -> 0
B79: 04.03.06. | N79: =(IF(G79=0,1,G79)*IF(I79=0,1,I79)*L79 )+M79*IF(G79=0,1,G79)*IF(I79=0,1,I79) -> 0 | O79: =N79/Portada!$F$15 -> 0 | S79: =M79*IF(G79=0,1,G79)*IF(I79=0,1,I79) -> 0 | EC79: =(IF(G79=0,1,G79)*IF(I79=0,1,I79)*L79 )+M79*IF(G79=0,1,G79)*IF(I79=0,1,I79) -> 0
B80: 04.03.07. | N80: =(IF(G80=0,1,G80)*IF(I80=0,1,I80)*L80 )+M80*IF(G80=0,1,G80)*IF(I80=0,1,I80) -> 0 | O80: =N80/Portada!$F$15 -> 0 | S80: =M80*IF(G80=0,1,G80)*IF(I80=0,1,I80) -> 0 | EC80: =(IF(G80=0,1,G80)*IF(I80=0,1,I80)*L80 )+M80*IF(G80=0,1,G80)*IF(I80=0,1,I80) -> 0
C81: ="TOTAL " &" " & B72 & " " & (C72) -> TOTAL Núm. Compte | N81: =SUM(N74:N80) -> 0 | O81: =SUM(O74:O80) -> 0 | S81: =SUM(S74:S80) -> 0
C82: TOTAL | D82: =C52 -> CAPÍTOL 04.-Video, Àudio i Doblatge | N82: =(N60+N71+N81) -> 0 | O82: =(O60+O71+O81) -> 0 | P82: =(P60+P71+#REF!+#REF!+#REF!+#REF!) -> #REF! | Q82: =(Q60+Q71+#REF!+#REF!+#REF!+#REF!) -> #REF! | S82: =S81 -> 0 | EC82: =(EC60+EC71+E81) -> 0
C84: CAPÍTOL 05.-Porting
B85: Núm. Compte
B86: 05.01 | C86: Adaptació a videoconsoles (1 a X) | N86: =(IF(G86=0,1,G86)*IF(I86=0,1,I86)*L86 )+M86*IF(G86=0,1,G86)*IF(I86=0,1,I86) -> 0 | O86: =N86/Portada!$F$15 -> 0 | S86: =M86*IF(G86=0,1,G86)*IF(I86=0,1,I86) -> 0 | EC86: =(IF(G86=0,1,G86)*IF(I86=0,1,I86)*L86 )+M86*IF(G86=0,1,G86)*IF(I86=0,1,I86) -> 0
B87: 05.02 | C87: Publicació en els diversos markets (1 a X) | N87: =(IF(G87=0,1,G87)*IF(I87=0,1,I87)*L87 )+M87*IF(G87=0,1,G87)*IF(I87=0,1,I87) -> 0 | O87: =N87/Portada!$F$15 -> 0 | S87: =M87*IF(G87=0,1,G87)*IF(I87=0,1,I87) -> 0 | EC87: =(IF(G87=0,1,G87)*IF(I87=0,1,I87)*L87 )+M87*IF(G87=0,1,G87)*IF(I87=0,1,I87) -> 0
B88: 05.03 | N88: =(IF(G88=0,1,G88)*IF(I88=0,1,I88)*L88 )+M88*IF(G88=0,1,G88)*IF(I88=0,1,I88) -> 0 | O88: =N88/Portada!$F$15 -> 0 | S88: =M88*IF(G88=0,1,G88)*IF(I88=0,1,I88) -> 0 | EC88: =(IF(G88=0,1,G88)*IF(I88=0,1,I88)*L88 )+M88*IF(G88=0,1,G88)*IF(I88=0,1,I88) -> 0
B89: 05.04 | N89: =(IF(G89=0,1,G89)*IF(I89=0,1,I89)*L89 )+M89*IF(G89=0,1,G89)*IF(I89=0,1,I89) -> 0 | O89: =N89/Portada!$F$15 -> 0 | S89: =M89*IF(G89=0,1,G89)*IF(I89=0,1,I89) -> 0 | EC89: =(IF(G89=0,1,G89)*IF(I89=0,1,I89)*L89 )+M89*IF(G89=0,1,G89)*IF(I89=0,1,I89) -> 0
B90: 05.05 | N90: =(IF(G90=0,1,G90)*IF(I90=0,1,I90)*L90 )+M90*IF(G90=0,1,G90)*IF(I90=0,1,I90) -> 0 | O90: =N90/Portada!$F$15 -> 0 | S90: =M90*IF(G90=0,1,G90)*IF(I90=0,1,I90) -> 0 | EC90: =(IF(G90=0,1,G90)*IF(I90=0,1,I90)*L90 )+M90*IF(G90=0,1,G90)*IF(I90=0,1,I90) -> 0
N91: =SUM(N86:N90) -> 0 | O91: =SUM(O86:O90) -> 0 | P91: =SUM(P86:P90) -> 0 | Q91: =SUM(Q86:Q90) -> 0 | S91: =SUM(S86:S90) -> 0 | EC91: =SUM(EC86:EC90) -> 0
C92: TOTAL | D92: =C84 -> CAPÍTOL 05.-Porting | N92: =(N91) -> 0 | O92: =(O91) -> 0 | P92: =(P91+#REF!+#REF!+#REF!) -> #REF! | Q92: =(Q91+#REF!+#REF!+#REF!) -> #REF! | S92: =S91 -> 0 | EC92: =(EC91) -> 0
C94: CAPÍTOL 06.- Q&A/testing
B95: Núm. Compte
B96: 06.01 | C96: Testing Videojocs | N96: =(IF(G96=0,1,G96)*IF(I96=0,1,I96)*L96 )+M96*IF(G96=0,1,G96)*IF(I96=0,1,I96) -> 0 | O96: =N96/Portada!$F$15 -> 0 | S96: =M96*IF(G96=0,1,G96)*IF(I96=0,1,I96) -> 0 | EC96: =(IF(G96=0,1,G96)*IF(I96=0,1,I96)*L96 )+M96*IF(G96=0,1,G96)*IF(I96=0,1,I96) -> 0
B97: 06.02 | C97: Q/A Assessorament Qualitat | N97: =(IF(G97=0,1,G97)*IF(I97=0,1,I97)*L97 )+M97*IF(G97=0,1,G97)*IF(I97=0,1,I97) -> 0 | O97: =N97/Portada!$F$15 -> 0 | S97: =M97*IF(G97=0,1,G97)*IF(I97=0,1,I97) -> 0 | EC97: =(IF(G97=0,1,G97)*IF(I97=0,1,I97)*L97 )+M97*IF(G97=0,1,G97)*IF(I97=0,1,I97) -> 0
B98: 06.03 | N98: =(IF(G98=0,1,G98)*IF(I98=0,1,I98)*L98 )+M98*IF(G98=0,1,G98)*IF(I98=0,1,I98) -> 0 | O98: =N98/Portada!$F$15 -> 0 | S98: =M98*IF(G98=0,1,G98)*IF(I98=0,1,I98) -> 0 | EC98: =(IF(G98=0,1,G98)*IF(I98=0,1,I98)*L98 )+M98*IF(G98=0,1,G98)*IF(I98=0,1,I98) -> 0
B99: 06.04 | N99: =(IF(G99=0,1,G99)*IF(I99=0,1,I99)*L99 )+M99*IF(G99=0,1,G99)*IF(I99=0,1,I99) -> 0 | O99: =N99/Portada!$F$15 -> 0 | S99: =M99*IF(G99=0,1,G99)*IF(I99=0,1,I99) -> 0 | EC99: =(IF(G99=0,1,G99)*IF(I99=0,1,I99)*L99 )+M99*IF(G99=0,1,G99)*IF(I99=0,1,I99) -> 0
N100: =SUM(N96:N99) -> 0 | O100: =SUM(O96:O99) -> 0 | P100: =SUM(P96:P99) -> 0 | Q100: =SUM(Q96:Q99) -> 0 | S100: =SUM(S96:S99) -> 0 | EC100: =SUM(EC96:EC99) -> 0
C101: TOTAL | D101: =C94 -> CAPÍTOL 06.- Q&A/testing | N101: =(N100) -> 0 | O101: =(O100) -> 0 | P101: =(P100+#REF!+#REF!+#REF!) -> #REF! | Q101: =(Q100+#REF!+#REF!+#REF!) -> #REF! | S101: =S100 -> 0 | EC101: =(EC100) -> 0
C103: CAPÍTOL 07.- Backoffice
B104: Núm. Compte
B105: 07.01 | C105: Servidor | N105: =(IF(G105=0,1,G105)*IF(I105=0,1,I105)*L105 )+M105*IF(G105=0,1,G105)*IF(I105=0,1,I105) -> 0 | O105: =N105/Portada!$F$15 -> 0 | S105: =M105*IF(G105=0,1,G105)*IF(I105=0,1,I105) -> 0 | EC105: =(IF(G105=0,1,G105)*IF(I105=0,1,I105)*L105 )+M105*IF(G105=0,1,G105)*IF(I105=0,1,I105) -> 0
B106: 07.02 | C106: Base de dades | N106: =(IF(G106=0,1,G106)*IF(I106=0,1,I106)*L106 )+M106*IF(G106=0,1,G106)*IF(I106=0,1,I106) -> 0 | O106: =N106/Portada!$F$15 -> 0 | S106: =M106*IF(G106=0,1,G106)*IF(I106=0,1,I106) -> 0 | EC106: =(IF(G106=0,1,G106)*IF(I106=0,1,I106)*L106 )+M106*IF(G106=0,1,G106)*IF(I106=0,1,I106) -> 0
B107: 07.03 | C107: Desenvolupament backoffice | S107: =M107*IF(G107=0,1,G107)*IF(I107=0,1,I107) -> 0 | EC107: =(IF(G107=0,1,G107)*IF(I107=0,1,I107)*L107 )+M107*IF(G107=0,1,G107)*IF(I107=0,1,I107) -> 0
...

Sheet Resum
A1: =Portada!B1 -> Actualització a: 03/03/2026
A3: RESUM PRESSUPOST
C5: PRES. ARRENCADA | D5: PRES. PRODUCCIÓ | E5: TOTALS | F5: COST / CAPÍTOL | G5: OBSERVACIONS
A6: ='Pressupost Producció VIDEOJOC'!C5&REPT(".",110-LEN('Pressupost Producció VIDEOJOC'!C5)) -> CAPÍTOL 01.- Pre-project i Game Design (GDD).................................................................. | C6: ='Pressupost Arrencada VIDEOJOC'!N18 -> 0 | D6: ='Pressupost Producció VIDEOJOC'!O18 -> 0 | E6: =C6+D6 -> 0 | F6: =E6/Portada!$F$15 -> 0
A7: ='Pressupost Producció VIDEOJOC'!C20&REPT(".",110-LEN('Pressupost Producció VIDEOJOC'!C20)) -> CAPÍTOL 02.- Art.............................................................................................. | C7: ='Pressupost Arrencada VIDEOJOC'!N35 -> 0 | D7: ='Pressupost Producció VIDEOJOC'!O35 -> 0 | E7: =C7+D7 -> 0 | F7: =E7/Portada!$F$15 -> 0 | Z7: Valors de llista L-TF / L-TT / A | AA7: L-TF
A8: ='Pressupost Producció VIDEOJOC'!C37&REPT(".",100-LEN('Pressupost Producció VIDEOJOC'!C37)) -> CAPÍTOL 03.- Desenvolupament........................................................................ | C8: ='Pressupost Arrencada VIDEOJOC'!N50 -> 0 | D8: ='Pressupost Producció VIDEOJOC'!O50 -> 0 | E8: =C8+D8 -> 0 | F8: =E8/Portada!$F$15 -> 0 | AA8: L-TT
A9: ='Pressupost Producció VIDEOJOC'!C52&REPT(".",100-LEN('Pressupost Producció VIDEOJOC'!C52)) -> CAPÍTOL 04.-Video, Àudio i Doblatge................................................................. | C9: ='Pressupost Arrencada VIDEOJOC'!N82 -> 0 | D9: ='Pressupost Producció VIDEOJOC'!O82 -> 0 | E9: =C9+D9 -> 0 | F9: =E9/Portada!$F$15 -> 0 | AA9: A
A10: ='Pressupost Producció VIDEOJOC'!C84&REPT(".",100-LEN('Pressupost Producció VIDEOJOC'!C84)) -> CAPÍTOL 05.-Porting................................................................................. | C10: ='Pressupost Arrencada VIDEOJOC'!N92 -> 0 | D10: ='Pressupost Producció VIDEOJOC'!O92 -> 0 | E10: =C10+D10 -> 0 | F10: =E10/Portada!$F$15 -> 0 | AA10: Pressupost Arrencada TV | AB10: Pressupost Producció TV
A11: ='Pressupost Producció VIDEOJOC'!C94&REPT(".",100-LEN('Pressupost Producció VIDEOJOC'!C94)) -> CAPÍTOL 06.- Q&A/testing............................................................................ | C11: ='Pressupost Arrencada VIDEOJOC'!N101 -> 0 | D11: ='Pressupost Producció VIDEOJOC'!O101 -> 0 | E11: =C11+D11 -> 0 | F11: =E11/Portada!$F$15 -> 0 | Z11: Cost total SS | AA11: ='Pressupost Arrencada VIDEOJOC'!S202 -> 0 | AB11: ='Pressupost Producció VIDEOJOC'!S202 -> 0
A12: ='Pressupost Producció VIDEOJOC'!C103&REPT(".",100-LEN('Pressupost Producció VIDEOJOC'!C103)) -> CAPÍTOL 07.- Backoffice............................................................................. | C12: ='Pressupost Arrencada VIDEOJOC'!N111 -> 0 | D12: ='Pressupost Producció VIDEOJOC'!O111 -> 0 | E12: =C12+D12 -> 0 | F12: =E12/Portada!$F$15 -> 0
A13: ='Pressupost Producció VIDEOJOC'!C113&REPT(".",100-LEN('Pressupost Producció VIDEOJOC'!C113)) -> CAPÍTOL 08.- Publishing............................................................................. | C13: ='Pressupost Arrencada VIDEOJOC'!N120 -> 0 | D13: ='Pressupost Producció VIDEOJOC'!O120 -> 0 | E13: =C13+D13 -> 0 | F13: =E13/Portada!$F$15 -> 0
A14: ='Pressupost Producció VIDEOJOC'!C122&REPT(".",100-LEN('Pressupost Producció VIDEOJOC'!C122)) -> CAPÍTOL 09.- Manteniment............................................................................ | C14: ='Pressupost Arrencada VIDEOJOC'!N129 -> 0 | D14: ='Pressupost Producció VIDEOJOC'!O129 -> 0 | E14: =C14+D14 -> 0 | F14: =E14/Portada!$F$15 -> 0
A15: ='Pressupost Producció VIDEOJOC'!C132&REPT(".",100-LEN('Pressupost Producció VIDEOJOC'!C132)) -> CAPÍTOL 10.- Equip (Personal)....................................................................... | C15: ='Pressupost Arrencada VIDEOJOC'!N156 -> 0 | D15: ='Pressupost Producció VIDEOJOC'!O156 -> 0 | E15: =C15+D15 -> 0 | F15: =E15/Portada!$F$15 -> 0
A16: ='Pressupost Producció VIDEOJOC'!C159&REPT(".",100-LEN('Pressupost Producció VIDEOJOC'!C159)) -> CAPÍTOL 11.- Assegurances........................................................................... | C16: ='Pressupost Arrencada VIDEOJOC'!N166 -> 0 | D16: ='Pressupost Producció VIDEOJOC'!O166 -> 0 | E16: =C16+D16 -> 0 | F16: =E16/Portada!$F$15 -> 0
A17: ='Pressupost Producció VIDEOJOC'!C168&REPT(".",100-LEN('Pressupost Producció VIDEOJOC'!C168)) -> CAPÍTOL 12.- Despeses generals...................................................................... | C17: ='Pressupost Arrencada VIDEOJOC'!N187-AA21 -> 0 | D17: ='Pressupost Producció VIDEOJOC'!O187-AB21 -> 0 | E17: =C17+D17 -> 0 | F17: =E17/Portada!$F$15 -> 0 | Z17: Despeses d'estructura CAPITOL 12 (en el de la tele era el 10) | AA17: =SUMIF('Pressupost Arrencada VIDEOJOC'!E170:'Pressupost Arrencada VIDEOJOC'!E178,"E",'Pressupost Arrencada VIDEOJOC'!N170:'Pressupost Arrencada VIDEOJOC'!N178) + SUMIF('Pressupost Arrencada VIDEOJOC'!E183:'Pressupost Arrencada VIDEOJOC'!E185,"E",'Pressupost Arrencada VIDEOJOC'!N183:'Pressupost Arrencada VIDEOJOC'!N185) -> 0 | AB17: =SUMIF('Pressupost Producció VIDEOJOC'!E170:'Pressupost Producció VIDEOJOC'!E178,"E",'Pressupost Producció VIDEOJOC'!N170:'Pressupost Producció VIDEOJOC'!N178) + SUMIF('Pressupost Producció VIDEOJOC'!E183:'Pressupost Producció VIDEOJOC'!E185,"E",'Pressupost Producció VIDEOJOC'!N183:'Pressupost Producció VIDEOJOC'!N185) -> 0
A18: ='Pressupost Producció VIDEOJOC'!C190&REPT(".",100-LEN('Pressupost Producció VIDEOJOC'!C190)) -> CAPÍTOL 13.- Altres necessitats projecte............................................................ | C18: ='Pressupost Arrencada VIDEOJOC'!N196 -> 0 | D18: ='Pressupost Producció VIDEOJOC'!O196 -> 0 | E18: =C18+D18 -> 0 | F18: =E18/Portada!$F$15 -> 0 | Z18: Despeses financeres | AA18: ='Pressupost Arrencada VIDEOJOC'!N179 -> 0 | AB18: ='Pressupost Producció VIDEOJOC'!N179 -> 0
B19: COST DE LA PRODUCCIÓ ......................... | C19: =SUM(C6:C18) -> 0 | D19: =SUM(D6:D18) -> 0 | E19: =SUM(E6:E18) -> 0 | F19: =SUM(F6:F18) -> 0 | G19: Subtotal | Z19: Imprevistos | AA19: ='Pressupost Arrencada VIDEOJOC'!N180 -> 0 | AB19: ='Pressupost Producció VIDEOJOC'!N180 -> 0
B20: Despeses d'estructura + Imprevistos (màx 3 %) .............. | C20: =AA29 -> 0 | D20: =AB29 -> 0 | E20: =C20+D20 -> 0 | F20: =E20/Portada!$F$15 -> 0 | G20: Límit màxim conjunt: 13% o 11% del subtotal | Z20: Despeses especials | AA20: ='Pressupost Arrencada VIDEOJOC'!N181 + 'Pressupost Arrencada VIDEOJOC'!N182 -> 0 | AB20: ='Pressupost Producció VIDEOJOC'!N181 + 'Pressupost Producció VIDEOJOC'!N182 -> 0
B21: ="Benefici Industrial " & (Portada!I17*100) & " % " & "........................................................" -> Benefici Industrial 10 % ........................................................ | D21: =D19*Portada!I17 -> 0 | E21: =C21+D21 -> 0 | F21: =E21/Portada!$F$15 -> 0 | Z21: Total estructura, imprevistos i despes financers/especials a restar al full Resum Capítol 12 | AA21: =SUM(AA17:AA20) -> 0 | AB21: =SUM(AB17:AB20) -> 0
B22: ="Despeses financeres i especials" & "......................................." -> Despeses financeres i especials....................................... | C22: =AA18 + AA20 -> 0 | D22: =AB18 + AB20 -> 0 | E22: =C22+D22 -> 0 | F22: =E22/Portada!$F$15 -> 0
B23: COST TOTAL PRODUCCIÓ .................... | C23: =C19+C20+C21+C22 -> 0 | D23: =D19+D20+D21+D22 -> 0 | E23: =SUM(E19:E22) -> 0 | F23: =SUM(F19:F22) -> 0
Z24: Total despeses d'estructura i imprevistos | AA24: =AA17+AA19 -> 0 | AB24: =AB17+AB19 -> 0
Z25: Cost total abans del benefici industrial | AA25: =Resum!C19 -> 0 | AB25: =Resum!D19 -> 0
Z26: 3% Cost total abans del benefici industrial | AA26: =AA25*3/100 -> 0 | AB26: =AB25*3/100 -> 0
Z29: Despeses d'estructura i imprevistos | AA29: =AA24 -> 0 | AB29: =AB24 -> 0
Z30: Benefici industrial | AB30: =AB25*Portada!I17 -> 0
Z31: Total Despeses estructura i Benefici industrial | AA31: =SUM(AA29:AA30) -> 0 | AB31: =SUM(AB29:AB30) -> 0
AA37: Calculs SS | AB37: L-TF | AC37: Import | AD37: 5101.2
AC38: Percentage | AD38: 0.3215
AC39: Tope | AD39: =ROUNDUP(AD37*AD38,2) -> 1640.04
AB41: L-TT | AC41: Import | AD41: 5101.2
AC42: Percentage | AD42: 0.3335
AC43: Tope | AD43: =ROUNDUP(AD41*AD42,2) -> 1701.26
AA46: Quota solidaritat | AB46: Des de | AC46: fins | AD46: % Empresa
AA47: Tram 1 | AB47: 5101.21 | AC47: 5611.32 | AD47: 0.0096
AA48: Tram 2 | AB48: 5611.33 | AC48: 5970.19 | AD48: 0.0104
AA49: Tram 3 | AB49: 7651.81 | AD49: 0.0122

Sheet Portada
B1: Actualització a: 03/03/2026
I2: Logo Programa
C3: Logo Empresa Desenvolupadora | F3: RESUM PRESSUPOST
F5: TITOL PROPOSAT VIDEOJOC
C6: Dades Empresa Desenvolupadora
F7: DIRECCIÓ DEL PROJECTE
H12: PRESSUPOST ARRENCADA | I12: =Resum!C23 -> 0
C13: TIPOLOGIA | H13: PRESSUPOST PRODUCCIÓ | I13: =Resum!D23 -> 0 | M13: Culturals/divulgatius
H14: TOTAL PRESSUPOST | I14: =I12+I13 -> 0 | M14: Infantils
C15: QUANTITAT VIDEOJOCS | F15: 1 | M15: Aventura
M16: Casual/Arcade
H17: % BENEFICI INDUSTRIAL TV | I17: 0.1 | M17: Entreteniment
H18: IMPORT BENEFICI INDUSTRIAL | I18: =Resum!D21 -> 0 | M18: Esports
M19: Documental Interactiu
M20: Musicals
M21: Altres
H22: INGRESSOS
C25: IMPORT A LIQUIDAR | D25: =(Resum!E19+Resum!E20+Resum!E22) -> 0
H27: Data presentació projecte:
H28: Data aprovació/rebuig:

Sheet Realitats Arrencada VIDEOJOC
B1: =Portada!B1 -> Actualització a: 03/03/2026 | D1: Realitats Producció TV (Arrencada)
A2: Capítols de despesa | D2: Nom / Concepte | E2: Pressupostat | F2: Realitat | G2: Diferència
C5: ='Pressupost Arrencada VIDEOJOC'!C5 -> CAPÍTOL 01.- Pre-project i Game Design (GDD)
B6: ='Pressupost Arrencada VIDEOJOC'!B6 -> Núm. Compte
B7: ='Pressupost Arrencada VIDEOJOC'!B7 -> 01.01 | C7: ='Pressupost Arrencada VIDEOJOC'!C7 -> Benchmarking
B8: ='Pressupost Arrencada VIDEOJOC'!B8 -> 01.02 | C8: ='Pressupost Arrencada VIDEOJOC'!C8 -> Concepts/Storyboard | D8: ='Pressupost Arrencada VIDEOJOC'!D8 -> 0 | E8: ='Pressupost Arrencada VIDEOJOC'!N8 -> 0 | G8: =F8-E8 -> 0 | DL8: =(IF(#REF!=0,1,#REF!)*IF(#REF!=0,1,#REF!)*#REF! )+#REF!*IF(#REF!=0,1,#REF!)*IF(#REF!=0,1,#REF!) -> #REF!
B9: ='Pressupost Arrencada VIDEOJOC'!B9 -> 01.03 | C9: ='Pressupost Arrencada VIDEOJOC'!C9 -> Game Design Document | D9: ='Pressupost Arrencada VIDEOJOC'!D9 -> 0 | E9: ='Pressupost Arrencada VIDEOJOC'!N9 -> 0 | G9: =F9-E9 -> 0 | DL9: =(IF(#REF!=0,1,#REF!)*IF(#REF!=0,1,#REF!)*#REF! )+#REF!*IF(#REF!=0,1,#REF!)*IF(#REF!=0,1,#REF!) -> #REF!
B10: ='Pressupost Arrencada VIDEOJOC'!B10 -> 01.04 | C10: ='Pressupost Arrencada VIDEOJOC'!C10 -> Guió Literari | D10: ='Pressupost Arrencada VIDEOJOC'!D10 -> 0 | E10: ='Pressupost Arrencada VIDEOJOC'!N10 -> 0 | G10: =F10-E10 -> 0 | DL10: =(IF(#REF!=0,1,#REF!)*IF(#REF!=0,1,#REF!)*#REF! )+#REF!*IF(#REF!=0,1,#REF!)*IF(#REF!=0,1,#REF!) -> #REF!
B11: ='Pressupost Arrencada VIDEOJOC'!B11 -> 01.05 | C11: ='Pressupost Arrencada VIDEOJOC'!C11 -> Diàlegs | D11: ='Pressupost Arrencada VIDEOJOC'!D11 -> 0 | E11: ='Pressupost Arrencada VIDEOJOC'!N11 -> 0 | G11: =F11-E11 -> 0 | DL11: =(IF(#REF!=0,1,#REF!)*IF(#REF!=0,1,#REF!)*#REF! )+#REF!*IF(#REF!=0,1,#REF!)*IF(#REF!=0,1,#REF!) -> #REF!
B12: ='Pressupost Arrencada VIDEOJOC'!B12 -> 01.06 | C12: ='Pressupost Arrencada VIDEOJOC'!C12 -> Traduccions | D12: ='Pressupost Arrencada VIDEOJOC'!D12 -> 0 | E12: ='Pressupost Arrencada VIDEOJOC'!N12 -> 0 | G12: =F12-E12 -> 0 | DL12: =(IF(#REF!=0,1,#REF!)*IF(#REF!=0,1,#REF!)*#REF! )+#REF!*IF(#REF!=0,1,#REF!)*IF(#REF!=0,1,#REF!) -> #REF!
B13: ='Pressupost Arrencada VIDEOJOC'!B13 -> 01.07 | C13: ='Pressupost Arrencada VIDEOJOC'!C13 -> Level Design | D13: ='Pressupost Arrencada VIDEOJOC'!D13 -> 0 | E13: ='Pressupost Arrencada VIDEOJOC'!N13 -> 0 | G13: =F13-E13 -> 0 | DL13: =(IF(#REF!=0,1,#REF!)*IF(#REF!=0,1,#REF!)*#REF! )+#REF!*IF(#REF!=0,1,#REF!)*IF(#REF!=0,1,#REF!) -> #REF!
B14: ='Pressupost Arrencada VIDEOJOC'!B14 -> 01.08 | C14: ='Pressupost Arrencada VIDEOJOC'!C14 -> 0 | D14: ='Pressupost Arrencada VIDEOJOC'!D14 -> 0 | E14: ='Pressupost Arrencada VIDEOJOC'!N14 -> 0 | G14: =F14-E14 -> 0 | DL14: =(IF(#REF!=0,1,#REF!)*IF(#REF!=0,1,#REF!)*#REF! )+#REF!*IF(#REF!=0,1,#REF!)*IF(#REF!=0,1,#REF!) -> #REF!
B15: ='Pressupost Arrencada VIDEOJOC'!B15 -> 01.09 | C15: ='Pressupost Arrencada VIDEOJOC'!C15 -> 0 | D15: ='Pressupost Arrencada VIDEOJOC'!D15 -> 0 | E15: ='Pressupost Arrencada VIDEOJOC'!N15 -> 0 | G15: =F15-E15 -> 0 | DL15: =(IF(#REF!=0,1,#REF!)*IF(#REF!=0,1,#REF!)*#REF! )+#REF!*IF(#REF!=0,1,#REF!)*IF(#REF!=0,1,#REF!) -> #REF!
B16: ='Pressupost Arrencada VIDEOJOC'!B16 -> 01.10 | C16: ='Pressupost Arrencada VIDEOJOC'!C16 -> 0 | D16: ='Pressupost Arrencada VIDEOJOC'!D16 -> 0 | E16: ='Pressupost Arrencada VIDEOJOC'!N16 -> 0 | G16: =F16-E16 -> 0 | DL16: =(IF(#REF!=0,1,#REF!)*IF(#REF!=0,1,#REF!)*#REF! )+#REF!*IF(#REF!=0,1,#REF!)*IF(#REF!=0,1,#REF!) -> #REF!
B17: ='Pressupost Arrencada VIDEOJOC'!B17 -> 0 | C17: ='Pressupost Arrencada VIDEOJOC'!C17 -> 0 | D17: ='Pressupost Arrencada VIDEOJOC'!D17 -> 0 | E17: ='Pressupost Arrencada VIDEOJOC'!N17 -> 0 | F17: =SUM(F7:F16) -> 0 | G17: =SUM(G7:G16) -> 0 | DL17: =(IF(#REF!=0,1,#REF!)*IF(#REF!=0,1,#REF!)*#REF! )+#REF!*IF(#REF!=0,1,#REF!)*IF(#REF!=0,1,#REF!) -> #REF!
C18: ="TOTAL" & " " &C5 -> TOTAL CAPÍTOL 01.- Pre-project i Game Design (GDD) | E18: ='Pressupost Arrencada VIDEOJOC'!N18 -> 0 | F18: =F17 -> 0 | G18: =G17 -> 0 | DL18: =SUM(DL8:DL17) -> #REF!
B19: ='Pressupost Arrencada VIDEOJOC'!B19 -> 0
B20: ='Pressupost Arrencada VIDEOJOC'!B20 -> 0 | C20: ='Pressupost Arrencada VIDEOJOC'!C20 -> CAPÍTOL 02.- Art
B21: ='Pressupost Arrencada VIDEOJOC'!B21 -> Núm. Compte | C21: ='Pressupost Arrencada VIDEOJOC'!C21 -> 0 | D21: ='Pressupost Arrencada VIDEOJOC'!D21 -> 0 | E21: ='Pressupost Arrencada VIDEOJOC'!N21 -> 0 | G21: =F21-E21 -> 0 | DL21: =(IF(#REF!=0,1,#REF!)*IF(#REF!=0,1,#REF!)*#REF! )+#REF!*IF(#REF!=0,1,#REF!)*IF(#REF!=0,1,#REF!) -> #REF!
B22: ='Pressupost Arrencada VIDEOJOC'!B22 -> 02.01 | C22: ='Pressupost Arrencada VIDEOJOC'!C22 -> Brandbook (Biblia artística i logotip) | D22: ='Pressupost Arrencada VIDEOJOC'!D22 -> 0 | E22: ='Pressupost Arrencada VIDEOJOC'!N22 -> 0 | G22: =F22-E22 -> 0 | DL22: =(IF(#REF!=0,1,#REF!)*IF(#REF!=0,1,#REF!)*#REF! )+#REF!*IF(#REF!=0,1,#REF!)*IF(#REF!=0,1,#REF!) -> #REF!
B23: ='Pressupost Arrencada VIDEOJOC'!B23 -> 02.02 | C23: ='Pressupost Arrencada VIDEOJOC'!C23 -> Entorn General (Overview) | D23: ='Pressupost Arrencada VIDEOJOC'!D23 -> 0 | E23: ='Pressupost Arrencada VIDEOJOC'!N23 -> 0 | G23: =F23-E23 -> 0 | DL23: =(IF(#REF!=0,1,#REF!)*IF(#REF!=0,1,#REF!)*#REF! )+#REF!*IF(#REF!=0,1,#REF!)*IF(#REF!=0,1,#REF!) -> #REF!
B24: ='Pressupost Arrencada VIDEOJOC'!B24 -> 02.03 | C24: ='Pressupost Arrencada VIDEOJOC'!C24 -> Escenaris | D24: ='Pressupost Arrencada VIDEOJOC'!D24 -> 0 | E24: ='Pressupost Arrencada VIDEOJOC'!N24 -> 0 | G24: =F24-E24 -> 0 | DL24: =(IF(#REF!=0,1,#REF!)*IF(#REF!=0,1,#REF!)*#REF! )+#REF!*IF(#REF!=0,1,#REF!)*IF(#REF!=0,1,#REF!) -> #REF!
B25: ='Pressupost Arrencada VIDEOJOC'!B25 -> 02.04 | C25: ='Pressupost Arrencada VIDEOJOC'!C25 -> Objectes, vehicles, ítems | D25: ='Pressupost Arrencada VIDEOJOC'!D25 -> 0 | E25: ='Pressupost Arrencada VIDEOJOC'!N25 -> 0 | G25: =F25-E25 -> 0 | DL25: =(IF(#REF!=0,1,#REF!)*IF(#REF!=0,1,#REF!)*#REF! )+#REF!*IF(#REF!=0,1,#REF!)*IF(#REF!=0,1,#REF!) -> #REF!
B26: ='Pressupost Arrencada VIDEOJOC'!B26 -> 02.05 | C26: ='Pressupost Arrencada VIDEOJOC'!C26 -> Personatges | D26: ='Pressupost Arrencada VIDEOJOC'!D26 -> 0 | E26: ='Pressupost Arrencada VIDEOJOC'!N26 -> 0 | G26: =F26-E26 -> 0 | DL26: =(IF(#REF!=0,1,#REF!)*IF(#REF!=0,1,#REF!)*#REF! )+#REF!*IF(#REF!=0,1,#REF!)*IF(#REF!=0,1,#REF!) -> #REF!
B27: ='Pressupost Arrencada VIDEOJOC'!B27 -> 02.06 | C27: ='Pressupost Arrencada VIDEOJOC'!C27 -> Elements d'interfície | D27: ='Pressupost Arrencada VIDEOJOC'!D27 -> 0 | E27: ='Pressupost Arrencada VIDEOJOC'!N27 -> 0 | G27: =F27-E27 -> 0
B28: ='Pressupost Arrencada VIDEOJOC'!B28 -> 02.07 | C28: ='Pressupost Arrencada VIDEOJOC'!C28 -> Pantalles de transició | D28: ='Pressupost Arrencada VIDEOJOC'!D28 -> 0 | E28: ='Pressupost Arrencada VIDEOJOC'!N28 -> 0 | G28: =F28-E28 -> 0
B29: ='Pressupost Arrencada VIDEOJOC'!B29 -> 02.08 | C29: ='Pressupost Arrencada VIDEOJOC'!C29 -> Animacions | D29: ='Pressupost Arrencada VIDEOJOC'!D29 -> 0 | E29: ='Pressupost Arrencada VIDEOJOC'!N29 -> 0 | G29: =F29-E29 -> 0
B30: ='Pressupost Arrencada VIDEOJOC'!B30 -> 02.09 | C30: ='Pressupost Arrencada VIDEOJOC'!C30 -> Adaptació a videoconsoles i formats (De 1 a X) | D30: ='Pressupost Arrencada VIDEOJOC'!D30 -> 0 | E30: ='Pressupost Arrencada VIDEOJOC'!N30 -> 0 | G30: =F30-E30 -> 0
B31: ='Pressupost Arrencada VIDEOJOC'!B31 -> 02.10 | C31: ='Pressupost Arrencada VIDEOJOC'!C31 -> 0 | D31: ='Pressupost Arrencada VIDEOJOC'!D31 -> 0 | E31: ='Pressupost Arrencada VIDEOJOC'!N31 -> 0 | G31: =F31-E31 -> 0
B32: ='Pressupost Arrencada VIDEOJOC'!B32 -> 02.11 | C32: ='Pressupost Arrencada VIDEOJOC'!C32 -> 0 | D32: ='Pressupost Arrencada VIDEOJOC'!D32 -> 0 | E32: ='Pressupost Arrencada VIDEOJOC'!N32 -> 0 | G32: =F32-E32 -> 0
B33: ='Pressupost Arrencada VIDEOJOC'!B33 -> 02.12 | C33: ='Pressupost Arrencada VIDEOJOC'!C33 -> 0 | D33: ='Pressupost Arrencada VIDEOJOC'!D33 -> 0 | E33: ='Pressupost Arrencada VIDEOJOC'!N33 -> 0 | G33: =F33-E33 -> 0
C34: ='Pressupost Arrencada VIDEOJOC'!C34 -> 0 | D34: ='Pressupost Arrencada VIDEOJOC'!D34 -> 0 | E34: ='Pressupost Arrencada VIDEOJOC'!N34 -> 0 | F34: =SUM(F22:F33) -> 0 | G34: =SUM(G21:G33) -> 0 | DL34: =SUM(DL21:DL26) -> #REF!
C35: ="TOTAL" & " " &C20 -> TOTAL CAPÍTOL 02.- Art | E35: ='Pressupost Arrencada VIDEOJOC'!N35 -> 0 | F35: =F34 -> 0 | G35: =G34 -> 0 | DL35: =(DL18 + DL34) -> #REF!
B37: ='Pressupost Arrencada VIDEOJOC'!B37 -> 0 | C37: ='Pressupost Arrencada VIDEOJOC'!C37 -> CAPÍTOL 03.- Desenvolupament
B38: ='Pressupost Arrencada VIDEOJOC'!B38 -> Núm. Compte | C38: ='Pressupost Arrencada VIDEOJOC'!C38 -> 0
B39: ='Pressupost Arrencada VIDEOJOC'!B39 -> 03.01 | C39: ='Pressupost Arrencada VIDEOJOC'!C39 -> Gameplay bàsic | D39: ='Pressupost Arrencada VIDEOJOC'!D39 -> 0 | E39: ='Pressupost Arrencada VIDEOJOC'!N39 -> 0 | G39: =F39-E39 -> 0
B40: ='Pressupost Arrencada VIDEOJOC'!B40 -> 03.02 | C40: ='Pressupost Arrencada VIDEOJOC'!C40 -> Integració de llibreries | D40: ='Pressupost Arrencada VIDEOJOC'!D40 -> 0 | E40: ='Pressupost Arrencada VIDEOJOC'!N40 -> 0 | G40: =F40-E40 -> 0
B41: ='Pressupost Arrencada VIDEOJOC'!B41 -> 03.03 | C41: ='Pressupost Arrencada VIDEOJOC'!C41 -> Prototip/Vertical Slice | D41: ='Pressupost Arrencada VIDEOJOC'!D41 -> 0 | E41: ='Pressupost Arrencada VIDEOJOC'!N41 -> 0 | G41: =F41-E41 -> 0
B42: ='Pressupost Arrencada VIDEOJOC'!B42 -> 03.04 | C42: ='Pressupost Arrencada VIDEOJOC'!C42 -> Implementació de nivells (De 1 a X) | D42: ='Pressupost Arrencada VIDEOJOC'!D42 -> 0 | E42: ='Pressupost Arrencada VIDEOJOC'!N42 -> 0 | G42: =F42-E42 -> 0
B43: ='Pressupost Arrencada VIDEOJOC'!B43 -> 03.05 | C43: ='Pressupost Arrencada VIDEOJOC'!C43 -> Gameplay Avançat | D43: ='Pressupost Arrencada VIDEOJOC'!D43 -> 0 | E43: ='Pressupost Arrencada VIDEOJOC'!N43 -> 0 | G43: =F43-E43 -> 0
B44: ='Pressupost Arrencada VIDEOJOC'!B44 -> 03.06 | C44: ='Pressupost Arrencada VIDEOJOC'!C44 -> Correcció de bugs | D44: ='Pressupost Arrencada VIDEOJOC'!D44 -> 0 | E44: ='Pressupost Arrencada VIDEOJOC'!N44 -> 0 | G44: =F44-E44 -> 0
B45: ='Pressupost Arrencada VIDEOJOC'!B45 -> 03.07 | C45: ='Pressupost Arrencada VIDEOJOC'!C45 -> Adaptació a videocònsoles (De 1 a X) | D45: ='Pressupost Arrencada VIDEOJOC'!D45 -> 0 | E45: ='Pressupost Arrencada VIDEOJOC'!N45 -> 0 | G45: =F45-E45 -> 0
B46: ='Pressupost Arrencada VIDEOJOC'!B46 -> 03.08 | C46: ='Pressupost Arrencada VIDEOJOC'!C46 -> 0 | D46: ='Pressupost Arrencada VIDEOJOC'!D46 -> 0 | E46: ='Pressupost Arrencada VIDEOJOC'!N46 -> 0 | G46: =F46-E46 -> 0
B47: ='Pressupost Arrencada VIDEOJOC'!B47 -> 03.09 | C47: ='Pressupost Arrencada VIDEOJOC'!C47 -> 0 | D47: ='Pressupost Arrencada VIDEOJOC'!D47 -> 0 | E47: ='Pressupost Arrencada VIDEOJOC'!N47 -> 0 | G47: =F47-E47 -> 0
B48: ='Pressupost Arrencada VIDEOJOC'!B48 -> 03.10 | C48: ='Pressupost Arrencada VIDEOJOC'!C48 -> 0 | D48: ='Pressupost Arrencada VIDEOJOC'!D48 -> 0 | E48: ='Pressupost Arrencada VIDEOJOC'!N48 -> 0 | G48: =F48-E48 -> 0
C49: ='Pressupost Arrencada VIDEOJOC'!C49 -> 0 | D49: ='Pressupost Arrencada VIDEOJOC'!D49 -> 0 | E49: ='Pressupost Arrencada VIDEOJOC'!N49 -> 0 | F49: =SUM(F39:F48) -> 0 | G49: =SUM(G39:G48) -> 0
C50: ="TOTAL" & " " &C37 -> TOTAL CAPÍTOL 03.- Desenvolupament | E50: ='Pressupost Arrencada VIDEOJOC'!N50 -> 0 | F50: =F49 -> 0 | G50: =G49 -> 0 | DL50: =(DL33 + DL49) -> 0
B51: ='Pressupost Arrencada VIDEOJOC'!B51 -> 0 | C51: ='Pressupost Arrencada VIDEOJOC'!C51 -> 0
B52: ='Pressupost Arrencada VIDEOJOC'!B52 -> 0 | C52: ='Pressupost Arrencada VIDEOJOC'!C52 -> CAPÍTOL 04.-Video, Àudio i Doblatge
B53: ='Pressupost Arrencada VIDEOJOC'!B53 -> Núm. Compte | C53: ='Pressupost Arrencada VIDEOJOC'!C53 -> 0
B54: ='Pressupost Arrencada VIDEOJOC'!B54 -> 04.01. | C54: ='Pressupost Arrencada VIDEOJOC'!C54 -> Video | D54: ='Pressupost Arrencada VIDEOJOC'!D54 -> 0 | E54: ='Pressupost Arrencada VIDEOJOC'!N54 -> 0 | G54: =F54-E54 -> 0
B55: ='Pressupost Arrencada VIDEOJOC'!B55 -> 04.01.01. | C55: ='Pressupost Arrencada VIDEOJOC'!C55 -> Animacions | D55: ='Pressupost Arrencada VIDEOJOC'!D55 -> 0 | E55: ='Pressupost Arrencada VIDEOJOC'!N55 -> 0 | G55: =F55-E55 -> 0
B56: ='Pressupost Arrencada VIDEOJOC'!B56 -> 04.01.02. | C56: ='Pressupost Arrencada VIDEOJOC'!C56 -> Escenes cinemàtiques | D56: ='Pressupost Arrencada VIDEOJOC'!D56 -> 0 | E56: ='Pressupost Arrencada VIDEOJOC'!N56 -> 0 | G56: =F56-E56 -> 0
B57: ='Pressupost Arrencada VIDEOJOC'!B57 -> 04.01.03. | C57: ='Pressupost Arrencada VIDEOJOC'!C57 -> 0 | D57: ='Pressupost Arrencada VIDEOJOC'!D57 -> 0 | E57: ='Pressupost Arrencada VIDEOJOC'!N57 -> 0 | G57: =F57-E57 -> 0
B58: ='Pressupost Arrencada VIDEOJOC'!B58 -> 04.01.04. | C58: ='Pressupost Arrencada VIDEOJOC'!C58 -> 0 | D58: ='Pressupost Arrencada VIDEOJOC'!D58 -> 0 | E58: ='Pressupost Arrencada VIDEOJOC'!N58 -> 0 | G58: =F58-E58 -> 0
B59: ='Pressupost Arrencada VIDEOJOC'!B59 -> 04.01.05. | C59: ='Pressupost Arrencada VIDEOJOC'!C59 -> 0 | D59: ='Pressupost Arrencada VIDEOJOC'!D59 -> 0 | E59: ='Pressupost Arrencada VIDEOJOC'!N59 -> 0 | G59: =F59-E59 -> 0
C60: ='Pressupost Arrencada VIDEOJOC'!C60 -> TOTAL 04.01. Video | D60: ='Pressupost Arrencada VIDEOJOC'!D60 -> 0 | E60: ='Pressupost Arrencada VIDEOJOC'!E60 -> 0 | F60: =SUM(F55:F59) -> 0 | G60: =SUM(G55:G59) -> 0
B61: ='Pressupost Arrencada VIDEOJOC'!B61 -> Núm. Compte | C61: ='Pressupost Arrencada VIDEOJOC'!C61 -> 0
B62: ='Pressupost Arrencada VIDEOJOC'!B62 -> 04.02. | C62: ='Pressupost Arrencada VIDEOJOC'!C62 -> Àudio
B63: ='Pressupost Arrencada VIDEOJOC'!B63 -> 04.02.01. | C63: ='Pressupost Arrencada VIDEOJOC'!C63 -> Banda sonora | D63: ='Pressupost Arrencada VIDEOJOC'!D63 -> 0 | E63: ='Pressupost Arrencada VIDEOJOC'!N63 -> 0 | G63: =F63-E63 -> 0
B64: ='Pressupost Arrencada VIDEOJOC'!B64 -> 04.02.02. | C64: ='Pressupost Arrencada VIDEOJOC'!C64 -> Efectes d'àudio | D64: ='Pressupost Arrencada VIDEOJOC'!D64 -> 0 | E64: ='Pressupost Arrencada VIDEOJOC'!N64 -> 0 | G64: =F64-E64 -> 0
B65: ='Pressupost Arrencada VIDEOJOC'!B65 -> 04.02.03 | C65: ='Pressupost Arrencada VIDEOJOC'!C65 -> Música Original | D65: ='Pressupost Arrencada VIDEOJOC'!D65 -> 0 | E65: ='Pressupost Arrencada VIDEOJOC'!N65 -> 0 | G65: =F65-E65 -> 0
B66: ='Pressupost Arrencada VIDEOJOC'!B66 -> 04.02.04 | C66: ='Pressupost Arrencada VIDEOJOC'!C66 -> Música de llibreria | D66: ='Pressupost Arrencada VIDEOJOC'!D66 -> 0 | E66: ='Pressupost Arrencada VIDEOJOC'!N66 -> 0 | G66: =F66-E66 -> 0
B67: ='Pressupost Arrencada VIDEOJOC'!B67 -> 04.02.05 | C67: ='Pressupost Arrencada VIDEOJOC'!C67 -> Arranjaments | D67: ='Pressupost Arrencada VIDEOJOC'!D67 -> 0 | E67: ='Pressupost Arrencada VIDEOJOC'!N67 -> 0 | G67: =F67-E67 -> 0
B68: ='Pressupost Arrencada VIDEOJOC'!B68 -> 04.02.06 | C68: ='Pressupost Arrencada VIDEOJOC'!C68 -> 0 | D68: ='Pressupost Arrencada VIDEOJOC'!D68 -> 0 | E68: ='Pressupost Arrencada VIDEOJOC'!N68 -> 0 | G68: =F68-E68 -> 0
B69: ='Pressupost Arrencada VIDEOJOC'!B69 -> 04.02.07 | C69: ='Pressupost Arrencada VIDEOJOC'!C69 -> 0 | D69: ='Pressupost Arrencada VIDEOJOC'!D69 -> 0 | E69: ='Pressupost Arrencada VIDEOJOC'!N69 -> 0 | G69: =F69-E69 -> 0
B70: ='Pressupost Arrencada VIDEOJOC'!B70 -> 04.02.08 | C70: ='Pressupost Arrencada VIDEOJOC'!C70 -> 0 | D70: ='Pressupost Arrencada VIDEOJOC'!D70 -> 0 | E70: ='Pressupost Arrencada VIDEOJOC'!N70 -> 0 | G70: =F70-E70 -> 0
C71: ='Pressupost Arrencada VIDEOJOC'!C71 -> TOTAL 04.02. Àudio | D71: ='Pressupost Arrencada VIDEOJOC'!D71 -> 0 | E71: ='Pressupost Arrencada VIDEOJOC'!N71 -> 0 | F71: =SUM(F63:F70) -> 0 | G71: =SUM(G63:G70) -> 0
B72: ='Pressupost Arrencada VIDEOJOC'!B72 -> Núm. Compte | C72: ='Pressupost Arrencada VIDEOJOC'!C72 -> 0
B73: ='Pressupost Arrencada VIDEOJOC'!B73 -> 04.03. | C73: ='Pressupost Arrencada VIDEOJOC'!C73 -> Doblatge
B74: ='Pressupost Arrencada VIDEOJOC'!B74 -> 04.03.01. | C74: ='Pressupost Arrencada VIDEOJOC'!C74 -> Director/a doblatge | D74: ='Pressupost Arrencada VIDEOJOC'!D74 -> 0 | E74: ='Pressupost Arrencada VIDEOJOC'!N74 -> 0 | G74: =F74-E74 -> 0
B75: ='Pressupost Arrencada VIDEOJOC'!B75 -> 04.03.02. | C75: ='Pressupost Arrencada VIDEOJOC'!C75 -> Doblador/a per | D75: ='Pressupost Arrencada VIDEOJOC'!D75 -> 0 | E75: ='Pressupost Arrencada VIDEOJOC'!N75 -> 0 | G75: =F75-E75 -> 0
B76: ='Pressupost Arrencada VIDEOJOC'!B76 -> 04.03.03. | C76: ='Pressupost Arrencada VIDEOJOC'!C76 -> Doblador/a per | D76: ='Pressupost Arrencada VIDEOJOC'!D76 -> 0 | E76: ='Pressupost Arrencada VIDEOJOC'!N76 -> 0 | G76: =F76-E76 -> 0
B77: ='Pressupost Arrencada VIDEOJOC'!B77 -> 04.03.04. | C77: ='Pressupost Arrencada VIDEOJOC'!C77 -> Doblador/a per | D77: ='Pressupost Arrencada VIDEOJOC'!D77 -> 0 | E77: ='Pressupost Arrencada VIDEOJOC'!N77 -> 0 | G77: =F77-E77 -> 0
B78: ='Pressupost Arrencada VIDEOJOC'!B78 -> 04.03.05. | C78: ='Pressupost Arrencada VIDEOJOC'!C78 -> Altres locucions en X idiomes | D78: ='Pressupost Arrencada VIDEOJOC'!D78 -> 0 | E78: ='Pressupost Arrencada VIDEOJOC'!N78 -> 0 | G78: =F78-E78 -> 0
B79: ='Pressupost Arrencada VIDEOJOC'!B79 -> 04.03.06. | C79: ='Pressupost Arrencada VIDEOJOC'!C79 -> 0 | D79: ='Pressupost Arrencada VIDEOJOC'!D79 -> 0 | E79: ='Pressupost Arrencada VIDEOJOC'!N79 -> 0 | G79: =F79-E79 -> 0
B80: ='Pressupost Arrencada VIDEOJOC'!B80 -> 04.03.07. | C80: ='Pressupost Arrencada VIDEOJOC'!C80 -> 0 | D80: ='Pressupost Arrencada VIDEOJOC'!D80 -> 0 | E80: ='Pressupost Arrencada VIDEOJOC'!N80 -> 0 | G80: =F80-E80 -> 0
C81: ='Pressupost Arrencada VIDEOJOC'!C81 -> TOTAL 04.03. Doblatge | D81: ='Pressupost Arrencada VIDEOJOC'!D81 -> 0 | E81: ='Pressupost Arrencada VIDEOJOC'!N81 -> 0 | F81: =SUM(F74:F80) -> 0 | G81: =SUM(G74:G80) -> 0
C82: ="TOTAL" & " " &C52 -> TOTAL CAPÍTOL 04.-Video, Àudio i Doblatge | E82: ='Pressupost Arrencada VIDEOJOC'!N82 -> 0 | F82: =SUM(F81+F71+F60) -> 0 | G82: =SUM(G81+G71+G60) -> 0 | DL82: =(DL65 + DL81) -> 0
C84: ='Pressupost Arrencada VIDEOJOC'!C84 -> CAPÍTOL 05.-Porting
B85: ='Pressupost Arrencada VIDEOJOC'!B85 -> Núm. Compte
B86: ='Pressupost Arrencada VIDEOJOC'!B86 -> 05.01 | C86: ='Pressupost Arrencada VIDEOJOC'!C86 -> Adaptació a videoconsoles (1 a X) | D86: ='Pressupost Arrencada VIDEOJOC'!D86 -> 0 | E86: ='Pressupost Arrencada VIDEOJOC'!N86 -> 0 | G86: =F86-E86 -> 0
B87: ='Pressupost Arrencada VIDEOJOC'!B87 -> 05.02 | C87: ='Pressupost Arrencada VIDEOJOC'!C87 -> Publicació en els diversos markets (1 a X) | D87: ='Pressupost Arrencada VIDEOJOC'!D87 -> 0 | E87: ='Pressupost Arrencada VIDEOJOC'!N87 -> 0 | G87: =F87-E87 -> 0 | DL87: =(IF(#REF!=0,1,#REF!)*IF(#REF!=0,1,#REF!)*#REF! )+#REF!*IF(#REF!=0,1,#REF!)*IF(#REF!=0,1,#REF!) -> #REF!
B88: ='Pressupost Arrencada VIDEOJOC'!B88 -> 05.03 | C88: ='Pressupost Arrencada VIDEOJOC'!C88 -> 0 | D88: ='Pressupost Arrencada VIDEOJOC'!D88 -> 0 | E88: ='Pressupost Arrencada VIDEOJOC'!N88 -> 0 | G88: =F88-E88 -> 0 | DL88: =(IF(#REF!=0,1,#REF!)*IF(#REF!=0,1,#REF!)*#REF! )+#REF!*IF(#REF!=0,1,#REF!)*IF(#REF!=0,1,#REF!) -> #REF!
B89: ='Pressupost Arrencada VIDEOJOC'!B89 -> 05.04 | C89: ='Pressupost Arrencada VIDEOJOC'!C89 -> 0 | D89: ='Pressupost Arrencada VIDEOJOC'!D89 -> 0 | E89: ='Pressupost Arrencada VIDEOJOC'!N89 -> 0 | G89: =F89-E89 -> 0 | DL89: =(IF(#REF!=0,1,#REF!)*IF(#REF!=0,1,#REF!)*#REF! )+#REF!*IF(#REF!=0,1,#REF!)*IF(#REF!=0,1,#REF!) -> #REF!
B90: ='Pressupost Arrencada VIDEOJOC'!B90 -> 05.05 | C90: ='Pressupost Arrencada VIDEOJOC'!C90 -> 0 | D90: ='Pressupost Arrencada VIDEOJOC'!D90 -> 0 | E90: ='Pressupost Arrencada VIDEOJOC'!N90 -> 0 | G90: =F90-E90 -> 0 | DL90: =(IF(#REF!=0,1,#REF!)*IF(#REF!=0,1,#REF!)*#REF! )+#REF!*IF(#REF!=0,1,#REF!)*IF(#REF!=0,1,#REF!) -> #REF!
B91: ='Pressupost Arrencada VIDEOJOC'!B91 -> 0 | C91: ='Pressupost Arrencada VIDEOJOC'!C91 -> 0 | D91: ='Pressupost Arrencada VIDEOJOC'!D91 -> 0 | E91: ='Pressupost Arrencada VIDEOJOC'!N91 -> 0 | F91: =SUM(F86:F90) -> 0 | G91: =SUM(G86:G90) -> 0 | DL91: =(IF(#REF!=0,1,#REF!)*IF(#REF!=0,1,#REF!)*#REF! )+#REF!*IF(#REF!=0,1,#REF!)*IF(#REF!=0,1,#REF!) -> #REF!
C92: ="TOTAL" & " " &C84 -> TOTAL CAPÍTOL 05.-Porting | E92: ='Pressupost Arrencada VIDEOJOC'!N92 -> 0 | F92: =SUM(F91) -> 0 | G92: =SUM(G91) -> 0 | DL92: =(DL75 + DL91) -> #REF!
C94: ='Pressupost Arrencada VIDEOJOC'!C94 -> CAPÍTOL 06.- Q&A/testing
B95: ='Pressupost Arrencada VIDEOJOC'!B95 -> Núm. Compte
B96: ='Pressupost Arrencada VIDEOJOC'!B96 -> 06.01 | C96: ='Pressupost Arrencada VIDEOJOC'!C96 -> Testing Videojocs | D96: ='Pressupost Arrencada VIDEOJOC'!D96 -> 0 | E96: ='Pressupost Arrencada VIDEOJOC'!N96 -> 0 | G96: =F96-E96 -> 0
B97: ='Pressupost Arrencada VIDEOJOC'!B97 -> 06.02 | C97: ='Pressupost Arrencada VIDEOJOC'!C97 -> Q/A Assessorament Qualitat | D97: ='Pressupost Arrencada VIDEOJOC'!D97 -> 0 | E97: ='Pressupost Arrencada VIDEOJOC'!N97 -> 0 | G97: =F97-E97 -> 0 | DL97: =(IF(#REF!=0,1,#REF!)*IF(#REF!=0,1,#REF!)*#REF! )+#REF!*IF(#REF!=0,1,#REF!)*IF(#REF!=0,1,#REF!) -> #REF!
B98: ='Pressupost Arrencada VIDEOJOC'!B98 -> 06.03 | C98: ='Pressupost Arrencada VIDEOJOC'!C98 -> 0 | D98: ='Pressupost Arrencada VIDEOJOC'!D98 -> 0 | E98: ='Pressupost Arrencada VIDEOJOC'!N98 -> 0 | G98: =F98-E98 -> 0 | DL98: =(IF(#REF!=0,1,#REF!)*IF(#REF!=0,1,#REF!)*#REF! )+#REF!*IF(#REF!=0,1,#REF!)*IF(#REF!=0,1,#REF!) -> #REF!
B99: ='Pressupost Arrencada VIDEOJOC'!B99 -> 06.04 | C99: ='Pressupost Arrencada VIDEOJOC'!C99 -> 0 | D99: ='Pressupost Arrencada VIDEOJOC'!D99 -> 0 | E99: ='Pressupost Arrencada VIDEOJOC'!N99 -> 0 | G99: =F99-E99 -> 0 | DL99: =(IF(#REF!=0,1,#REF!)*IF(#REF!=0,1,#REF!)*#REF! )+#REF!*IF(#REF!=0,1,#REF!)*IF(#REF!=0,1,#REF!) -> #REF!
B100: ='Pressupost Arrencada VIDEOJOC'!B101 -> 0 | C100: ='Pressupost Arrencada VIDEOJOC'!C100 -> 0 | D100: ='Pressupost Arrencada VIDEOJOC'!D100 -> 0 | E100: ='Pressupost Arrencada VIDEOJOC'!N100 -> 0 | F100: =SUM(F96:F99) -> 0 | G100: =SUM(G96:G99) -> 0 | DL100: =(IF(#REF!=0,1,#REF!)*IF(#REF!=0,1,#REF!)*#REF! )+#REF!*IF(#REF!=0,1,#REF!)*IF(#REF!=0,1,#REF!) -> #REF!
C101: ="TOTAL" & " " &C94 -> TOTAL CAPÍTOL 06.- Q&A/testing | E101: ='Pressupost Arrencada VIDEOJOC'!N102 -> 0 | F101: =F100 -> 0 | G101: =G100 -> 0 | DL101: =(DL85 + DL100) -> #REF!
B102: ='Pressupost Arrencada VIDEOJOC'!B201 -> 0 | C102: ='Pressupost Arrencada VIDEOJOC'!C201 -> 0 | D102: ='Pressupost Arrencada VIDEOJOC'!D201 -> 0 | E102: ='Pressupost Arrencada VIDEOJOC'!N201 -> 0 | G102: =F102-E102 -> 0 | DL102: =(IF(#REF!=0,1,#REF!)*IF(#REF!=0,1,#REF!)*#REF! )+#REF!*IF(#REF!=0,1,#REF!)*IF(#REF!=0,1,#REF!) -> #REF!
C103: ='Pressupost Arrencada VIDEOJOC'!C103 -> CAPÍTOL 07.- Backoffice
B104: ='Pressupost Arrencada VIDEOJOC'!B104 -> Núm. Compte
B105: ='Pressupost Arrencada VIDEOJOC'!B105 -> 07.01 | C105: ='Pressupost Arrencada VIDEOJOC'!C105 -> Servidor | D105: ='Pressupost Arrencada VIDEOJOC'!D105 -> 0 | E105: ='Pressupost Arrencada VIDEOJOC'!N105 -> 0 | G105: =F105-E105 -> 0
...

Sheet Realitats Produccio VIDEOJOC
B1: =Portada!B1 -> Actualització a: 03/03/2026 | D1: Realitats Producció TV (Arrencada)
A2: Capítols de despesa | D2: Nom / Concepte | E2: Pressupostat | F2: Realitat | G2: Diferència
C5: ='Pressupost Producció VIDEOJOC'!C5 -> CAPÍTOL 01.- Pre-project i Game Design (GDD)
B6: ='Pressupost Producció VIDEOJOC'!B6 -> Núm. Compte
B7: ='Pressupost Producció VIDEOJOC'!B7 -> 01.01 | C7: ='Pressupost Producció VIDEOJOC'!C7 -> Benchmarking
B8: ='Pressupost Producció VIDEOJOC'!B8 -> 01.02 | C8: ='Pressupost Producció VIDEOJOC'!C8 -> Concepts/Storyboard | D8: ='Pressupost Producció VIDEOJOC'!D8 -> 0 | E8: ='Pressupost Producció VIDEOJOC'!N8 -> 0 | G8: =F8-E8 -> 0 | DL8: =(IF(#REF!=0,1,#REF!)*IF(#REF!=0,1,#REF!)*#REF! )+#REF!*IF(#REF!=0,1,#REF!)*IF(#REF!=0,1,#REF!) -> #REF!
B9: ='Pressupost Producció VIDEOJOC'!B9 -> 01.03 | C9: ='Pressupost Producció VIDEOJOC'!C9 -> Game Design Document | D9: ='Pressupost Producció VIDEOJOC'!D9 -> 0 | E9: ='Pressupost Producció VIDEOJOC'!N9 -> 0 | G9: =F9-E9 -> 0 | DL9: =(IF(#REF!=0,1,#REF!)*IF(#REF!=0,1,#REF!)*#REF! )+#REF!*IF(#REF!=0,1,#REF!)*IF(#REF!=0,1,#REF!) -> #REF!
B10: ='Pressupost Producció VIDEOJOC'!B10 -> 01.04 | C10: ='Pressupost Producció VIDEOJOC'!C10 -> Guió Literari | D10: ='Pressupost Producció VIDEOJOC'!D10 -> 0 | E10: ='Pressupost Producció VIDEOJOC'!N10 -> 0 | G10: =F10-E10 -> 0 | DL10: =(IF(#REF!=0,1,#REF!)*IF(#REF!=0,1,#REF!)*#REF! )+#REF!*IF(#REF!=0,1,#REF!)*IF(#REF!=0,1,#REF!) -> #REF!
B11: ='Pressupost Producció VIDEOJOC'!B11 -> 01.05 | C11: ='Pressupost Producció VIDEOJOC'!C11 -> Diàlegs | D11: ='Pressupost Producció VIDEOJOC'!D11 -> 0 | E11: ='Pressupost Producció VIDEOJOC'!N11 -> 0 | G11: =F11-E11 -> 0 | DL11: =(IF(#REF!=0,1,#REF!)*IF(#REF!=0,1,#REF!)*#REF! )+#REF!*IF(#REF!=0,1,#REF!)*IF(#REF!=0,1,#REF!) -> #REF!
B12: ='Pressupost Producció VIDEOJOC'!B12 -> 01.06 | C12: ='Pressupost Producció VIDEOJOC'!C12 -> Traduccions | D12: ='Pressupost Producció VIDEOJOC'!D12 -> 0 | E12: ='Pressupost Producció VIDEOJOC'!N12 -> 0 | G12: =F12-E12 -> 0 | DL12: =(IF(#REF!=0,1,#REF!)*IF(#REF!=0,1,#REF!)*#REF! )+#REF!*IF(#REF!=0,1,#REF!)*IF(#REF!=0,1,#REF!) -> #REF!
B13: ='Pressupost Producció VIDEOJOC'!B13 -> 01.07 | C13: ='Pressupost Producció VIDEOJOC'!C13 -> Level Design | D13: ='Pressupost Producció VIDEOJOC'!D13 -> 0 | E13: ='Pressupost Producció VIDEOJOC'!N13 -> 0 | G13: =F13-E13 -> 0 | DL13: =(IF(#REF!=0,1,#REF!)*IF(#REF!=0,1,#REF!)*#REF! )+#REF!*IF(#REF!=0,1,#REF!)*IF(#REF!=0,1,#REF!) -> #REF!
B14: ='Pressupost Producció VIDEOJOC'!B14 -> 01.08 | C14: ='Pressupost Producció VIDEOJOC'!C14 -> 0 | D14: ='Pressupost Producció VIDEOJOC'!D14 -> 0 | E14: ='Pressupost Producció VIDEOJOC'!N14 -> 0 | G14: =F14-E14 -> 0 | DL14: =(IF(#REF!=0,1,#REF!)*IF(#REF!=0,1,#REF!)*#REF! )+#REF!*IF(#REF!=0,1,#REF!)*IF(#REF!=0,1,#REF!) -> #REF!
B15: ='Pressupost Producció VIDEOJOC'!B15 -> 01.09 | C15: ='Pressupost Producció VIDEOJOC'!C15 -> 0 | D15: ='Pressupost Producció VIDEOJOC'!D15 -> 0 | E15: ='Pressupost Producció VIDEOJOC'!N15 -> 0 | G15: =F15-E15 -> 0 | DL15: =(IF(#REF!=0,1,#REF!)*IF(#REF!=0,1,#REF!)*#REF! )+#REF!*IF(#REF!=0,1,#REF!)*IF(#REF!=0,1,#REF!) -> #REF!
B16: ='Pressupost Producció VIDEOJOC'!B16 -> 01.10 | C16: ='Pressupost Producció VIDEOJOC'!C16 -> 0 | D16: ='Pressupost Producció VIDEOJOC'!D16 -> 0 | E16: ='Pressupost Producció VIDEOJOC'!N16 -> 0 | G16: =F16-E16 -> 0 | DL16: =(IF(#REF!=0,1,#REF!)*IF(#REF!=0,1,#REF!)*#REF! )+#REF!*IF(#REF!=0,1,#REF!)*IF(#REF!=0,1,#REF!) -> #REF!
B17: ='Pressupost Producció VIDEOJOC'!B17 -> 0 | C17: ='Pressupost Producció VIDEOJOC'!C17 -> 0 | D17: ='Pressupost Producció VIDEOJOC'!D17 -> 0 | E17: ='Pressupost Producció VIDEOJOC'!N17 -> 0 | F17: =SUM(F7:F16) -> 0 | G17: =SUM(G7:G16) -> 0 | DL17: =(IF(#REF!=0,1,#REF!)*IF(#REF!=0,1,#REF!)*#REF! )+#REF!*IF(#REF!=0,1,#REF!)*IF(#REF!=0,1,#REF!) -> #REF!
C18: ="TOTAL" & " " &C5 -> TOTAL CAPÍTOL 01.- Pre-project i Game Design (GDD) | E18: ='Pressupost Producció VIDEOJOC'!N18 -> 0 | F18: =F17 -> 0 | G18: =G17 -> 0 | DL18: =SUM(DL8:DL17) -> #REF!
B19: ='Pressupost Producció VIDEOJOC'!B19 -> 0
B20: ='Pressupost Producció VIDEOJOC'!B20 -> 0 | C20: ='Pressupost Producció VIDEOJOC'!C20 -> CAPÍTOL 02.- Art
B21: ='Pressupost Producció VIDEOJOC'!B21 -> Núm. Compte | C21: ='Pressupost Producció VIDEOJOC'!C21 -> 0 | D21: ='Pressupost Producció VIDEOJOC'!D21 -> 0 | E21: ='Pressupost Producció VIDEOJOC'!N21 -> 0 | G21: =F21-E21 -> 0 | DL21: =(IF(#REF!=0,1,#REF!)*IF(#REF!=0,1,#REF!)*#REF! )+#REF!*IF(#REF!=0,1,#REF!)*IF(#REF!=0,1,#REF!) -> #REF!
B22: ='Pressupost Producció VIDEOJOC'!B22 -> 02.01 | C22: ='Pressupost Producció VIDEOJOC'!C22 -> Brandbook (Biblia artística i logotip) | D22: ='Pressupost Producció VIDEOJOC'!D22 -> 0 | E22: ='Pressupost Producció VIDEOJOC'!N22 -> 0 | G22: =F22-E22 -> 0 | DL22: =(IF(#REF!=0,1,#REF!)*IF(#REF!=0,1,#REF!)*#REF! )+#REF!*IF(#REF!=0,1,#REF!)*IF(#REF!=0,1,#REF!) -> #REF!
B23: ='Pressupost Producció VIDEOJOC'!B23 -> 02.02 | C23: ='Pressupost Producció VIDEOJOC'!C23 -> Entorn General (Overview) | D23: ='Pressupost Producció VIDEOJOC'!D23 -> 0 | E23: ='Pressupost Producció VIDEOJOC'!N23 -> 0 | G23: =F23-E23 -> 0 | DL23: =(IF(#REF!=0,1,#REF!)*IF(#REF!=0,1,#REF!)*#REF! )+#REF!*IF(#REF!=0,1,#REF!)*IF(#REF!=0,1,#REF!) -> #REF!
B24: ='Pressupost Producció VIDEOJOC'!B24 -> 02.03 | C24: ='Pressupost Producció VIDEOJOC'!C24 -> Escenaris | D24: ='Pressupost Producció VIDEOJOC'!D24 -> 0 | E24: ='Pressupost Producció VIDEOJOC'!N24 -> 0 | G24: =F24-E24 -> 0 | DL24: =(IF(#REF!=0,1,#REF!)*IF(#REF!=0,1,#REF!)*#REF! )+#REF!*IF(#REF!=0,1,#REF!)*IF(#REF!=0,1,#REF!) -> #REF!
B25: ='Pressupost Producció VIDEOJOC'!B25 -> 02.04 | C25: ='Pressupost Producció VIDEOJOC'!C25 -> Objectes, vehicles, ítems | D25: ='Pressupost Producció VIDEOJOC'!D25 -> 0 | E25: ='Pressupost Producció VIDEOJOC'!N25 -> 0 | G25: =F25-E25 -> 0 | DL25: =(IF(#REF!=0,1,#REF!)*IF(#REF!=0,1,#REF!)*#REF! )+#REF!*IF(#REF!=0,1,#REF!)*IF(#REF!=0,1,#REF!) -> #REF!
B26: ='Pressupost Producció VIDEOJOC'!B26 -> 02.05 | C26: ='Pressupost Producció VIDEOJOC'!C26 -> Personatges | D26: ='Pressupost Producció VIDEOJOC'!D26 -> 0 | E26: ='Pressupost Producció VIDEOJOC'!N26 -> 0 | G26: =F26-E26 -> 0 | DL26: =(IF(#REF!=0,1,#REF!)*IF(#REF!=0,1,#REF!)*#REF! )+#REF!*IF(#REF!=0,1,#REF!)*IF(#REF!=0,1,#REF!) -> #REF!
B27: ='Pressupost Producció VIDEOJOC'!B27 -> 02.06 | C27: ='Pressupost Producció VIDEOJOC'!C27 -> Elements d'interfície | D27: ='Pressupost Producció VIDEOJOC'!D27 -> 0 | E27: ='Pressupost Producció VIDEOJOC'!N27 -> 0 | G27: =F27-E27 -> 0
B28: ='Pressupost Producció VIDEOJOC'!B28 -> 02.07 | C28: ='Pressupost Producció VIDEOJOC'!C28 -> Pantalles de transició | D28: ='Pressupost Producció VIDEOJOC'!D28 -> 0 | E28: ='Pressupost Producció VIDEOJOC'!N28 -> 0 | G28: =F28-E28 -> 0
B29: ='Pressupost Producció VIDEOJOC'!B29 -> 02.08 | C29: ='Pressupost Producció VIDEOJOC'!C29 -> Animacions | D29: ='Pressupost Producció VIDEOJOC'!D29 -> 0 | E29: ='Pressupost Producció VIDEOJOC'!N29 -> 0 | G29: =F29-E29 -> 0
B30: ='Pressupost Producció VIDEOJOC'!B30 -> 02.09 | C30: ='Pressupost Producció VIDEOJOC'!C30 -> Adaptació a videoconsoles i formats (De 1 a X) | D30: ='Pressupost Producció VIDEOJOC'!D30 -> 0 | E30: ='Pressupost Producció VIDEOJOC'!N30 -> 0 | G30: =F30-E30 -> 0
B31: ='Pressupost Producció VIDEOJOC'!B31 -> 02.10 | C31: ='Pressupost Producció VIDEOJOC'!C31 -> 0 | D31: ='Pressupost Producció VIDEOJOC'!D31 -> 0 | E31: ='Pressupost Producció VIDEOJOC'!N31 -> 0 | G31: =F31-E31 -> 0
B32: ='Pressupost Producció VIDEOJOC'!B32 -> 02.11 | C32: ='Pressupost Producció VIDEOJOC'!C32 -> 0 | D32: ='Pressupost Producció VIDEOJOC'!D32 -> 0 | E32: ='Pressupost Producció VIDEOJOC'!N32 -> 0 | G32: =F32-E32 -> 0
B33: ='Pressupost Producció VIDEOJOC'!B33 -> 02.12 | C33: ='Pressupost Producció VIDEOJOC'!C33 -> 0 | D33: ='Pressupost Producció VIDEOJOC'!D33 -> 0 | E33: ='Pressupost Producció VIDEOJOC'!N33 -> 0 | G33: =F33-E33 -> 0
C34: ='Pressupost Producció VIDEOJOC'!C34 -> 0 | D34: ='Pressupost Producció VIDEOJOC'!D34 -> 0 | E34: ='Pressupost Producció VIDEOJOC'!N34 -> 0 | F34: =SUM(F22:F33) -> 0 | G34: =SUM(G21:G33) -> 0 | DL34: =SUM(DL21:DL26) -> #REF!
C35: ="TOTAL" & " " &C20 -> TOTAL CAPÍTOL 02.- Art | E35: ='Pressupost Producció VIDEOJOC'!N35 -> 0 | F35: =F34 -> 0 | G35: =G34 -> 0 | DL35: =(DL18 + DL34) -> #REF!
B37: ='Pressupost Producció VIDEOJOC'!B37 -> 0 | C37: ='Pressupost Producció VIDEOJOC'!C37 -> CAPÍTOL 03.- Desenvolupament
B38: ='Pressupost Producció VIDEOJOC'!B38 -> Núm. Compte | C38: ='Pressupost Producció VIDEOJOC'!C38 -> 0
B39: ='Pressupost Producció VIDEOJOC'!B39 -> 03.01 | C39: ='Pressupost Producció VIDEOJOC'!C39 -> Gameplay bàsic | D39: ='Pressupost Producció VIDEOJOC'!D39 -> 0 | E39: ='Pressupost Producció VIDEOJOC'!N39 -> 0 | G39: =F39-E39 -> 0
B40: ='Pressupost Producció VIDEOJOC'!B40 -> 03.02 | C40: ='Pressupost Producció VIDEOJOC'!C40 -> Integració de llibreries | D40: ='Pressupost Producció VIDEOJOC'!D40 -> 0 | E40: ='Pressupost Producció VIDEOJOC'!N40 -> 0 | G40: =F40-E40 -> 0
B41: ='Pressupost Producció VIDEOJOC'!B41 -> 03.03 | C41: ='Pressupost Producció VIDEOJOC'!C41 -> Prototip/Vertical Slice | D41: ='Pressupost Producció VIDEOJOC'!D41 -> 0 | E41: ='Pressupost Producció VIDEOJOC'!N41 -> 0 | G41: =F41-E41 -> 0
B42: ='Pressupost Producció VIDEOJOC'!B42 -> 03.04 | C42: ='Pressupost Producció VIDEOJOC'!C42 -> Implementació de nivells (De 1 a X) | D42: ='Pressupost Producció VIDEOJOC'!D42 -> 0 | E42: ='Pressupost Producció VIDEOJOC'!N42 -> 0 | G42: =F42-E42 -> 0
B43: ='Pressupost Producció VIDEOJOC'!B43 -> 03.05 | C43: ='Pressupost Producció VIDEOJOC'!C43 -> Gameplay Avançat | D43: ='Pressupost Producció VIDEOJOC'!D43 -> 0 | E43: ='Pressupost Producció VIDEOJOC'!N43 -> 0 | G43: =F43-E43 -> 0
B44: ='Pressupost Producció VIDEOJOC'!B44 -> 03.06 | C44: ='Pressupost Producció VIDEOJOC'!C44 -> Correcció de bugs | D44: ='Pressupost Producció VIDEOJOC'!D44 -> 0 | E44: ='Pressupost Producció VIDEOJOC'!N44 -> 0 | G44: =F44-E44 -> 0
B45: ='Pressupost Producció VIDEOJOC'!B45 -> 03.07 | C45: ='Pressupost Producció VIDEOJOC'!C45 -> Adaptació a videocònsoles (De 1 a X) | D45: ='Pressupost Producció VIDEOJOC'!D45 -> 0 | E45: ='Pressupost Producció VIDEOJOC'!N45 -> 0 | G45: =F45-E45 -> 0
B46: ='Pressupost Producció VIDEOJOC'!B46 -> 03.08 | C46: ='Pressupost Producció VIDEOJOC'!C46 -> 0 | D46: ='Pressupost Producció VIDEOJOC'!D46 -> 0 | E46: ='Pressupost Producció VIDEOJOC'!N46 -> 0 | G46: =F46-E46 -> 0
B47: ='Pressupost Producció VIDEOJOC'!B47 -> 03.09 | C47: ='Pressupost Producció VIDEOJOC'!C47 -> 0 | D47: ='Pressupost Producció VIDEOJOC'!D47 -> 0 | E47: ='Pressupost Producció VIDEOJOC'!N47 -> 0 | G47: =F47-E47 -> 0
B48: ='Pressupost Producció VIDEOJOC'!B48 -> 03.10 | C48: ='Pressupost Producció VIDEOJOC'!C48 -> 0 | D48: ='Pressupost Producció VIDEOJOC'!D48 -> 0 | E48: ='Pressupost Producció VIDEOJOC'!N48 -> 0 | G48: =F48-E48 -> 0
C49: ='Pressupost Producció VIDEOJOC'!C49 -> 0 | D49: ='Pressupost Producció VIDEOJOC'!D49 -> 0 | E49: ='Pressupost Producció VIDEOJOC'!N49 -> 0 | F49: =SUM(F39:F48) -> 0 | G49: =SUM(G39:G48) -> 0
C50: ="TOTAL" & " " &C37 -> TOTAL CAPÍTOL 03.- Desenvolupament | E50: ='Pressupost Producció VIDEOJOC'!N50 -> 0 | F50: =F49 -> 0 | G50: =G49 -> 0 | DL50: =(DL33 + DL49) -> 0
B51: ='Pressupost Producció VIDEOJOC'!B51 -> 0 | C51: ='Pressupost Producció VIDEOJOC'!C51 -> 0
B52: ='Pressupost Producció VIDEOJOC'!B52 -> 0 | C52: ='Pressupost Producció VIDEOJOC'!C52 -> CAPÍTOL 04.-Video, Àudio i Doblatge
B53: ='Pressupost Producció VIDEOJOC'!B53 -> Núm. Compte | C53: ='Pressupost Producció VIDEOJOC'!C53 -> 0
B54: ='Pressupost Producció VIDEOJOC'!B54 -> 04.01. | C54: ='Pressupost Producció VIDEOJOC'!C54 -> Video | D54: ='Pressupost Producció VIDEOJOC'!D54 -> 0 | E54: ='Pressupost Producció VIDEOJOC'!N54 -> 0 | G54: =F54-E54 -> 0
B55: ='Pressupost Producció VIDEOJOC'!B55 -> 04.01.01. | C55: ='Pressupost Producció VIDEOJOC'!C55 -> Animacions | D55: ='Pressupost Producció VIDEOJOC'!D55 -> 0 | E55: ='Pressupost Producció VIDEOJOC'!N55 -> 0 | G55: =F55-E55 -> 0
B56: ='Pressupost Producció VIDEOJOC'!B56 -> 04.01.02. | C56: ='Pressupost Producció VIDEOJOC'!C56 -> Escenes cinemàtiques | D56: ='Pressupost Producció VIDEOJOC'!D56 -> 0 | E56: ='Pressupost Producció VIDEOJOC'!N56 -> 0 | G56: =F56-E56 -> 0
B57: ='Pressupost Producció VIDEOJOC'!B57 -> 04.01.03. | C57: ='Pressupost Producció VIDEOJOC'!C57 -> 0 | D57: ='Pressupost Producció VIDEOJOC'!D57 -> 0 | E57: ='Pressupost Producció VIDEOJOC'!N57 -> 0 | G57: =F57-E57 -> 0
B58: ='Pressupost Producció VIDEOJOC'!B58 -> 04.01.04. | C58: ='Pressupost Producció VIDEOJOC'!C58 -> 0 | D58: ='Pressupost Producció VIDEOJOC'!D58 -> 0 | E58: ='Pressupost Producció VIDEOJOC'!N58 -> 0 | G58: =F58-E58 -> 0
B59: ='Pressupost Producció VIDEOJOC'!B59 -> 04.01.05. | C59: ='Pressupost Producció VIDEOJOC'!C59 -> 0 | D59: ='Pressupost Producció VIDEOJOC'!D59 -> 0 | E59: ='Pressupost Producció VIDEOJOC'!N59 -> 0 | G59: =F59-E59 -> 0
C60: ='Pressupost Producció VIDEOJOC'!C60 -> TOTAL 04.01. Video | D60: ='Pressupost Producció VIDEOJOC'!D60 -> 0 | E60: ='Pressupost Producció VIDEOJOC'!E60 -> 0 | F60: =SUM(F55:F59) -> 0 | G60: =SUM(G55:G59) -> 0
B61: ='Pressupost Producció VIDEOJOC'!B61 -> Núm. Compte | C61: ='Pressupost Producció VIDEOJOC'!C61 -> 0
B62: ='Pressupost Producció VIDEOJOC'!B62 -> 04.02. | C62: ='Pressupost Producció VIDEOJOC'!C62 -> Àudio
B63: ='Pressupost Producció VIDEOJOC'!B63 -> 04.02.01. | C63: ='Pressupost Producció VIDEOJOC'!C63 -> Banda sonora | D63: ='Pressupost Producció VIDEOJOC'!D63 -> 0 | E63: ='Pressupost Producció VIDEOJOC'!N63 -> 0 | G63: =F63-E63 -> 0
B64: ='Pressupost Producció VIDEOJOC'!B64 -> 04.02.02. | C64: ='Pressupost Producció VIDEOJOC'!C64 -> Efectes d'àudio | D64: ='Pressupost Producció VIDEOJOC'!D64 -> 0 | E64: ='Pressupost Producció VIDEOJOC'!N64 -> 0 | G64: =F64-E64 -> 0
B65: ='Pressupost Producció VIDEOJOC'!B65 -> 04.02.03 | C65: ='Pressupost Producció VIDEOJOC'!C65 -> Música Original | D65: ='Pressupost Producció VIDEOJOC'!D65 -> 0 | E65: ='Pressupost Producció VIDEOJOC'!N65 -> 0 | G65: =F65-E65 -> 0
B66: ='Pressupost Producció VIDEOJOC'!B66 -> 04.02.04 | C66: ='Pressupost Producció VIDEOJOC'!C66 -> Música de llibreria | D66: ='Pressupost Producció VIDEOJOC'!D66 -> 0 | E66: ='Pressupost Producció VIDEOJOC'!N66 -> 0 | G66: =F66-E66 -> 0
B67: ='Pressupost Producció VIDEOJOC'!B67 -> 04.02.05 | C67: ='Pressupost Producció VIDEOJOC'!C67 -> Arranjaments | D67: ='Pressupost Producció VIDEOJOC'!D67 -> 0 | E67: ='Pressupost Producció VIDEOJOC'!N67 -> 0 | G67: =F67-E67 -> 0
B68: ='Pressupost Producció VIDEOJOC'!B68 -> 04.02.06 | C68: ='Pressupost Producció VIDEOJOC'!C68 -> 0 | D68: ='Pressupost Producció VIDEOJOC'!D68 -> 0 | E68: ='Pressupost Producció VIDEOJOC'!N68 -> 0 | G68: =F68-E68 -> 0
B69: ='Pressupost Producció VIDEOJOC'!B69 -> 04.02.07 | C69: ='Pressupost Producció VIDEOJOC'!C69 -> 0 | D69: ='Pressupost Producció VIDEOJOC'!D69 -> 0 | E69: ='Pressupost Producció VIDEOJOC'!N69 -> 0 | G69: =F69-E69 -> 0
B70: ='Pressupost Producció VIDEOJOC'!B70 -> 04.02.08 | C70: ='Pressupost Producció VIDEOJOC'!C70 -> 0 | D70: ='Pressupost Producció VIDEOJOC'!D70 -> 0 | E70: ='Pressupost Producció VIDEOJOC'!N70 -> 0 | G70: =F70-E70 -> 0
C71: ='Pressupost Producció VIDEOJOC'!C71 -> TOTAL 04.02. Àudio | D71: ='Pressupost Producció VIDEOJOC'!D71 -> 0 | E71: ='Pressupost Producció VIDEOJOC'!N71 -> 0 | F71: =SUM(F63:F70) -> 0 | G71: =SUM(G63:G70) -> 0
B72: ='Pressupost Producció VIDEOJOC'!B72 -> Núm. Compte | C72: ='Pressupost Producció VIDEOJOC'!C72 -> 0
B73: ='Pressupost Producció VIDEOJOC'!B73 -> 04.03. | C73: ='Pressupost Producció VIDEOJOC'!C73 -> Doblatge
B74: ='Pressupost Producció VIDEOJOC'!B74 -> 04.03.01. | C74: ='Pressupost Producció VIDEOJOC'!C74 -> Director/a doblatge | D74: ='Pressupost Producció VIDEOJOC'!D74 -> 0 | E74: ='Pressupost Producció VIDEOJOC'!N74 -> 0 | G74: =F74-E74 -> 0
B75: ='Pressupost Producció VIDEOJOC'!B75 -> 04.03.02. | C75: ='Pressupost Producció VIDEOJOC'!C75 -> Doblador/a per | D75: ='Pressupost Producció VIDEOJOC'!D75 -> 0 | E75: ='Pressupost Producció VIDEOJOC'!N75 -> 0 | G75: =F75-E75 -> 0
B76: ='Pressupost Producció VIDEOJOC'!B76 -> 04.03.03. | C76: ='Pressupost Producció VIDEOJOC'!C76 -> Doblador/a per | D76: ='Pressupost Producció VIDEOJOC'!D76 -> 0 | E76: ='Pressupost Producció VIDEOJOC'!N76 -> 0 | G76: =F76-E76 -> 0
B77: ='Pressupost Producció VIDEOJOC'!B77 -> 04.03.04. | C77: ='Pressupost Producció VIDEOJOC'!C77 -> Doblador/a per | D77: ='Pressupost Producció VIDEOJOC'!D77 -> 0 | E77: ='Pressupost Producció VIDEOJOC'!N77 -> 0 | G77: =F77-E77 -> 0
B78: ='Pressupost Producció VIDEOJOC'!B78 -> 04.03.05. | C78: ='Pressupost Producció VIDEOJOC'!C78 -> Altres locucions en X idiomes | D78: ='Pressupost Producció VIDEOJOC'!D78 -> 0 | E78: ='Pressupost Producció VIDEOJOC'!N78 -> 0 | G78: =F78-E78 -> 0
B79: ='Pressupost Producció VIDEOJOC'!B79 -> 04.03.06. | C79: ='Pressupost Producció VIDEOJOC'!C79 -> 0 | D79: ='Pressupost Producció VIDEOJOC'!D79 -> 0 | E79: ='Pressupost Producció VIDEOJOC'!N79 -> 0 | G79: =F79-E79 -> 0
B80: ='Pressupost Producció VIDEOJOC'!B80 -> 04.03.07. | C80: ='Pressupost Producció VIDEOJOC'!C80 -> 0 | D80: ='Pressupost Producció VIDEOJOC'!D80 -> 0 | E80: ='Pressupost Producció VIDEOJOC'!N80 -> 0 | G80: =F80-E80 -> 0
C81: ='Pressupost Producció VIDEOJOC'!C81 -> TOTAL Núm. Compte | D81: ='Pressupost Producció VIDEOJOC'!D81 -> 0 | E81: ='Pressupost Producció VIDEOJOC'!N81 -> 0 | F81: =SUM(F74:F80) -> 0 | G81: =SUM(G74:G80) -> 0
C82: ="TOTAL" & " " &C52 -> TOTAL CAPÍTOL 04.-Video, Àudio i Doblatge | E82: ='Pressupost Producció VIDEOJOC'!N82 -> 0 | F82: =SUM(F81+F71+F60) -> 0 | G82: =SUM(G81+G71+G60) -> 0 | DL82: =(DL65 + DL81) -> 0
C84: ='Pressupost Producció VIDEOJOC'!C84 -> CAPÍTOL 05.-Porting
B85: ='Pressupost Producció VIDEOJOC'!B85 -> Núm. Compte
B86: ='Pressupost Producció VIDEOJOC'!B86 -> 05.01 | C86: ='Pressupost Producció VIDEOJOC'!C86 -> Adaptació a videoconsoles (1 a X) | D86: ='Pressupost Producció VIDEOJOC'!D86 -> 0 | E86: ='Pressupost Producció VIDEOJOC'!N86 -> 0 | G86: =F86-E86 -> 0
B87: ='Pressupost Producció VIDEOJOC'!B87 -> 05.02 | C87: ='Pressupost Producció VIDEOJOC'!C87 -> Publicació en els diversos markets (1 a X) | D87: ='Pressupost Producció VIDEOJOC'!D87 -> 0 | E87: ='Pressupost Producció VIDEOJOC'!N87 -> 0 | G87: =F87-E87 -> 0 | DL87: =(IF(#REF!=0,1,#REF!)*IF(#REF!=0,1,#REF!)*#REF! )+#REF!*IF(#REF!=0,1,#REF!)*IF(#REF!=0,1,#REF!) -> #REF!
B88: ='Pressupost Producció VIDEOJOC'!B88 -> 05.03 | C88: ='Pressupost Producció VIDEOJOC'!C88 -> 0 | D88: ='Pressupost Producció VIDEOJOC'!D88 -> 0 | E88: ='Pressupost Producció VIDEOJOC'!N88 -> 0 | G88: =F88-E88 -> 0 | DL88: =(IF(#REF!=0,1,#REF!)*IF(#REF!=0,1,#REF!)*#REF! )+#REF!*IF(#REF!=0,1,#REF!)*IF(#REF!=0,1,#REF!) -> #REF!
B89: ='Pressupost Producció VIDEOJOC'!B89 -> 05.04 | C89: ='Pressupost Producció VIDEOJOC'!C89 -> 0 | D89: ='Pressupost Producció VIDEOJOC'!D89 -> 0 | E89: ='Pressupost Producció VIDEOJOC'!N89 -> 0 | G89: =F89-E89 -> 0 | DL89: =(IF(#REF!=0,1,#REF!)*IF(#REF!=0,1,#REF!)*#REF! )+#REF!*IF(#REF!=0,1,#REF!)*IF(#REF!=0,1,#REF!) -> #REF!
B90: ='Pressupost Producció VIDEOJOC'!B90 -> 05.05 | C90: ='Pressupost Producció VIDEOJOC'!C90 -> 0 | D90: ='Pressupost Producció VIDEOJOC'!D90 -> 0 | E90: ='Pressupost Producció VIDEOJOC'!N90 -> 0 | G90: =F90-E90 -> 0 | DL90: =(IF(#REF!=0,1,#REF!)*IF(#REF!=0,1,#REF!)*#REF! )+#REF!*IF(#REF!=0,1,#REF!)*IF(#REF!=0,1,#REF!) -> #REF!
B91: ='Pressupost Producció VIDEOJOC'!B91 -> 0 | C91: ='Pressupost Producció VIDEOJOC'!C91 -> 0 | D91: ='Pressupost Producció VIDEOJOC'!D91 -> 0 | E91: ='Pressupost Producció VIDEOJOC'!N91 -> 0 | F91: =SUM(F86:F90) -> 0 | G91: =SUM(G86:G90) -> 0 | DL91: =(IF(#REF!=0,1,#REF!)*IF(#REF!=0,1,#REF!)*#REF! )+#REF!*IF(#REF!=0,1,#REF!)*IF(#REF!=0,1,#REF!) -> #REF!
C92: ="TOTAL" & " " &C84 -> TOTAL CAPÍTOL 05.-Porting | E92: ='Pressupost Producció VIDEOJOC'!N92 -> 0 | F92: =SUM(F91) -> 0 | G92: =SUM(G91) -> 0 | DL92: =(DL75 + DL91) -> #REF!
C94: ='Pressupost Producció VIDEOJOC'!C94 -> CAPÍTOL 06.- Q&A/testing
B95: ='Pressupost Producció VIDEOJOC'!B95 -> Núm. Compte
B96: ='Pressupost Producció VIDEOJOC'!B96 -> 06.01 | C96: ='Pressupost Producció VIDEOJOC'!C96 -> Testing Videojocs | D96: ='Pressupost Producció VIDEOJOC'!D96 -> 0 | E96: ='Pressupost Producció VIDEOJOC'!N96 -> 0 | G96: =F96-E96 -> 0
B97: ='Pressupost Producció VIDEOJOC'!B97 -> 06.02 | C97: ='Pressupost Producció VIDEOJOC'!C97 -> Q/A Assessorament Qualitat | D97: ='Pressupost Producció VIDEOJOC'!D97 -> 0 | E97: ='Pressupost Producció VIDEOJOC'!N97 -> 0 | G97: =F97-E97 -> 0 | DL97: =(IF(#REF!=0,1,#REF!)*IF(#REF!=0,1,#REF!)*#REF! )+#REF!*IF(#REF!=0,1,#REF!)*IF(#REF!=0,1,#REF!) -> #REF!
B98: ='Pressupost Producció VIDEOJOC'!B98 -> 06.03 | C98: ='Pressupost Producció VIDEOJOC'!C98 -> 0 | D98: ='Pressupost Producció VIDEOJOC'!D98 -> 0 | E98: ='Pressupost Producció VIDEOJOC'!N98 -> 0 | G98: =F98-E98 -> 0 | DL98: =(IF(#REF!=0,1,#REF!)*IF(#REF!=0,1,#REF!)*#REF! )+#REF!*IF(#REF!=0,1,#REF!)*IF(#REF!=0,1,#REF!) -> #REF!
B99: ='Pressupost Producció VIDEOJOC'!B99 -> 06.04 | C99: ='Pressupost Producció VIDEOJOC'!C99 -> 0 | D99: ='Pressupost Producció VIDEOJOC'!D99 -> 0 | E99: ='Pressupost Producció VIDEOJOC'!N99 -> 0 | G99: =F99-E99 -> 0 | DL99: =(IF(#REF!=0,1,#REF!)*IF(#REF!=0,1,#REF!)*#REF! )+#REF!*IF(#REF!=0,1,#REF!)*IF(#REF!=0,1,#REF!) -> #REF!
B100: ='Pressupost Producció VIDEOJOC'!B101 -> 0 | C100: ='Pressupost Producció VIDEOJOC'!C100 -> 0 | D100: ='Pressupost Producció VIDEOJOC'!D100 -> 0 | E100: ='Pressupost Producció VIDEOJOC'!N100 -> 0 | F100: =SUM(F96:F99) -> 0 | G100: =SUM(G96:G99) -> 0 | DL100: =(IF(#REF!=0,1,#REF!)*IF(#REF!=0,1,#REF!)*#REF! )+#REF!*IF(#REF!=0,1,#REF!)*IF(#REF!=0,1,#REF!) -> #REF!
C101: ="TOTAL" & " " &C94 -> TOTAL CAPÍTOL 06.- Q&A/testing | E101: ='Pressupost Producció VIDEOJOC'!N102 -> 0 | F101: =F100 -> 0 | G101: =G100 -> 0 | DL101: =(DL85 + DL100) -> #REF!
B102: ='Pressupost Producció VIDEOJOC'!B201 -> 0 | C102: ='Pressupost Producció VIDEOJOC'!C201 -> 0 | D102: ='Pressupost Producció VIDEOJOC'!D201 -> 0 | E102: ='Pressupost Producció VIDEOJOC'!N201 -> 0 | G102: =F102-E102 -> 0 | DL102: =(IF(#REF!=0,1,#REF!)*IF(#REF!=0,1,#REF!)*#REF! )+#REF!*IF(#REF!=0,1,#REF!)*IF(#REF!=0,1,#REF!) -> #REF!
C103: ='Pressupost Producció VIDEOJOC'!C103 -> CAPÍTOL 07.- Backoffice
B104: ='Pressupost Producció VIDEOJOC'!B104 -> Núm. Compte
B105: ='Pressupost Producció VIDEOJOC'!B105 -> 07.01 | C105: ='Pressupost Producció VIDEOJOC'!C105 -> Servidor | D105: ='Pressupost Producció VIDEOJOC'!D105 -> 0 | E105: ='Pressupost Producció VIDEOJOC'!N105 -> 0 | G105: =F105-E105 -> 0
...

Sheet Indicacions
A1: =Portada!B1 -> Actualització a: 03/03/2026
B4: Notes i instruccions per emplenar aquest document
B7: Tipologia: Complimentant aquestes columnes s'informa de si la despesa és directa o imputació de costos d'estructura (E) i si prové d'una
B8: empresa vinculada (V).
B10: Quantitat: Nombre de professionals d'una categoria (si no es detallen un a un) o nombre d'elements, mitjans o serveis pressupostats.
B12: Notes explicatives: Resenya aclaridora relativa al capítol en qüestió.
B14: Nº: Nombre d'unitats de mesura dins el perìode contractual de la producció.
B16: Tipus: Unitat de mesura que s'utilitza per a la valoració del cost (mes, setmana, capítol, convocatòria,...) - columna amb un desplegable dels
B17: diferents tipus d'unitats de mesura, pel personal laboral es recomana utilitzar la unitat temporal del mes i mai superior a aquest.
B19: L-TF / L-TT / A: en cas de personal L indica laboral fix (TF) o temporal (TT) i, per tant, nòmina i A autònom.
B20: La L activa la fòrmula de cost de la columna SS. El personal laboral, tant si és artístic com de programa o tècnic,
B21: s'ha de relacionar individualment a no ser que coincideixi la remuneració de persones d'una
B22: mateixa categoria o col·lectiu.
... B37: recomana agrupar conceptes homogènis en una mateixa fila donant la màxima informació a la casella de Notes Explicatives.
B41: Impressió Fulls de Pressupostos | I41: Impressió Fulls de Realitats
D43: Fulls | K43: Fulls
B44: Capítol 1 | D44: 1 | I44: Capítol 1 | K44: 1
B45: Capítol 2 | D45: 2,3 i 4 | I45: Capítol 2 | K45: 2 i 3
B46: Capítol 3 | D46: 5 i 6 | I46: Capítol 3 | K46: 4
B47: Capítol 4 | D47: 7 i 8 | I47: Capítol 4 | K47: 5
B48: Capítol 5 | D48: 9 | I48: Capítol 5 | K48: 6
B49: Capítol 6 | D49: 10 | I49: Capítol 6 | K49: 7
B50: Capítol 7 | D50: 11 | I50: Capítol 7 | K50: 8
B51: Capítol 8 | D51: 12 | I51: Capítol 8 | K51: 9
B52: Capítol 9 | D52: 13 | I52: Capítol 9 | K52: 10
B53: Capítol 10 | D53: 14 | I53: Capítol 10 | K53: 11

Sheet Validació
A1: =Portada!B1 -> Actualització a: 03/03/2026
A3: VALIDACIONS
C4: TELEVISIÓ
C5: ARRENCADA | F5: PRODUCCIÓ
C6: Intr. | D6: Valid. | E6: Difer. | F6: Intr. | G6: Valid. | H6: Difer.
A7: ='Pressupost Producció VIDEOJOC'!C5&REPT(".",120-LEN('Pressupost Producció VIDEOJOC'!C5)) -> CAPÍTOL 01.- Pre-project i Game Design (GDD)............................................................................ | C7: ='Pressupost Arrencada VIDEOJOC'!N18 -> 0 | D7: ='Pressupost Arrencada VIDEOJOC'!EC18 -> 0 | E7: ='Pressupost Arrencada VIDEOJOC'!N18 - 'Pressupost Arrencada VIDEOJOC'!EC18 -> 0 | F7: ='Pressupost Producció VIDEOJOC'!N18 -> 0 | G7: ='Pressupost Producció VIDEOJOC'!EC18 -> 0 | H7: ='Pressupost Producció VIDEOJOC'!N18 -'Pressupost Producció VIDEOJOC'!EC18 -> 0
A8: ='Pressupost Producció VIDEOJOC'!C20&REPT(".",120-LEN('Pressupost Producció VIDEOJOC'!C20)) -> CAPÍTOL 02.- Art........................................................................................................ | C8: ='Pressupost Arrencada VIDEOJOC'!N35 -> 0 | D8: ='Pressupost Arrencada VIDEOJOC'!EC35 -> 0 | E8: ='Pressupost Arrencada VIDEOJOC'!N35 - 'Pressupost Arrencada VIDEOJOC'!EC35 -> 0 | F8: ='Pressupost Producció VIDEOJOC'!N35 -> 0 | G8: ='Pressupost Producció VIDEOJOC'!EC35 -> 0 | H8: ='Pressupost Producció VIDEOJOC'!N35 -'Pressupost Producció VIDEOJOC'!EC35 -> 0
A9: ='Pressupost Producció VIDEOJOC'!C37&REPT(".",120-LEN('Pressupost Producció VIDEOJOC'!C37)) -> CAPÍTOL 03.- Desenvolupament............................................................................................ | C9: ='Pressupost Arrencada VIDEOJOC'!N50 -> 0 | D9: ='Pressupost Arrencada VIDEOJOC'!EC50 -> 0 | E9: ='Pressupost Arrencada VIDEOJOC'!N50 - 'Pressupost Arrencada VIDEOJOC'!EC50 -> 0 | F9: ='Pressupost Producció VIDEOJOC'!N50 -> 0 | G9: ='Pressupost Producció VIDEOJOC'!EC50 -> 0 | H9: ='Pressupost Producció VIDEOJOC'!N50 -'Pressupost Producció VIDEOJOC'!EC50 -> 0
A10: ='Pressupost Producció VIDEOJOC'!C52&REPT(".",120-LEN('Pressupost Producció VIDEOJOC'!C52)) -> CAPÍTOL 04.-Video, Àudio i Doblatge..................................................................................... | C10: ='Pressupost Arrencada VIDEOJOC'!N82 -> 0 | D10: ='Pressupost Arrencada VIDEOJOC'!EC82 -> 0 | E10: ='Pressupost Arrencada VIDEOJOC'!N82 - 'Pressupost Arrencada VIDEOJOC'!EC82 -> 0 | F10: ='Pressupost Producció VIDEOJOC'!N82 -> 0 | G10: ='Pressupost Producció VIDEOJOC'!EC82 -> 0 | H10: ='Pressupost Producció VIDEOJOC'!N82-'Pressupost Producció VIDEOJOC'!EC82 -> 0
A11: ='Pressupost Producció VIDEOJOC'!C84&REPT(".",120-LEN('Pressupost Producció VIDEOJOC'!C84)) -> CAPÍTOL 05.-Porting..................................................................................................... | C11: ='Pressupost Arrencada VIDEOJOC'!N92 -> 0 | D11: ='Pressupost Arrencada VIDEOJOC'!EC92 -> 0 | E11: ='Pressupost Arrencada VIDEOJOC'!N92 - 'Pressupost Arrencada VIDEOJOC'!EC92 -> 0 | F11: ='Pressupost Producció VIDEOJOC'!N92 -> 0 | G11: ='Pressupost Producció VIDEOJOC'!EC92 -> 0 | H11: ='Pressupost Producció VIDEOJOC'!N92-'Pressupost Producció VIDEOJOC'!EC92 -> 0
A12: ='Pressupost Producció VIDEOJOC'!C94&REPT(".",120-LEN('Pressupost Producció VIDEOJOC'!C94)) -> CAPÍTOL 06.- Q&A/testing................................................................................................ | C12: ='Pressupost Arrencada VIDEOJOC'!N101 -> 0 | D12: ='Pressupost Arrencada VIDEOJOC'!EC101 -> 0 | E12: ='Pressupost Arrencada VIDEOJOC'!N101 - 'Pressupost Arrencada VIDEOJOC'!EC101 -> 0 | F12: ='Pressupost Producció VIDEOJOC'!N101 -> 0 | G12: ='Pressupost Producció VIDEOJOC'!EC101 -> 0 | H12: ='Pressupost Producció VIDEOJOC'!N101-'Pressupost Producció VIDEOJOC'!EC101 -> 0
A13: ='Pressupost Producció VIDEOJOC'!C103&REPT(".",120-LEN('Pressupost Producció VIDEOJOC'!C103)) -> CAPÍTOL 07.- Backoffice................................................................................................. | C13: ='Pressupost Arrencada VIDEOJOC'!N111 -> 0 | D13: ='Pressupost Arrencada VIDEOJOC'!EC111 -> 0 | E13: ='Pressupost Arrencada VIDEOJOC'!N111 - 'Pressupost Arrencada VIDEOJOC'!EC111 -> 0 | F13: ='Pressupost Producció VIDEOJOC'!N111 -> 0 | G13: ='Pressupost Producció VIDEOJOC'!EC111 -> 0 | H13: ='Pressupost Producció VIDEOJOC'!N111- 'Pressupost Producció VIDEOJOC'!EC111 -> 0
A14: ='Pressupost Producció VIDEOJOC'!C113&REPT(".",120-LEN('Pressupost Producció VIDEOJOC'!C113)) -> CAPÍTOL 08.- Publishing................................................................................................. | C14: ='Pressupost Arrencada VIDEOJOC'!N120 -> 0 | D14: ='Pressupost Arrencada VIDEOJOC'!EC120 -> 0 | E14: ='Pressupost Arrencada VIDEOJOC'!N1120 - 'Pressupost Arrencada VIDEOJOC'!EC120 -> 0 | F14: ='Pressupost Producció VIDEOJOC'!N120 -> 0 | G14: ='Pressupost Producció VIDEOJOC'!EC120 -> 0 | H14: ='Pressupost Producció VIDEOJOC'!N120 - 'Pressupost Producció VIDEOJOC'!EC120 -> 0
A15: ='Pressupost Producció VIDEOJOC'!C122&REPT(".",120-LEN('Pressupost Producció VIDEOJOC'!C122)) -> CAPÍTOL 09.- Manteniment................................................................................................ | C15: ='Pressupost Arrencada VIDEOJOC'!N129 -> 0 | D15: ='Pressupost Arrencada VIDEOJOC'!EC129 -> 0 | E15: ='Pressupost Arrencada VIDEOJOC'!N129 - 'Pressupost Arrencada VIDEOJOC'!EC129 -> 0 | F15: ='Pressupost Producció VIDEOJOC'!N129 -> 0 | G15: ='Pressupost Producció VIDEOJOC'!EC129 -> 0 | H15: ='Pressupost Producció VIDEOJOC'!N129- 'Pressupost Producció VIDEOJOC'!EC129 -> 0
A16: ='Pressupost Producció VIDEOJOC'!C132&REPT(".",120-LEN('Pressupost Producció VIDEOJOC'!C132)) -> CAPÍTOL 10.- Equip (Personal)........................................................................................... | C16: ='Pressupost Arrencada VIDEOJOC'!N156 -> 0 | D16: ='Pressupost Arrencada VIDEOJOC'!EC156 -> 0 | E16: ='Pressupost Arrencada VIDEOJOC'!N156 - 'Pressupost Arrencada VIDEOJOC'!EC156 -> 0 | F16: ='Pressupost Producció VIDEOJOC'!N156 -> 0 | G16: ='Pressupost Producció VIDEOJOC'!EC156 -> 0 | H16: ='Pressupost Producció VIDEOJOC'!N156-'Pressupost Producció VIDEOJOC'!EC156 -> 0
A17: ='Pressupost Producció VIDEOJOC'!C159&REPT(".",120-LEN('Pressupost Producció VIDEOJOC'!C159)) -> CAPÍTOL 11.- Assegurances............................................................................................... | C17: ='Pressupost Arrencada VIDEOJOC'!N166 -> 0 | D17: ='Pressupost Arrencada VIDEOJOC'!EC166 -> 0 | E17: ='Pressupost Arrencada VIDEOJOC'!N166 - 'Pressupost Arrencada VIDEOJOC'!EC166 -> 0 | F17: ='Pressupost Producció VIDEOJOC'!N166 -> 0 | G17: ='Pressupost Producció VIDEOJOC'!EC166 -> 0 | H17: ='Pressupost Producció VIDEOJOC'!N166-'Pressupost Producció VIDEOJOC'!EC166 -> 0
A18: ='Pressupost Producció VIDEOJOC'!C168&REPT(".",120-LEN('Pressupost Producció VIDEOJOC'!C168)) -> CAPÍTOL 12.- Despeses generals.......................................................................................... | C18: ='Pressupost Arrencada VIDEOJOC'!N187 -> 0 | D18: ='Pressupost Arrencada VIDEOJOC'!EC187 -> 0 | E18: ='Pressupost Arrencada VIDEOJOC'!N187 - 'Pressupost Arrencada VIDEOJOC'!EC187 -> 0 | F18: ='Pressupost Producció VIDEOJOC'!N187 -> 0 | G18: ='Pressupost Producció VIDEOJOC'!EC187 -> 0 | H18: ='Pressupost Producció VIDEOJOC'!N187-'Pressupost Producció VIDEOJOC'!EC187 -> 0
A19: ='Pressupost Producció VIDEOJOC'!C190&REPT(".",120-LEN('Pressupost Producció VIDEOJOC'!C190)) -> CAPÍTOL 13.- Altres necessitats projecte................................................................................ | C19: ='Pressupost Arrencada VIDEOJOC'!N196 -> 0 | D19: ='Pressupost Arrencada VIDEOJOC'!EC196 -> 0 | E19: ='Pressupost Arrencada VIDEOJOC'!N196 - 'Pressupost Arrencada VIDEOJOC'!EC196 -> 0 | F19: ='Pressupost Producció VIDEOJOC'!N196 -> 0 | G19: ='Pressupost Producció VIDEOJOC'!EC196 -> 0 | H19: ='Pressupost Producció VIDEOJOC'!N196-'Pressupost Producció VIDEOJOC'!EC196 -> 0
B21: Total | C21: ='Pressupost Arrencada VIDEOJOC'!N202 -> 0 | D21: ='Pressupost Arrencada VIDEOJOC'!EC202 -> 0 | E21: =('Pressupost Arrencada VIDEOJOC'!N202-'Pressupost Arrencada VIDEOJOC'!EC202) -> 0 | F21: ='Pressupost Producció VIDEOJOC'!N202 -> 0 | G21: ='Pressupost Producció VIDEOJOC'!EC202 -> 0 | H21: =('Pressupost Producció VIDEOJOC'!N202-'Pressupost Producció VIDEOJOC'!EC202) -> 0
